Workbook
Name OLE_LINK1: 'method & risk tick list'!$B$6

Sheet CDM File Cover Page
B1: H&S Cover Sheet Information
A2: Site | B2: Wellington Way Shopping Centre
A3: Site Forman
A4: Site Forman Mobile
A5: Date | B5: 45299
A6: Client | B6: Questmap
A7: Address | B7: Drivers Wharf Business Park
B8: Southampton
B9: SO14 0PF
A10: By | B10: Leigh Seymour
A13: Managing Director | B13: Leigh Seymour
A14: Managing Director Mobile | B14: 07867303134
A16: Location of nearest Hospital | B16: Queen Alexandra Hospital
B17: Southwick Hill Road
B18: Portsmouth
B19: PO6 3LY
A21: Hospital Telephone | B21: 02392 286000 (dial 999 in an emergency)
A23: Police Station | B23: Hampshire & Isle of Wight Constabulary
B24: Waterlooville South
B25: Swiss Road, Waterlooville
B26: PO7 7FX
A27: Tele | B27: dial 999 in an emergency dial 101 if non urgent
A30: Fire Brigade | B30: Waterlooville Fire Station: 19
B31: Forest End
B32: Waterlooville, PO7 7PS
A33: Telephone Number | B33: 023 80644000 (Headquarters)
B34: Dial 999 in an emergency

Sheet Contents Page
A6: Site | B6: ='CDM File Cover Page'!$B$2 -> Wellington Way Shopping Centre
A8: Index
A10: 1 Company Policy/Statement
A11: 2 Construction phase health and safety plan
A12: 3 Project directory
A13: 4 Site Rules
A14: 5 Site Emergency plan
A15: 6 Drawings
A16: 7 Programme of works
A17: 8 Site Method Statements & Risk Assessments Tick list
A18: 9 Method Statements
A19: 10 Risk Assessments
A20: 11 COSSHH Assessments
... A35: 26 Plant Off Hired
A37: Recived by: | B37: ....................................................................
A38: Print name: | B38: .....................................................................
A39: On Behalf of: | B39: .....................................................................
A40: Date: | B40: .....................................................................

Sheet Policy statement
A8: Health & Safety Policy
A10: Our primary concern is for the safety of our employees, contractors, clients and the general public. It is our policy to ensure we safeguard the health and welfare of all our employees at work and to provide an environment that is safe and with out risk to health.
A13: We will endeavour to create the safest working environment that is practicable as we understand that without the confidence of our employees and clients we would have no business.
A16: We are commited at all levels of our business to ensure that continous improvements are made to reduce the risk of accidents by constantly auditing our practices to ensure that every project is carried out to the highest standards.
A20: Quality Statement
A21: Highfield Construction has a commitment to continual quality and standards improvement for our products and services and is a trusted and proven supplier to the retail sector.
A24: Customer satisfaction is of critical importance to our continued success, our processes, products and on site procedures are regularly audited to continuously monitor and improve in order to exceed these high standards that are already in place. We understand the demands of the retailers needs and take great pride in being a strong link in producing a quality product, delivered on time, and at the right cost.
A31: Environmental Policy
A32: We understand that the type of work we do and the materials we use has an impact upon the environment and society that we share. We aim to minimise the impact by continued development and research into new materials and methods of working. Our commitment extends to minimising the amount of waste and only using approved Environment Agency approved contractors, and where possible we will use suppliers that extend to replenishing resources for future generations.

Sheet Construction Phase 
A5: Construction Phase Health & Saftey Plan
A7: Client
A8: Site | B8: ='CDM File Cover Page'!$B$2 -> Wellington Way Shopping Centre
A11: 1 | B11: Project Directory
A12: 2 | B12: Description of Works
A13: 3 | B13: General Statement
A14: 4 | B14: Site Location Description
A15: 5 | B15: Project Management Structure
A16: 6 | B16: Health and Safety Standards
A17: 7 | B17: Information for Contractors
A18: 8 | B18: Communication and Co-operation
A19: 9 | B19: Activities with Risks to Health and Safety
A20: 10 | B20: Emergency Procedures
A21: 11 | B21: Welfare
A22: 12 | B22: Information for People on Site
... A25: 15 | B25: Health and Safety File

Sheet CP Project Directory 
A5: Project Directory
A7: CLIENT | B7: ='CDM File Cover Page'!B2 -> Wellington Way Shopping Centre
A8: Questmap | B8: Contact: | C8: Peter Harding
B9: Tel: | C9: 023 8038 2800
B10: Fax:
B11: Email:
A13: PRINCIPAL CONTRACTOR
A14: Highfield Construction | B14: Contact: | C14: Leigh Seymour
B15: Tel: | C15: 07867303134
B16: Fax:
B17: Mobile:
B18: Email:
B19: Site Manager:
B20: Mobile:
A21: PROJECT MANAGEMENT & QUANTITY SURVEYORS
B22: Contact:
B23: Tel:
B24: Fax:
B25: Mobile:
B26: Email:
B27: Site Manager:
B28: Mobile:
A29: CDM CO-ORDINATOR
A30: N/A | B30: Contact:
B31: Tel:
B32: Fax:
B33: Mobile:
B34: Email:
B35: Site Manager:
B36: Mobile:
A38: DESIGNER
A39: RS Studio | B39: Contact:
B40: Tel: | C40: 02382 542011
B41: Fax:
B42: Mobile:
B43: Email: | C43: info@rs-studio.co.uk
B44: Site Manager:
B45: Mobile:
A46: HEALTH & SAFETY EXECUTIVE
B47: Contact:
B48: Tel:
B49: Fax:
B50: Mobile:
B51: Email:
A52: SIGNAGE
A53: TBC | B53: Contact:
B54: Tel:
B55: Fax:
B56: Mobile:
B57: Email:
A59: PLUMBING
A60: TBC | B60: Contact:
B61: Tel:
B62: Fax:
B63: Mobile:
B64: Email:
A65: ELECTRICAL
A66: TBC | B66: Contact:
B67: Tel:
B68: Fax:
B69: Mobile:
B70: Email:
A71: AIR CONDITIONING & DUCTING
B72: Contact:
A73: TBC | B73: Tel:
B74: Fax:
B75: Mobile:
B76: Email:
A78: Tenant Liaison Manager
A79: TBC | B79: Contact:
B80: Tel:
B81: Fax:
B82: Mobile:
B83: Email:

Sheet CP Description of works
A5: Construction Phase Health & Saftey Plan
B6: ='CDM File Cover Page'!$B$2 -> Wellington Way Shopping Centre
B7: Description of Works
B10: Demolition of first floor. Extension and reconfiguration to provide flats.
A12: * | B12: Demolition of first floor
A13: * | B13: Construction of timber frame walls
A14: * | B14: Installation of truss roof
A15: * | B15: Weathering of walls and roof
A16: * | B16: Thermal Insulation
A17: * | B17: New Doors and Windows
A18: * | B18: First Fix Electrics
A19: * | B19: First Fix Plumbing
A20: * | B20: Stairs and Access
A21: * | B21: Internal Plaster Board and Skim
A22: * | B22: Carpentry
A23: * | B23: Second Fix Electrics
... A27: * | B27: External Works
B29: The project consists of the redevelopment of existing shops,
B30: the works will be undertaken as programmed
B31: over 547 days.
B32: The project uses traditional construction materials.
B33: Programme:
B34: Works begin – March 1st 2024
B35: Duration – 18 months Provisional
B36: Handover date is September 1st 2025

Sheet Cp General Statement
A5: Construction Phase Health & Saftey Plan
A7: 3 General Statements

Sheet CP Site Location Descriptions
A5: Construction Phase Health & Saftey Plan
A7: 4 Site/Location Descriptions
A9: Wellington Way Shopping Centre
A10: Waterlooville
A11: PO7 7EB
A31: All deliveries to be booked in Via Leigh Seymour

Sheet CP 5 management structure
A5: Construction Phase Health & Saftey Plan
B6: Project Manager: | E6: Leigh Seymour
B7: Site Foreman: | E7: Leigh Seymour
B8: First Aider: | E8: Leigh Seymour
A10: Roles and Responsibilities
A12: Project Manager | B12: Leigh Seymour
A14: Operations Manager: | B14: Leigh Seymour
A15: Mobile Number: | B15: 07867303134
A17: Be satisfied with the competence of all persons and companies to undertake works on the project.
A18: To provide adequate resource to ensure the project can be delivered safely within programme.
A19: To ensure that the Construction Phase H & S Plan is sufficiently developed to allow the commencement of works by the CDM Coodinator.
A20: To put in place a site safety strategy including adequate Site Rules, Fire Plans, PPE, Permits to Work and other items as required.
A22: Site Manager
A24: Site Agent/Foreman: | B24: Leigh Seymour
A25: Mobile Number: | B25: 7867303134
A26: To co-ordinate, monitor and ensure that all works are carried out in a safe manner.
A27: To ensure that method statements and risk assessments are in place and adequate for all operations.
A28: To enforce the Site Rules in place and ensure that all persons before entering site undergo the Site Specific Induction.
A29: To liaise with the Project Manager and other applicable parties on programme,
A30: safety and all other issues to maintain communication throughout the works.
A32: Operatives
A33: To fully co-operate and comply with all Rules/Procedures/Legislation to ensure a safe controlled work environment

Sheet CP6 H&S 
A5: Construction Phase Health & Saftey Plan
A7: 6 Health & Safety Standards

Sheet CP 7,8,9
A5: Construction Phase Health & Saftey Plan

Sheet CP 10 emegency procedure
A5: Construction Phase Health & Saftey Plan
A7: 10 Emergency Procedures
A24: Queen Alexandra Hospital | F24: Always Dial 999 in an emergency
A25: Southwick Hill Road
A26: Portsmouth
A27: PO6 3LY
A29: 02392 286000 (dial 999 in an emergency)
A30: Please see the enclosed map on a separate page.

Sheet CP 11,12,13
A5: Construction Phase Health & Saftey Plan

Sheet CP 14 , 15
A4: Construction Phase Health & Saftey Plan

Sheet Project Directory
A5: Project Directory
A7: CLIENT | B7: The Fragrance Shop
A8: Questmap | B8: Contact: | C8: Peter Harding
B9: Tel: | C9: 023 8038 2800
B10: Fax:
B11: Email:
A14: PRINCIPAL CONTRACTOR
A15: Highfield Construction | B15: Contact: | C15: Leigh Seymour
B16: Tel: | C16: 07867303134
B17: Fax:
B18: Mobile:
B19: Email:
B20: Site Manager:
B21: Mobile:
A22: PROJECT MANAGEMENT
B23: Contact:
B24: Tel:
B25: Fax:
B26: Mobile:
B27: Email:
B28: Site Manager:
B29: Mobile:
A30: CDM CO-ORDINATOR
B31: Contact:
B32: Tel:
B33: Fax:
B34: Mobile:
B35: Email:
B36: Site Manager:
B37: Mobile:
A39: DESIGNER
A40: RS Studio | B40: Contact:
B41: Tel: | C41: 02382 542011
B42: Fax:
B43: Mobile:
B44: Email: | C44: info@rs-studio.co.uk
B45: Site Manager:
B46: Mobile:
A47: Architect
A48: RS Studio | B48: Contact:
B49: Tel: | C49: 02382 542011
B50: Fax:
B51: Mobile:
B52: Email: | C52: info@rs-studio.co.uk
A53: SIGNAGE & FLOORING
A54: TBC | B54: Contact:
B55: Tel:
B56: Fax:
B57: Mobile:
B58: Email:
A60: ELECTRICAL
A61: TBC | B61: Contact:
B62: Tel:
B63: Fax:
B64: Mobile:
B65: Email:
A66: AIR CONDITIONING
A67: TBC | B67: Contact:
B68: Tel:
B69: Fax:
B70: Mobile:
B71: Email:
A73: Acoustic consultant
B74: Contact: | C74: Shaun De La Rue
B75: Tel:
B76: Fax:
B77: Mobile:
B78: Email:
A80: Structural engineer
A81: Hamill Davies | B81: Contact: | C81: Brian Hamill
A82: Ivydaledale Lower Chase Road | B82: Tel: | C82: 01489 893596
A83: Southampton | B83: Fax:
A84: SO32 2PB | B84: Mobile:
B85: Email:
A86: Building Control
A87: MC Plan and Site Services | B87: Contact:
A88: Unit J3 | B88: Tel: | C88: 01202 744966
A89: The Fulcrum | B89: Fax:
A90: Vanatge Way, Poole | B90: Mobile:
A91: BH12 4NU | B91: Email:

Sheet Rules
A5: SITE RULES
A7: 1 | B7: All Personnel must undergo a site induction
A8: 2 | B8: Strictly No Smoking.
A9: 3 | B9: Always wear safety boots/or shoes, hard hats and other safety equipment as required
A10: 4 | B10: Do not operate any plant or equipment unless you are trained and authorised
A11: 5 | B11: Only competent persons, who are authorised to do so, may erect alter or dismantle scaffolding, false work or excavation support.
A12: 6 | B12: Keep your working area clean, tidy and free from tripping hazards, placing any waste in the skips/bins provided.
A13: 7 | B13: Do not work at any edge from which you could fall more than 2 metres, unless edge protection or fall arrest equipment is in place.
A14: 8 | B14: Make sure you have sight of the COSHH assessment for any hazardous substances you may come into contact with.
A15: 9 | B15: Report any defect or unsafe practices to your foreman/site manager.
A16: 10 | B16: Report any accidents or near misses to the site manager and ensure they are logged
A17: 11 | B17: Co-operate with your employer and the safety requirements of the principal contractor.
A18: 12 | B18: Request to see the method statement and risk assessments for any activity you are required to undertake.
... A30: 24 | B30: No Radios on Site
B31: FAILURE TO COMPLY WILL LEAD TO REMOVAL FROM SITE AND YOUR EMPLOYER INFORMED

Sheet method & risk tick list
C3: SITE METHOD STATEMENTS &
C4: RISK ASSESSEMENTS TICK LIST
A6: Site | B6: ='CDM File Cover Page'!B2 -> Wellington Way Shopping Centre
A8: Company Name | B8: Trade, Activity or hazzard | C8: M/S & R/A required on site | E8: Date Due | F8: Date Received
C9: YES | D9: NO
A10: Highfield Construction | B10: Stud walls | C10: P | E10: 45352
A11: Highfield Construction | B11: Waste removal | C11: P | E11: 45352
A12: Highfield Construction | B12: Opening Works | C12: P | E12: 45352
A13: Highfield Construction | B13: Joinery works | C13: P | E13: 45352
A14: Highfield Construction | B14: Decoration | C14: P | E14: 45352
A15: Highfield Construction | B15: Electrical Works | C15: P | E15: 45352

Sheet Wall opening method
A6: METHOD STATEMENT
A9: Company Name: | D9: Highfield Construction | H9: Date: | J9: ='CDM File Cover Page'!$B$5 -> 45299
A11: Site:
A15: Prepared By: | D15: ='CDM File Cover Page'!B10 -> Leigh Seymour
A17: Works to be completed: Wall openings
A19: 1 | B19: Survey holes for bulkhead works
A20: 2 | B20: Cut walls /Floors with masonry hand tools power drills
A21: 3 | B21: Remove fittings from walls, keep tidy
A22: 4 | B22: Ensure all waste is bagged
A23: 5 | B23: Use scaffolding to access high areas
A25: Subcontractor undertaking the work
A26: Name | D26: Role
A28: Site Operatives | D28: Joiners & Labourers
A32: Plant or equipment used
A33: Plant/Equipment | D33: Trained Operatives
A34: SDS Hammer drill, Masonry Saw, Cordless Drill/Driver/Sledge Hammer
D35: Joiners & Labourers
A39: What PPE should be worn?
A40: PPE | D40: Activity
A41: Hard Hats | D41: Cutting materials
A42: Safety Footwear | D42: Manual handling
A43: Hi-Vis Vests
A44: Eye Protection
A47: Are work permits or other requirements required?
A48: Requirement | D48: Detail
A50: Hot work permit | D50: Required prior to commencement of any works that may
D51: produce heat or sparks
A54: Protection of the public
A55: Activity | D55: Detail
A57: Contractors and | D57: PPE to be worn at all times as per site rules
A58: Visitors to site | D58: visitors to sign in/ brief H&S induction
A61: Site Specific Rules
A62: Site Rule | D62: Detail
D64: Refer to Health & Safety File - Section 9 - Site Rules
A68: Area/Other people affected
A69: Area or people | D69: Location
A75: Systems or procedures eg Security and Alarm System
A76: System affected | D76: Detail
A82: Copy of method statement
A83: Name | D83: Notes
A85: Site File
A86: Highfield Construction
A87: Client

Sheet Decorations Method
A6: METHOD STATEMENT
A9: Company Name: | D9: Highfield Construction | H9: Date: | J9: ='CDM File Cover Page'!$B$5 -> 45299
A11: Client: | D11: ='CDM File Cover Page'!B6 -> Questmap
A13: Site:
A15: Prepared By: | D15: ='CDM File Cover Page'!B10 -> Leigh Seymour
A17: Works to be completed: Decorations
A19: 1 | B19: Emulsion of walls & Ceilings
A20: a | B20: apply base coat to required area and allow to dry,all as manufacturers instructions
A21: b | B21: apply filler to any inperfections in wall, level off, and allow to harden
A22: c | B22: sand off excess filler, ready to receive further coat
A23: d | B23: Apply further coat to required area
A24: e | B24: repeat b,c & d until satisfactory result (usually a further 2 coats)
A26: 2 | B26: Undercoat and Gloss of all Woodwork / Metal work
A27: a | B27: Sand required area with abrasive paper
A28: b | B28: apply base undercoat to required area and allow to dry, all as per manufactures instructions
A29: c | B29: lightly sand area with abrasive paper and apply gloss - allow to dry
A30: d | B30: repeat c until satisfactory result (usually a further 2 coats)
A33: Subcontractor undertaking the work
A34: Name | D34: Role
A36: Site Operatives | D36: Decorators
A40: Plant or equipment used
A41: Plant/Equipment | D41: Trained Operatives
A42: Paint Brushes, paints, thinners and cleaners
D43: Decorators
A47: What PPE should be worn?
A48: PPE | D48: Activity
A49: Hard Hats | D49: Cutting materials
A50: Safety Footwear | D50: Manual handling
A51: Dust Masks
A52: Hi-Vis Vests
A53: Eye Protection
A55: Are work permits or other requirements required?
A56: Requirement | D56: Detail
A61: Protection of the public
A62: Activity | D62: Detail
A64: Contractors and | D64: PPE to be worn at all times as per site rules
A65: Visitors to site
A68: Site Specific Rules
A69: Site Rule | D69: Detail
D71: Refer to Health & Safety File - Section 9 - Site Rules
A75: Area/Other people affected
A76: Area or people | D76: Location
A82: Systems or procedures eg Security and Alarm System
A83: System affected | D83: Detail
A89: Copy of method statement
A90: Name | D90: Notes
A92: Site File
A93: Highfield Construction
A94: Client

Sheet Removal of waste method 
A6: METHOD STATEMENT
A9: Company Name: | D9: Highfield Construction | H9: Date: | J9: ='CDM File Cover Page'!$B$5 -> 45299
A11: Site:
A15: Prepared By: | D15: ='CDM File Cover Page'!B10 -> Leigh Seymour
A17: Works to be completed: Removal of waste material
A19: 1 | B19: All operatives undertaking the removal of waste are to report to the site manager for induction and toolbox talk.
A20: 2 | B20: All materials will be carefully removed from the site and disposed of at a licenced tip.
A21: 3 | B21: The storage of materials in the skip/bins will be in such a manner as to reduce any risk of injury to site personnel
A22: 4 | B22: All waste specific to each task will be cleared from the working area upon completion
A23: 5 | B23: The removal of equipment containing hazardous substances (CFC’s etc) will be undertaken by approved agencies in accordance with the specific Risk and Method Statement provided by the relevant contractor
A24: 6 | B24: All fixings through redundant or removed materials, such as screws and nails etc, will have these removed or flattened prior to handling.
A25: 7 | B25: All operatives will wear the appropriate PPE (hardhat, protective footwear, high vis vests, gloves. Dust masks if required
A26: 8 | B26: All waste will be removed from the site when any storage facility is full.
A27: 9 | B27: Exit routes are to be maintained at all times.
A28: 10 | B28: Any loose or lightweight debris within the skip/bins will be covered or tied down to avoid wind disturbance
A29: 11 | B29: Under no circumstances are any hazardous waste liquids to be poured away through gulleys or drains. Any waste liquids are to be contained and removed from site by an approved contractor or as described in the relevant contractors specific Risk and Method Statement.
A30: 12 | B30: Any hazardous waste that cannot be removed from site at the end of a shift is to be placed in a secure locked container within the shop store area. Shop staff are to be informed at handover
A32: Subcontractor undertaking the work
A33: Name | D33: Role
A35: Site Operatives | D35: Joiners & Labourers
A39: Plant or equipment used
A40: Plant/Equipment | D40: Trained Operatives
A42: Skips etc | D42: Joiners & Labourers
A46: What PPE should be worn?
A47: PPE | D47: Activity
A48: Hard Hats | D48: Removal of waste materials
A49: Safety Footwear
A50: Gloves
A51: Hi-Vis Vests
A52: Eye Protection
A54: Are work permits or other requirements required?
A55: Requirement | D55: Detail
A61: Protection of the public
A62: Activity | D62: Detail
A64: Contractors and | D64: PPE to be worn at all times as per site rules
A65: Visitors to site
A68: Site Specific Rules
A69: Site Rule | D69: Detail
D71: Refer to Health & Safety File - Section 9 - Site Rules
A75: Area/Other people affected
A76: Area or people | D76: Location
A82: Systems or procedures eg Security and Alarm System
A83: System affected | D83: Detail
A89: Copy of method statement
A90: Name | D90: Notes
A92: Site File
A93: Highfield Construction
A94: Client

Sheet Installation joinery method
A6: METHOD STATEMENT
A9: Company Name: | D9: Highfield Construction | H9: Date: | J9: ='CDM File Cover Page'!$B$5 -> 45299
A11: Site:
A15: Prepared By: | D15: ='CDM File Cover Page'!B10 -> Leigh Seymour
A17: Works to be completed: Installation of joinery works
B18: Set out following items as floor plan
A19: 1 | B19: Install Doors and Frames
A20: 2 | B20: Fix skirting & Architrive
A21: 3 | B21: Stud partitions
A22: 4 | B22: Kitchen Units
A23: 5 | B23: Cills and thresholds
A24: 6
A25: 7
A27: Subcontractor undertaking the work
A28: Name | D28: Role
A30: Site Operatives | D30: Joiners & Labourers
A34: Plant or equipment used
A35: Plant/Equipment | D35: Trained Operatives
A36: SDS Hammer drill, Jig Saw, Chop Saws, Router, Cordless Drill/Driver
D37: Joiners & Labourers
A41: What PPE should be worn?
A42: PPE | D42: Activity
A43: Hard Hats | D43: Working at height
A44: Safety Footwear | D44: Cutting materials
A45: Hi-Vis Vests | D45: Manual handling
A46: Eye Protection
A48: Are work permits or other requirements required?
A49: Requirement | D49: Detail
A51: Hot work permit | D51: Required prior to commencement of any works that may
D52: produce heat or sparks
A55: Protection of the public
A56: Activity | D56: Detail
A58: Contractors and | D58: PPE to be worn at all times as per site rules
A59: Visitors to site
A62: Site Specific Rules
A63: Site Rule | D63: Detail
D65: Refer to Health & Safety File - Section 9 - Site Rules
A69: Area/Other people affected
A70: Area or people | D70: Location
A76: Systems or procedures eg Security and Alarm System
A77: System affected | D77: Detail
A83: Copy of method statement
A84: Name | D84: Notes
A86: Site File
A87: Highfield Construction
A88: Client

Sheet Installation stud method
A6: METHOD STATEMENT
A9: Company Name: | D9: Highfield Construction | H9: Date: | J9: ='CDM File Cover Page'!B5 -> 45299
A11: Site: | D11: ='CDM File Cover Page'!B2 -> Wellington Way Shopping Centre
A15: Prepared By: | D15: ='CDM File Cover Page'!B10 -> Leigh Seymour
A17: Works to be completed: Installation of stud walling
A19: 1 | B19: Set out walls as floor plan
A20: 2 | B20: Fix sole plate as setting out
A21: 3 | B21: Plumb and fix studs & fix top rail
A22: 4 | B22: Cut wall panels using saw with dust extraction
A23: 5 | B23: Lift cut boards to correct position, fix one elevation only to allow access for M&E etc. Scaffolding to be used to access high level fixings.
A24: 6 | B24: Fix doors and frame as schedule through metal partition to back of frame - no visible fixings.
A25: 7 | B25: Fit 2nd elevation panels (where necessary) once all M&E, electrical works connected
A26: 8 | B26: Cut and fix cover trims to wall panel joints as required
A27: 9 | B27: Tape and fill any plasterboard joints ready for decoration
A28: 10 | B28: All waste materials to be placed in skip/bins provided
A30: Subcontractor undertaking the work
A31: Name | D31: Role
A33: Site Operatives | D33: Joiners & Labourers
A36: Plant or equipment used
A37: Plant/Equipment | D37: Trained Operatives
A38: SDS Hammer drill, Jig Saw, Chop Saws, Router, Cordless Drill/Driver
D39: Joiners & Labourers
A43: What PPE should be worn?
A44: PPE | D44: Activity
A45: Hard Hats | D45: Working at height
A46: Safety Footwear | D46: Cutting materials
A47: Hi-Vis Vests | D47: Manual handling
A48: Eye Protection
A50: Are work permits or other requirements required?
A51: Requirement | D51: Detail
A53: Hot work permit | D53: Required prior to commencement of any works that may
D54: produce heat or sparks
A57: Protection of the public
A58: Activity | D58: Detail
A60: Contractors and | D60: PPE to be worn at all times as per site rules
A61: Visitors to site
A64: Site Specific Rules
A65: Site Rule | D65: Detail
D67: Refer to Health & Safety File - Section 9 - Site Rules
A71: Area/Other people affected
A72: Area or people | D72: Location
A78: Systems or procedures eg Security and Alarm System
A79: System affected | D79: Detail
A85: Copy of method statement
A86: Name | D86: Notes
A88: Site File
A89: Highfield Construction
A90: Client

Sheet Strip out method
A6: METHOD STATEMENT
A9: Company Name: | D9: Highfield Construction | H9: Date: | J9: ='CDM File Cover Page'!B5 -> 45299
A11: Site:
A15: Prepared By: | D15: ='CDM File Cover Page'!B10 -> Leigh Seymour
A17: Works to be completed: Strip out works
B18: Works to be completed in accordance with scope of works
A19: 1 | B19: Dismantle walls (partitions and Blockwork) as floor plan.
A20: 2 | B20: Dismantle ceilings - remove ceiling tiles, internal track sections and wall tracks
A21: 3 | B21: Removal of floor coverings
A22: 4 | B22: Works area to be kept clean and tidy
A23: 5 | B23: Ensuring all waste material are placed in skips/bins provided
A25: Subcontractor undertaking the work
A26: Name | D26: Role
A28: Site Operatives | D28: Joiners & Labourers
A32: Plant or equipment used
A33: Plant/Equipment | D33: Trained Operatives
A34: SDS Hammer drill, Jig Saw, Chop Saws, Cordless Drill/Driver/Sledge Hammer
D35: Joiners & Labourers
A39: What PPE should be worn?
A40: PPE | D40: Activity
A41: Hard Hats | D41: Working at height
A42: Safety Footwear | D42: Cutting materials
A43: Hi-Vis Vests | D43: Manual handling
A44: Eye Protection
A46: Are work permits or other requirements required?
A47: Requirement | D47: Detail
A49: Hot work permit | D49: Required prior to commencement of any works that may
D50: produce heat or sparks
A53: Protection of the public
A54: Activity | D54: Detail
A56: Contractors and | D56: PPE to be worn at all times as per site rules
A57: Visitors to site
A60: Site Specific Rules
A61: Site Rule | D61: Detail
D63: Refer to Health & Safety File - Section 9 - Site Rules
A67: Area/Other people affected
A68: Area or people | D68: Location
A74: Systems or procedures eg Security and Alarm System
A75: System affected | D75: Detail
A81: Copy of method statement
A82: Name | D82: Notes
A84: Site File
A85: Highfield Construction
A86: Client

Sheet Tiling method
A6: METHOD STATEMENT
A9: Company Name: | D9: Highfield Construction | H9: Date: | J9: ='CDM File Cover Page'!B5 -> 45299
A11: Site:
A15: Prepared By: | D15: ='CDM File Cover Page'!B10 -> Leigh Seymour
A17: Works to be completed: Tiling works
B18: Works to be completed in accordance with scope of works & Tiling drawings
A19: 1 | B19: Set out starting point of tiles as per drawing information provided and where possible cordon off the working area from other trades
A20: 2 | B20: apply adhesive to area in Meter squared sections ensuring levels are adhered too
A21: 3 | B21: Lay tiles (as point1) with spacers 2-3mm, gently tapping to ensure tiles are bedded to adhesive
A22: 4 | B22: Any cut tiles should be cut with the appropriate equipment provided and the relevant PPE and laid as point 3
A23: 5 | B23: Allow adhesive time to dry, remove spacers from joint lines
A24: 6 | B24: Grout joint lines with specified grout and rub in
A25: 7 | B25: Clean down tiles with the relevant specified cleaner
A26: 8 | B26: Ensure all waste material are placed in skips/bins provided
A28: Subcontractor undertaking the work
A29: Name | D29: Role
A31: Site Operatives | D31: Tilers & Labourers
A35: Plant or equipment used
A36: Plant/Equipment | D36: Trained Operatives
A37: Tile Cutters, Tile Saws, angle grinder
D38: Tilers & Labourers
A42: What PPE should be worn?
A43: PPE | D43: Activity
A44: Hard Hats | D44: Working at height
A45: Safety Footwear | D45: Cutting materials
A46: Hi-Vis Vests | D46: Manual handling
A47: Eye Protection
A49: Are work permits or other requirements required?
A50: Requirement | D50: Detail
A52: Hot work permit | D52: Required prior to commencement of any works that may
D53: produce heat or sparks
A56: Protection of the public
A57: Activity | D57: Detail
A59: Contractors and | D59: PPE to be worn at all times as per site rules
A60: Visitors to site
A63: Site Specific Rules
A64: Site Rule | D64: Detail
D66: Refer to Health & Safety File - Section 9 - Site Rules
A70: Area/Other people affected
A71: Area or people | D71: Location
A73: other trades | D73: cordon off area where ever possible
A77: Systems or procedures eg Security and Alarm System
A78: System affected | D78: Detail
A84: Copy of method statement
A85: Name | D85: Notes
A87: Site File
A88: Highfield Construction
A89: Client

Sheet Fire Risks
A7: RISK ASSESSMENT
A9: Site Location:- | I9: Date | K9: ='CDM File Cover Page'!B5 -> 45299
A12: Operation
A14: Fire Risks
A18: Hazard
A20: Discarded Cigarette Ends
A21: Poorly Maintained Electrical Equipment and Faulty Sockets/Wiring
A22: Areas Allowed to Gather Dust Debris and Combustable Material
A23: Lack of Staff Training
A24: Faulty Fire Fighting Equipment
A25: No Fire Plan Action
A28: SEVERITY POTENTIAL
A29: 3 | C29: MAJOR | E29: 2 | G29: SERIOUS | I29: 1 | K29: SLIGHT
A31: LIKELIHOOD
A32: 3 | C32: HIGH | E32: 2 | G32: MEDIUM | I32: 1 | K32: LOW
A34: RISK LEVEL = SEVERITY X LIKELIHOOD
D37: 3 | E37: M | F37: H | G37: H
D38: 2 | E38: L | F38: M | G38: H
D39: 1 | E39: L | F39: L | G39: M
E40: 1 | F40: 2 | G40: 3
A42: Controls
A43: Works to be undertaken as per site rules
A44: Appropriate PPE for task to be used
A45: No Smoking Policy in Operation Through out the Building
A46: All Equipment Checked on a Regularly & and Any Faulty Items are Taken out of Service and Repaired
A47: Any Faulty Electrical Sockets/Wiring are Immediately Isolated, & a Qualified Electricain is Called
A48: The Building is Regulary Cleaned to Avoid Build up of Dust and Debris
A49: All Combustable Material is Removed from the building
A50: Staff Have Been Given Full Training of Their Required Action in Event of a Fire
A51: Fire Fighting Equipment is Serviced on a Annually Basis
A52: Fire Plan of Action Has Been Made Aware to All Staff
A55: Monitored by: | D55: All

Sheet Hot work risk
A6: RISK ASSESSMENT
A8: Site Location:- | I8: Date | K8: ='CDM File Cover Page'!B5 -> 45299
A11: Operation
A13: Hot Works
A16: Hazard
A18: Power Tools | G18: Electric Shock
A19: Manual Handling | G19: Moving Machinery Parts
A20: Hand Tools | G20: Sharp Objects
A21: Fire
A23: SEVERITY POTENTIAL
A24: 3 | C24: MAJOR | E24: 2 | G24: SERIOUS | I24: 1 | K24: SLIGHT
A26: LIKELIHOOD
A27: 3 | C27: HIGH | E27: 2 | G27: MEDIUM | I27: 1 | K27: LOW
A29: RISK LEVEL = SEVERITY X LIKELIHOOD
D31: 3 | E31: M | F31: H | G31: H
D32: 2 | E32: L | F32: M | G32: H
D33: 1 | E33: L | F33: L | G33: M
E34: 1 | F34: 2 | G34: 3
A36: Controls
A37: 1 | B37: At least 2 suitable portable fire extinguishers will be available for immediate use
B38: within the area of hot work operations and all person involved and undertaking fire watch
B39: duties to be trained in their use. Any automatic fire detection systems should be isolated
B40: only in the area where works are undertaken and only for the period of the work.
A42: 2 | B42: Combustible materials and flammable liquids should be removed from an area within
B43: 10 metres of the hot work adjacent areas which may be in danger of ignition either
B44: directly or from conducted heat
A46: 3 | B46: If there are any combustible material that cannot be removed, any holes, gaps in walls,
B47: floors or ceilings where sparks could pass through they should be covered in
B48: incombustible material.
A50: 4 | B50: Floors of combustible material in the designated area should be covered with sheets
B51: of incombustible protective material or wetted and covered with sand
A53: 5 | B53: Where work is carried out on building panels, an assessment should be made on
B54: insulating or other materials behind or forming the core of the panels.
A56: 6 | B56: Allow adequate ventilation
A58: 7 | B58: Identify any gas or other services adjacent to or below the area of hot work and isolate
B59: and protect them.
A61: 8 | B61: All persons carrying out the hot work and undertaking the fire watch should know how to
B62: raise the fire alarm and be aware of any emergency procedures
A64: 9 | B64: Confirm all other contractors/operators on site are aware that hot work is being undertaken
B65: and that there is no application of paints or flammable solvent based substances
A67: 10 | B67: A 1 hour fire watch to be maintained after all works are completed
A69: Monitored by: | D69: ALL

Sheet Materials Risk
A6: RISK ASSESSMENT
A8: Site | K8: ='CDM File Cover Page'!B5 -> 45299
A11: Operation
A13: Material cutting & finishing/fixing
A16: Hazard
A17: Power Tools
A18: Slips, Trips and Falls
A19: Manual Handling
A20: Hand Tools
A21: Fire
A23: SEVERITY POTENTIAL
A24: 3 | C24: MAJOR | E24: 2 | G24: SERIOUS | I24: 1 | K24: SLIGHT
A26: LIKELIHOOD
A27: 3 | C27: HIGH | E27: 2 | G27: MEDIUM | I27: 1 | K27: LOW
A29: RISK LEVEL = SEVERITY X LIKELIHOOD
D31: 3 | E31: M | F31: H | G31: H
D32: 2 | E32: L | F32: M | G32: H
D33: 1 | E33: L | F33: L | G33: M
E34: 1 | F34: 2 | G34: 3
A36: Controls
A37: Works to be undertaken as per site rules
A38: Appropriate PPE for task to be used
A39: All tools to be Pat Tested
A40: Equipment to be visually checked each day
A41: Good housekeeping - clear walkways
A42: Cutting of materials which could give off sparks or generate extreme temperatures should not take place unless hot works permit has been issued.
A43: Designated areas to be set up for recurring operations such as use of chop saws and routers and the cutting of sheet materials
A45: Monitored by: | E45: ALL

Sheet Working height Risk
A7: RISK ASSESSMENT
A9: Site Location:- | I9: Date | K9: ='CDM File Cover Page'!B5 -> 45299
A12: Operation
A14: Working at height
A18: Hazard
A20: Falling objects
A21: Falling people
A25: SEVERITY POTENTIAL
A26: 3 | C26: MAJOR | E26: 2 | G26: SERIOUS | I26: 1 | K26: SLIGHT
A28: LIKELIHOOD
A29: 3 | C29: HIGH | E29: 2 | G29: MEDIUM | I29: 1 | K29: LOW
A31: RISK LEVEL = SEVERITY X LIKELIHOOD
D34: 3 | E34: M | F34: H | G34: H
D35: 2 | E35: L | F35: M | G35: H
D36: 1 | E36: L | F36: L | G36: M
E37: 1 | F37: 2 | G37: 3
A39: Controls
A40: Works to be undertaken as per site rules
A41: Appropriate PPE for task to be used
A42: Ladders to be tied & footed
A43: Working platform to be clear & tidy and appropriate to task
A44: Ensure barriers are present
A46: Monitored by: | D46: ALL

Sheet Power tools risk
A7: RISK ASSESSMENT
A9: Site Location:- | I9: Date | K9: ='CDM File Cover Page'!B5 -> 45299
A12: Operation
A14: Portable Power Tools
A18: Hazard
A20: Electric Shock
A21: Moving Machinery Parts
A22: Sharp Objects
A25: SEVERITY POTENTIAL
A26: 3 | C26: MAJOR | E26: 2 | G26: SERIOUS | I26: 1 | K26: SLIGHT
A28: LIKELIHOOD
A29: 3 | C29: HIGH | E29: 2 | G29: MEDIUM | I29: 1 | K29: LOW
A31: RISK LEVEL = SEVERITY X LIKELIHOOD
D34: 3 | E34: M | F34: H | G34: H
D35: 2 | E35: L | F35: M | G35: H
D36: 1 | E36: L | F36: L | G36: M
E37: 1 | F37: 2 | G37: 3
A39: Controls
A40: Works to be undertaken as per site rules
A41: Appropriate PPE for task to be used
A42: Power tools to be used by competent person
A43: Equipment to be visually checked each day
A44: Equipment to be pat tested
A46: Monitored by: | D46: ALL

Sheet Vistors Log
A3: SITE VISITORS LOG
A6: Site Location | D6: =#REF! -> #REF!
D7: =#REF! -> #REF!
A9: DATE | C9: NAME | E9: COMPANY | G9: TIME IN | I9: TIME OUT | K9: REASON FOR VISIT | M9: SIGNATURE

Sheet Accident form
C3: ACCIDENT REPORT FORM
A6: Date
A8: Time
A10: Please give location of accident:
A12: Site
A15: First Name | E15: Surname | J15: Age
A17: Address
G18: Postcode
A20: Did the person go back to
A22: Work | E22: Hospital | I22: Home
A24: Please tick as appropriate
A26: Please give details of accident and what caused it.
A27: Give details of the injury and what parts of the body were injured
A36: Details of person filling in this form
A38: First Name | G38: Surname
A40: Signature | G40: Date

Sheet Site induction
A3: SITE INDUCTION
A6: FOR ALL PEOPLE WORKING ON SITE WITH NO EXCEPTIONS
A7: Site:
A8: I confirm that I agree to comply with the site rules and regulations and have been made aware of the health and safety file, emergency plan and fire exits
A10: These include :
A12: Key Personnel | C12: Senior Management H&S Commitment | G12: Accident and near miss reporting
A13: Project Outline | C13: Work Method Risk Assessments | G13: Responsibility and horseplay
A14: Hours of work | C14: Hazardous Substances | G14: Fire Procedure
A15: Arriving on site | C15: Traffic Routes | G15: First Aid
A16: Welfare facilities | C16: High Risk and Out of Bounds areas | G16: Alcohol and drugs
A17: No Smoking | C17: Buried Services | G17: Tidiness on site (Housekeeping)
A18: Tower Scaffolds | C18: Abrasive Wheels | G18: Security arrangements
A19: Permits to Work | C19: Protective Clothing/Apparatus | G19: Toolbox talks (on site training)
A21: INDUCTEE | C21: COMPANY | E21: DATE | G21: SIGNATURE | I21: INDUCTOR

Sheet Week Audit checklist
A3: WEEKLY SITE AUDIT CHECKLIST
A6: Site Location:-
A8: Date: | B8: ='CDM File Cover Page'!B5 -> 45299
A10: No | B10: Item | C10: Yes/No | D10: Comments/Action
A12: 1 | B12: Are all risk assessments available?
A13: 2 | B13: Are there method statements for significant risks?
A14: 3 | B14: Have all sub contractors been inducted?
A15: 4 | B15: Are first aid facilities and appointed person available?
A16: 5 | B16: Is the fire plan displayed and assembly point clearly indicated?
A17: 6 | B17: Are fire extinguishers in position?
A18: 7 | B18: Is a permit to work used for all hot works?
A19: 8 | B19: Is the entrance free from obstruction?
A20: 9 | B20: Are working areas clearly identified?
A21: 10 | B21: Are rest and welfare facilities acceptable?
A22: 11 | B22: Is PPE being worn?
A23: 12 | B23: Is COSHH information available?
... A31: 20 | B31: Are ladders tied and footed?

Sheet Hot works Permit
A3: PERMIT TO WORK
A6: Applicable to all operations involving flame, sparks, hot air or arc welding and cutting equipment, brazing and soldering equipment, blow lamps and other equipment producing heat or naked flames or other high risk activities
A8: Details of Operation
A10: Location of work:
A12: Details of work:
A15: Start Date: | F15: Completion Date:
A17: General Precautions
A19: Hot Works should only be undertaken where a safer method of working is not available
A20: Wherever possible items to be subjected to hot works should be removed to a safe area designated for that purpose
A21: A trained person, not directly involved with the work, should provide a continuous fire watch during and for at least 1 hour following the hot work completion to ensure that the working area and all adjacent areas are free of smouldering materials.
A23: Checklist Before Hot Work Commences | I23: Tick once check is complete
A25: 1 | B25: At least 2 suitable portable fire extinguishers should be available for immediate use
B26: within the area of hot work operations and all person involved and undertaking fire watch
B27: duties to be trained in their use. Any automatic fire detection systems should be isolated
B28: only in the area where works are undertaken and only for the period of the work.
A30: 2 | B30: Combustible materials and flammable liquids should be removed from an area within
B31: 10 metres of the hot work adjacent areas which may be in danger of ignition either
B32: directly or from conducted heat
A34: 3 | B34: If there are any combustible material that cannot be removed, any holes, gaps in walls,
B35: floors or ceilings where sparks could pass through they should be covered in
B36: incombustible material.
A38: 4 | B38: Floors of combustible material in the designated area should be covered with sheets
B39: of incombustible protective material or wetted and covered with sand
A41: 5 | B41: Where work is carried out on building panels, an assessment should be made on
B42: insulating or other materials behind or forming the core of the panels.
A44: 6 | B44: Allow adequate ventilation
A46: 7 | B46: Identify any gas or other services adjacent to or below the area of hot work and isolate
B47: and protect them.
A49: 8 | B49: All persons carrying out the hot work and undertaking the fire watch should know how to
B50: raise the fire alarm and be aware of any emergency procedures
A52: 9 | B52: Confirm all other contractors/operators on site are aware that hot work is being undertaken
B53: and that there is no application of paints or flammable solvent based substances
A61: Authorisation to proceed
A63: I hereby declare that the above has been made known to the person in charge of the work.
A64: I consider the above mentioned area is safe for operations to commence.
A66: Signed on behalf of Highfield Construction | I66: Print
A68: Date
A70: Acceptance by competent person
A72: I acknowledge receipt of this permit and understand the precautions/comments above.
A73: Neither I nor the persons under my control will work on any other activity or location than those specified.
A75: Signed | G75: Print
A77: Name of Company | G77: Date
A80: Clearance following Completion of Works
A82: A | B82: All hot waste materials should be removed and disposed of safely
A83: B | B83: All equipment, including gas cylinders, should be removed
A84: C | B84: Blow lamps and gas cylinders should only be fitted/changed in the open
A86: Final Check
A88: Maintain fire watch and regular inspections for a period of 60 minutes after completion of the hot works
A89: as specified under General Precautions
A91: I hereby declare that the work described above is complete and the precautions noted
A92: above have been complied with. The area has been inspected and is free of risk and
A93: all tools/equipment have been withdrawn
A95: Signed | G95: Print
A97: Name of Company | G97: Date
A99: Cancellation
A101: I hereby declare this permit cancelled. I have received the copies of the permit back and the area has
A102: been inspected and is free of risk
A104: Signed on behalf of Highfield Construction | I104: Print
A106: Date

Sheet Sheet1
