Workbook

Sheet Export Summary
B3: This document was exported from Numbers. Each table was converted to an Excel worksheet. All other objects on each Numbers sheet were placed on separate worksheets. Please be aware that formula calculations may differ in Excel.
B7: Numbers Sheet Name | C7: Numbers Table Name | D7: Excel Worksheet Name
B9: Intro
C10: Table 1 | D10: Intro
B11: Background
C12: Table 1 | D12: Background
B13: Solent Marine Sites
C14: Table 1 | D14: Solent Marine Sites
B15: Instructions
C16: Table 1 | D16: Instructions
B17: Development site details
C18: Table 1 | D18: Development site details
B19: Stage 1
C20: Table 1 | D20: Stage 1
B21: Stage 2
C22: Table 1 | D22: Stage 2
B23: Stage 3
C24: Table 1 | D24: Stage 3
B25: Stage 4
C26: Table 1 | D26: Stage 4
B27: Stage 4 (2)
C28: Table 1 | D28: Stage 4 (2)
B29: Lookups
C30: Table 1 | D30: Lookups

Sheet Intro
M12: Image Source: Neil Howard Solent Buoys - Flood Tide Copyright: © GrahamAndDairne 2013

Sheet Background
B3: Background
B7: There have been a series of court cases in recent years relating to how new plans or projects interact with the Habitats Regulations process where there are existing high levels of background nutrients. These decisions have led Natural England to review its advice on water quality effects on Habitats sites.
B8: The additional nutrient load from the increase in wastewater and/or the change in the land use of the development land created by a new residential development can create an impact pathway for potential negative effects on Habitats sites that are already suffering from problems related to nutrient loading. This impact pathway is shown diagrammatically in Figure 1.
B34: Habitats Regulations Assessments (HRAs) of new residential developments need to consider whether nutrient loading will result in ‘Likely Significant Effects’ (LSE) on a Habitats site. If an HRA finds LSE due to nutrient loading, the Appropriate Assessment will need to consider whether this nutrient load needs to be mitigated in order to remove adverse effects on the Habitats site.
B35: The first step in an HRA involving nutrient neutrality is understanding both whether a residential development will need mitigation to achieve nutrient neutrality and, if so, the amount of nutrients that require mitigating on an annual basis. In order to understand the amount of nutrients a new residential development will create, a nutrient budget for the development is required.
B36: This tool provides a step-by-step approach to calculating the nutrient budget for a new residential development. Before a nutrient budget can be completed using the methodology, certain site-specific details for the Habitats Site in question need to be determined. The required details for each stage of the nutrient budget methodology are shown in the instructions tab, with an associated guidance document that informs users of this calculator how to generate certain inputs to the calculator.

Sheet Solent Marine Sites
B3: Solent Marine European Sites
B6: The Solent Marine Habitats sites comprise a range of Special Areas of Conservation, Special Protection Areas and Ramsar sites with water pollution and eutrophication considered a threat to its condition.
B7: The Solent is a complex site encompassing a major estuarine system on the south coast of England. The Solent and its inlets are unique in Britain and Europe for their hydrographic regime with double tides, as well as for the complexity of the marine and estuarine habitats present within the area.
B8: The river’s vegetation is exceptionally species rich, with many of the typical chalk stream plants present in abundance, including species such as river water-crowfoot and stream water-crowfoot.
B9: The rich intertidal mudflats, saltmarsh, shingle beaches and adjacent coastal habitats, including grazing marsh, reedbeds and damp woodland, support nationally and internationally important numbers of migratory and over-wintering waders and waterfowl such as ringed plover and sandwich terns, as well as important breeding gull and tern populations.
B10: Increased levels of nitrogen and phosphorous entering aquatic environments via surface water and groundwater can severely threaten these sensitive habitats and species within the sites. The elevated levels of nutrients can cause eutrophication, leading to algal blooms which disrupt normal ecosystem function and cause major changes in the aquatic community. These algal blooms can result in reduced levels of oxygen within the water, which in turn can lead to the death of many aquatic organisms including invertebrates and fish.
B11: The species and habitats within the Solent Marine sites that result in their designations are referred to a ‘qualifying features.’ Not all of these qualifying features will be sensitive to changes in nutrients within the site. When completing an HRA involving nutrient neutrality, the Competent Authority (normally Local Planning Authority for developments) must identify and screen out qualifying features that are not sensitive to nutrients via a Habitats Regulations Assessment. Developers will be asked to submit information to support this process.
B12: More detailed information on the qualifying features of the SPA and details of water quality data highlighting the current nutrient problems in the site are available in the Natural England Solent and Southampton Water SPA evidence summary

Sheet Instructions
B3: Instructions
B7: The nutrient budget for a site is calculated in four stages, with each stage implemented in the following worksheets.
B20: 1. General tips:
C22: Key:
D23: Values to be entered by the user
D24: Fixed or calculated values
D25: Lookup tables
B27: When a cell is selected, instructions are shown on how to fill out the cell:
B37: It is advisable to retain a blank copy of this workbook and "Save as" a new copy each time you calculate a budget, in case of any mistakes in data inputs or to ease calculation of new nutrient budgets .
B39: Note:
B40: The values already included in this tool have been chosen based on research to determine suitable inputs to the nutrient budget that meet the HRA tests of beyond reasonable scientific doubt, in perpetuity (practically speaking this is 80-125 years) and in accordance with the precautionary principle. If editing any values in this tool, you must make sure there is a sufficient evidence base to justify these changes and that the new inputs are selected in accordance with the precautionary principle.
B42: 2. Stage specific instructions:
B44: 2.1 Stage 1: calculate the new nutrient load associated with the additional wastewater:
B46: In this section the user will need to enter:
B47: The date of first occupancy. This is because some wastewater treatment works (WwTW) may be due an upgrade in 2025 which will change the nutrient concentration permit values. This will be shown through two values for the permits and nutrients load from before and after the upgrade.
B48: The average occupancy rate of the development will need to be entered. The default setting is the national occupancy rate of 2.4 people per dwelling/unit. Only change this value if there is sufficient evidence that the development will be different to the national average.
B49: The number of dwellings/units that will be in the development at the time of completion.
B50: Whether the catchment of the proposed development has a deductible acceptable loading or not.
B51: The receiving WwTW that the development will drain to. If it is uncertain what WwTW the site will drain to, please find this information from your sewerage company before completing the calculator. If it is not feasable to connect to a WwTW and a septic tank or package treatment plant is being used, please select this option. Please be aware that if the total nitrogen (TN) final effluent concentrations (in mg/l) are specified by the manufacturer, please select 'Septic Tank user defined' or 'Package Treatment Plant user defined' and enter the manufacturer specified value in the cell where prompted.
... B75: 3.1 Instructions for finding the Operational Catchment that the development is situated within:
B76: a) Go to this link: | D76: http://environment.data.gov.uk/catchment-planning/
B77: b) Search the location by place name, postcode etc. This will give a high-level view of the area. Use the zoom feature to find the exact location of the development.
B78: c) Click on the light blue area on the map in which the development is located. This will bring the user to the Operational Catchment page
B79: d) Make note of the name of the Operational Catchment and select it from the dropdown list in the relevant cell.
B81: 3.2 Instructions for finding the drainage associated with the predominant soil type within development site:
B82: a) Go to this link: | D82: http://www.landis.org.uk/soilscapes/#.
B83: b) Find the site location on the map by using the search bar on the right side of the map in the 'Search' tab. Searching an area will generate a pop up window in which you can view the soil information by clicking 'View soil information'. If this is not an option then click on the relevant soil type on the map and click on the 'Soil information' tab on the right hand side of the map, below the 'Search' tab.
B84: c) The 'Soil drainage type' value can be found In the 'Soil information' under the title 'Drainage:'
B85: d) Make a note of this soil type and select the relevant soil drainage type from the drop down list in the relevant cell.
B87: 3.3 Instructions for finding the annual average rainfall that the development will receive using the National River Flow Archive:
B88: a) Go to this link: | D88: https://nrfa.ceh.ac.uk/data/station/spatial/42019
B89: b) This link will bring the user to the Tanners Brook at Milbrook flow gauge catchment information page.
B90: c) Click on the dropdown list next to the title 'Select spatial data type to view:' on the left of the map and select 'Rainfall'. Next select the Legend tab.
B91: d) Zoom in on the map to find the location of the development and find the corresponding rainfall range from the Legend.
B92: e) Select the rainfall band from the drop down list in the table. If your rainfall band is not in the drop down list, please select the closest band shown in the list.
B94: 3.4 Instructions for finding out whether the development is in a Nitrate Vulnerable Zone (NVZ):
B95: a) Go to this link: | D95: http://mapapps2.bgs.ac.uk/ukso/home.html?layers=NVZEng
B96: b) Enter the location of the development site in the search bar.
B97: c) Once the area has been located, click on the map where the development is located to find out if is within an NVZ.
B98: d) Make note of this and select this in the dropdown list.

Sheet Development site details
B3: Development site details
C7: Date (dd/mm/yyyy): | D7: 44958
C8: Site Name: | D8: Proposed New Dwelling
C9: Planning Application number: | D9: Not yet allocated
C10: Site Address: | D10: 172 The Dale Widley Waterloo Ville

Sheet Stage 1
B3: Stage 1
C7: User Inputs
C9: Date of first occupancy: | D9: To be determined
C10: Average occupancy rate: | D10: 2.6 | G10: =_xlfn.IFERROR(IF(AND($D$9<DATE(2025,1,1),OR((VLOOKUP($D$14,'Lookups'!$C$8:$G$88,2,FALSE))>(VLOOKUP($D$14,'Lookups'!$C$8:$G$88,4,FALSE)),(VLOOKUP($D$14,'Lookups'!$C$8:$G$88,3,FALSE))>(VLOOKUP($D$14,'Lookups'!$C$8:$G$88,5,FALSE)))),"A nutrient permit is changing for the selected WwTW as of 01/01/2025. Therefore, two nutrient budgets will be calculated for the loading before and after the 2025 WwTW permit upgrade.",""),"")
C11: Water usage (litres/person/day): | D11: 120
C12: Development Proposal (dwellings/units): | D12: 1
C13: Include deductible acceptable loading? | D13: Yes
C14: Wastewater treatment works: | D14: Budds Farm WwTW
C15: Wastewater treatment works P permit (mg TP/litre): | D15: =(_xlfn.IFERROR(IF(OR(D14="Package Treatment Plant user defined",D14="Septic Tank user defined"),"Please enter value in cell to the right:",IF(D9<DATE(2025,1,1),VLOOKUP(D14,'Lookups'!C8:G91,2,FALSE),VLOOKUP(D14,'Lookups'!C8:G90,4,FALSE))),"")) -> 7.7 | F15: =_xlfn.IFERROR(IF(AND($D$9<DATE(2025,1,1),(VLOOKUP($D$14,'Lookups'!$C$8:$G$88,2,FALSE))>(VLOOKUP($D$14,'Lookups'!$C$8:$G$88,4,FALSE))),"Post 2025 WwTW P permit:",""),"") | G15: =_xlfn.IFERROR(IF(AND($D$9<DATE(2025,1,1),(VLOOKUP($D$14,'Lookups'!$C$8:$G$88,2,FALSE))>(VLOOKUP($D$14,'Lookups'!$C$8:$G$88,4,FALSE))),VLOOKUP(D14,'Lookups'!C8:G91,4,FALSE),""),"") | H15: =_xlfn.IFERROR(IF(AND($D$9<DATE(2025,1,1),(VLOOKUP($D$14,'Lookups'!$C$8:$G$88,2,FALSE))>(VLOOKUP($D$14,'Lookups'!$C$8:$G$88,4,FALSE))),"mg TP/litre",""),"")
C16: Wastewater treatment works N permit (mg TN/litre): | D16: =_xlfn.IFERROR(IF(OR(D14="Package Treatment Plant user defined",D14="Septic Tank user defined"),"Please enter value in cell to the right:",IF(AND(D9<DATE(2025,1,1),D13="Yes"),VLOOKUP(D14,'Lookups'!$C$8:$G$91,2,FALSE),IF(AND(D9<DATE(2025,1,1),D13="No"),VLOOKUP(D14,'Lookups'!$C$8:$G$91,3,FALSE),IF(AND(D9>=DATE(2025,1,1),D13="Yes"),VLOOKUP(D14,'Lookups'!$C$8:$G$91,4,FALSE),VLOOKUP(D14,'Lookups'!$C$8:$G$91,5,FALSE))))),"") -> 7.7 | F16: =_xlfn.IFERROR(IF(AND($D$9<DATE(2025,1,1),(VLOOKUP($D$14,'Lookups'!$C$8:$G$88,3,FALSE))>(VLOOKUP($D$14,'Lookups'!$C$8:$G$88,5,FALSE))),"Post 2025 WwTW N permit:",""),"") | G16: =_xlfn.IFERROR(IF(AND($D$9<DATE(2025,1,1),(VLOOKUP($D$14,'Lookups'!$C$8:$G$88,3,FALSE))>(VLOOKUP($D$14,'Lookups'!$C$8:$G$88,5,FALSE))),VLOOKUP(D14,'Lookups'!$C$8:$G$91,5,FALSE),""),"") | H16: =_xlfn.IFERROR(IF(AND($D$9<DATE(2025,1,1),(VLOOKUP($D$14,'Lookups'!$C$8:$G$88,3,FALSE))>(VLOOKUP($D$14,'Lookups'!$C$8:$G$88,5,FALSE))),"mg TN/litre",""),"")
C18: Stage 1 Calculated Loading
N20: AND($C$9<DATE(2025,1,1),OR((VLOOKUP($C$13,Lookups!$A$9:$E$14,2,FALSE))>(VLOOKUP($C$13,Lookups!$A$9:$E$14,4,FALSE)),(VLOOKUP($C$13,Lookups!$A$9:$E$14,3,FALSE))>(VLOOKUP($C$13,Lookups!$A$9:$E$14,5,FALSE))))
C21: =_xlfn.IFERROR(IF(AND($D$9<DATE(2025,1,1),OR((VLOOKUP($D$14,'Lookups'!$C$8:$G$88,2,FALSE))>(VLOOKUP($D$14,'Lookups'!$C$8:$G$88,4,FALSE)),(VLOOKUP($D$14,'Lookups'!$C$8:$G$88,3,FALSE))>(VLOOKUP($D$14,'Lookups'!$C$8:$G$88,5,FALSE)))),"Post-2025 Stage 1 Nutrient Loading","Stage 1 Nutrient Loading"),"") -> Stage 1 Nutrient Loading | G21: =_xlfn.IFERROR(IF(AND($D$9<DATE(2025,1,1),OR((VLOOKUP($D$14,'Lookups'!$C$8:$G$88,2,FALSE))>(VLOOKUP($D$14,'Lookups'!$C$8:$G$88,4,FALSE)),(VLOOKUP($D$14,'Lookups'!$C$8:$G$88,3,FALSE))>(VLOOKUP($D$14,'Lookups'!$C$8:$G$88,5,FALSE)))),"Pre-2025 Stage 1 Nutrient Loading",""),"")
C23: Additional population | D23: =IF(ISBLANK(D12),"",D10*D12) -> 2.6 | E23: people | G23: =_xlfn.IFERROR(IF(AND($D$9<DATE(2025,1,1),OR((VLOOKUP($D$14,'Lookups'!$C$8:$G$88,2,FALSE))>(VLOOKUP($D$14,'Lookups'!$C$8:$G$88,4,FALSE)),(VLOOKUP($D$14,'Lookups'!$C$8:$G$88,3,FALSE))>(VLOOKUP($D$14,'Lookups'!$C$8:$G$88,5,FALSE)))),"Annual wastewater TN load:",""),"") | H23: =_xlfn.IFERROR(IF(AND($D$9<DATE(2025,1,1),OR((VLOOKUP($D$14,'Lookups'!$C$8:$G$88,2,FALSE))>(VLOOKUP($D$14,'Lookups'!$C$8:$G$88,4,FALSE)),(VLOOKUP($D$14,'Lookups'!$C$8:$G$88,3,FALSE))>(VLOOKUP($D$14,'Lookups'!$C$8:$G$88,5,FALSE)))),IF(D16=25,(D16*D$24)/1000000*365.25,(D16*D$24*0.9)/1000000*365.25),""),"") | I23: =_xlfn.IFERROR(IF(AND($D$9<DATE(2025,1,1),OR((VLOOKUP($D$14,'Lookups'!$C$8:$G$88,2,FALSE))>(VLOOKUP($D$14,'Lookups'!$C$8:$G$88,4,FALSE)),(VLOOKUP($D$14,'Lookups'!$C$8:$G$88,3,FALSE))>(VLOOKUP($D$14,'Lookups'!$C$8:$G$88,5,FALSE)))),"kg TN/yr",""),"")
C24: Wastewater by development | D24: =_xlfn.IFERROR(D23*D11,"") -> 312 | E24: litres/day
C27: TP discharge from WwTW | D27: 2162.16 | E27: mg TP/day
C28: Convert to kg/TP/d | D28: =_xlfn.IFERROR($D$27/1000000,"") -> 0.00216216 | E28: kg TP/day
C29: Convert to kg/TP/yr | D29: =_xlfn.IFERROR($D$28*365.25,"") -> 0.78972894 | E29: kg TP/yr
C30: Annual wastewater TP load | D30: =D29 -> 0.78972894 | E30: kg TP/yr
C33: TN discharge from WwTW | D33: 2162.16 | E33: mg TN/day
C34: Convert to kg/TN/d | D34: =_xlfn.IFERROR($D$33/1000000,"") -> 0.00216216 | E34: kg TN/day
C35: Convert to kg/TN/yr | D35: =_xlfn.IFERROR($D$34*365.25,"") -> 0.78972894 | E35: kg TN/yr
C36: Annual wastewater TN load | D36: =D35 -> 0.78972894 | E36: kg TN/yr

Sheet Stage 2
B3: Stage 2
C7: User Inputs
C9: Catchment: | E9: East Hampshire Rivers
C10: Soil drainage type: | E10: Impeded drainage
C11: Annual average rainfall (mm): | E11: 700.1 - 750
C12: Within Nitrate Vulnerable Zone (NVZ): | E12: Yes
C14: Existing land use type(s) | D14: Area (ha) | E14: Annual nitrogen nutrient export (kg TN)
E15: =IF(OR(ISBLANK($C15),ISBLANK($D15),ISBLANK($E$10),ISBLANK($E$11)),"",_xlfn.IFERROR($D15*VLOOKUP((IF(OR($C15="Residential urban land",$C15="Commercial/industrial urban land",$C15="Open urban land",$C15="Greenspace",$C15="Community food growing",$C15="Woodland",$C15="Shrub",$C15="Water"),"|||"&$C15,(VLOOKUP($E$9,'Lookups'!$C$648:$D$656,2,FALSE)&"|"&$C15&"|"&VLOOKUP($E$12,'Lookups'!$C$670:$D$671,2,FALSE)&"|"&VLOOKUP($E$11,'Lookups'!$C$622:$E$644,3,FALSE)&"|"&VLOOKUP($E$10,'Lookups'!$C$661:$D$666,2,FALSE)))),'Lookups'!$H$94:$J$618,3,FALSE),_xlfn.IFERROR(_xlfn.IFERROR($D15*VLOOKUP(VLOOKUP($E$9,'Lookups'!$C$648:$E$656,3,FALSE)&"|"&$C15&"|"&VLOOKUP($E$12,'Lookups'!$C$670:$D$671,2,FALSE)&"|"&VLOOKUP($E$11,'Lookups'!$C$622:$E$644,3,FALSE)&"|"&VLOOKUP($E$10,'Lookups'!$C$661:$D$666,2,FALSE),'Lookups'!$H$355:$J$618,3,FALSE),_xlfn.IFERROR($D15*VLOOKUP(VLOOKUP($E$9,'Lookups'!$C$648:$E$656,3,FALSE)&"|"&$C15&"|"&"TRUE"&"|"&VLOOKUP($E$11,'Lookups'!$C$622:$E$644,3,FALSE)&"|"&VLOOKUP($E$10,'Lookups'!$C$661:$D$666,2,FALSE),'Lookups'!$H$355:$J$618,3,FALSE),$D15*VLOOKUP(VLOOKUP($E$9,'Lookups'!$C$648:$E$656,3,FALSE)&"|"&$C15&"|"&VLOOKUP($E$12,'Lookups'!$C$670:$D$671,2,FALSE)&"|"&VLOOKUP($E$11,'Lookups'!$C$622:$E$644,3,FALSE)&"|"&"DrainedArGr",'Lookups'!$H$355:$J$618,3,FALSE))),_xlfn.IFERROR($D15*VLOOKUP($C15&"|"&VLOOKUP($E$11,'Lookups'!$C$622:$E$644,3,FALSE),'Lookups'!$K$94:$M$610,3,FALSE),$D15*VLOOKUP($C15,'Lookups'!$D$94:$O$610,12,FALSE))))) | G15: =IF(OR(ISBLANK($C15),ISBLANK($D15),ISBLANK($E$10),ISBLANK($E$9),ISBLANK($E$11)),"",_xlfn.IFERROR($D15*VLOOKUP((IF(OR($C15="Residential urban land",$C15="Commercial/industrial urban land",$C15="Open urban land",$C15="Greenspace",$C15="Community food growing",$C15="Woodland",$C15="Shrub",$C15="Water"),"|||"&$C15,(VLOOKUP($E$9,'Lookups'!$C$648:$D$656,2,FALSE)&"|"&$C15&"|"&VLOOKUP($E$12,'Lookups'!$C$670:$D$671,2,FALSE)&"|"&VLOOKUP($E$11,'Lookups'!$C$622:$E$644,3,FALSE)&"|"&VLOOKUP($E$10,'Lookups'!$C$661:$D$666,2,FALSE)))),'Lookups'!$H$94:$J$618,3,FALSE),_xlfn.IFERROR($D15*VLOOKUP(VLOOKUP($E$9,'Lookups'!$C$648:$E$656,3,FALSE)&"|"&$C15&"|"&VLOOKUP($E$12,'Lookups'!$C$670:$D$671,2,FALSE)&"|"&VLOOKUP($E$11,'Lookups'!$C$622:$E$644,3,FALSE)&"|"&VLOOKUP($E$10,'Lookups'!$C$661:$D$666,2,FALSE),'Lookups'!$H$355:$J$618,3,FALSE),"In the absence of real world data, this figure has been generated using the most relevant average nutrient reduction coefficient.")))
C16: Residential urban land | D16: 0.03 | E16: =IF(OR(ISBLANK($C16),ISBLANK($D16),ISBLANK($E$10),ISBLANK($E$11)),"",_xlfn.IFERROR($D16*VLOOKUP((IF(OR($C16="Residential urban land",$C16="Commercial/industrial urban land",$C16="Open urban land",$C16="Greenspace",$C16="Community food growing",$C16="Woodland",$C16="Shrub",$C16="Water"),"|||"&$C16,(VLOOKUP($E$9,'Lookups'!$C$648:$D$656,2,FALSE)&"|"&$C16&"|"&VLOOKUP($E$12,'Lookups'!$C$670:$D$671,2,FALSE)&"|"&VLOOKUP($E$11,'Lookups'!$C$622:$E$644,3,FALSE)&"|"&VLOOKUP($E$10,'Lookups'!$C$661:$D$666,2,FALSE)))),'Lookups'!$H$94:$J$618,3,FALSE),_xlfn.IFERROR(_xlfn.IFERROR($D16*VLOOKUP(VLOOKUP($E$9,'Lookups'!$C$648:$E$656,3,FALSE)&"|"&$C16&"|"&VLOOKUP($E$12,'Lookups'!$C$670:$D$671,2,FALSE)&"|"&VLOOKUP($E$11,'Lookups'!$C$622:$E$644,3,FALSE)&"|"&VLOOKUP($E$10,'Lookups'!$C$661:$D$666,2,FALSE),'Lookups'!$H$355:$J$618,3,FALSE),_xlfn.IFERROR($D16*VLOOKUP(VLOOKUP($E$9,'Lookups'!$C$648:$E$656,3,FALSE)&"|"&$C16&"|"&"TRUE"&"|"&VLOOKUP($E$11,'Lookups'!$C$622:$E$644,3,FALSE)&"|"&VLOOKUP($E$10,'Lookups'!$C$661:$D$666,2,FALSE),'Lookups'!$H$355:$J$618,3,FALSE),$D16*VLOOKUP(VLOOKUP($E$9,'Lookups'!$C$648:$E$656,3,FALSE)&"|"&$C16&"|"&VLOOKUP($E$12,'Lookups'!$C$670:$D$671,2,FALSE)&"|"&VLOOKUP($E$11,'Lookups'!$C$622:$E$644,3,FALSE)&"|"&"DrainedArGr",'Lookups'!$H$355:$J$618,3,FALSE))),_xlfn.IFERROR($D16*VLOOKUP($C16&"|"&VLOOKUP($E$11,'Lookups'!$C$622:$E$644,3,FALSE),'Lookups'!$K$94:$M$610,3,FALSE),$D16*VLOOKUP($C16,'Lookups'!$D$94:$O$610,12,FALSE))))) -> 0.40525976 | G16: =IF(OR(ISBLANK($C16),ISBLANK($D16),ISBLANK($E$10),ISBLANK($E$9),ISBLANK($E$11)),"",_xlfn.IFERROR($D16*VLOOKUP((IF(OR($C16="Residential urban land",$C16="Commercial/industrial urban land",$C16="Open urban land",$C16="Greenspace",$C16="Community food growing",$C16="Woodland",$C16="Shrub",$C16="Water"),"|||"&$C16,(VLOOKUP($E$9,'Lookups'!$C$648:$D$656,2,FALSE)&"|"&$C16&"|"&VLOOKUP($E$12,'Lookups'!$C$670:$D$671,2,FALSE)&"|"&VLOOKUP($E$11,'Lookups'!$C$622:$E$644,3,FALSE)&"|"&VLOOKUP($E$10,'Lookups'!$C$661:$D$666,2,FALSE)))),'Lookups'!$H$94:$J$618,3,FALSE),_xlfn.IFERROR($D16*VLOOKUP(VLOOKUP($E$9,'Lookups'!$C$648:$E$656,3,FALSE)&"|"&$C16&"|"&VLOOKUP($E$12,'Lookups'!$C$670:$D$671,2,FALSE)&"|"&VLOOKUP($E$11,'Lookups'!$C$622:$E$644,3,FALSE)&"|"&VLOOKUP($E$10,'Lookups'!$C$661:$D$666,2,FALSE),'Lookups'!$H$355:$J$618,3,FALSE),"In the absence of real world data, this figure has been generated using the most relevant average nutrient reduction coefficient."))) -> 0.40525976
E17: =IF(OR(ISBLANK($C17),ISBLANK($D17),ISBLANK($E$10),ISBLANK($E$11)),"",_xlfn.IFERROR($D17*VLOOKUP((IF(OR($C17="Residential urban land",$C17="Commercial/industrial urban land",$C17="Open urban land",$C17="Greenspace",$C17="Community food growing",$C17="Woodland",$C17="Shrub",$C17="Water"),"|||"&$C17,(VLOOKUP($E$9,'Lookups'!$C$648:$D$656,2,FALSE)&"|"&$C17&"|"&VLOOKUP($E$12,'Lookups'!$C$670:$D$671,2,FALSE)&"|"&VLOOKUP($E$11,'Lookups'!$C$622:$E$644,3,FALSE)&"|"&VLOOKUP($E$10,'Lookups'!$C$661:$D$666,2,FALSE)))),'Lookups'!$H$94:$J$618,3,FALSE),_xlfn.IFERROR(_xlfn.IFERROR($D17*VLOOKUP(VLOOKUP($E$9,'Lookups'!$C$648:$E$656,3,FALSE)&"|"&$C17&"|"&VLOOKUP($E$12,'Lookups'!$C$670:$D$671,2,FALSE)&"|"&VLOOKUP($E$11,'Lookups'!$C$622:$E$644,3,FALSE)&"|"&VLOOKUP($E$10,'Lookups'!$C$661:$D$666,2,FALSE),'Lookups'!$H$355:$J$618,3,FALSE),_xlfn.IFERROR($D17*VLOOKUP(VLOOKUP($E$9,'Lookups'!$C$648:$E$656,3,FALSE)&"|"&$C17&"|"&"TRUE"&"|"&VLOOKUP($E$11,'Lookups'!$C$622:$E$644,3,FALSE)&"|"&VLOOKUP($E$10,'Lookups'!$C$661:$D$666,2,FALSE),'Lookups'!$H$355:$J$618,3,FALSE),$D17*VLOOKUP(VLOOKUP($E$9,'Lookups'!$C$648:$E$656,3,FALSE)&"|"&$C17&"|"&VLOOKUP($E$12,'Lookups'!$C$670:$D$671,2,FALSE)&"|"&VLOOKUP($E$11,'Lookups'!$C$622:$E$644,3,FALSE)&"|"&"DrainedArGr",'Lookups'!$H$355:$J$618,3,FALSE))),_xlfn.IFERROR($D17*VLOOKUP($C17&"|"&VLOOKUP($E$11,'Lookups'!$C$622:$E$644,3,FALSE),'Lookups'!$K$94:$M$610,3,FALSE),$D17*VLOOKUP($C17,'Lookups'!$D$94:$O$610,12,FALSE))))) | G17: =IF(OR(ISBLANK($C17),ISBLANK($D17),ISBLANK($E$10),ISBLANK($E$9),ISBLANK($E$11)),"",_xlfn.IFERROR($D17*VLOOKUP((IF(OR($C17="Residential urban land",$C17="Commercial/industrial urban land",$C17="Open urban land",$C17="Greenspace",$C17="Community food growing",$C17="Woodland",$C17="Shrub",$C17="Water"),"|||"&$C17,(VLOOKUP($E$9,'Lookups'!$C$648:$D$656,2,FALSE)&"|"&$C17&"|"&VLOOKUP($E$12,'Lookups'!$C$670:$D$671,2,FALSE)&"|"&VLOOKUP($E$11,'Lookups'!$C$622:$E$644,3,FALSE)&"|"&VLOOKUP($E$10,'Lookups'!$C$661:$D$666,2,FALSE)))),'Lookups'!$H$94:$J$618,3,FALSE),_xlfn.IFERROR($D17*VLOOKUP(VLOOKUP($E$9,'Lookups'!$C$648:$E$656,3,FALSE)&"|"&$C17&"|"&VLOOKUP($E$12,'Lookups'!$C$670:$D$671,2,FALSE)&"|"&VLOOKUP($E$11,'Lookups'!$C$622:$E$644,3,FALSE)&"|"&VLOOKUP($E$10,'Lookups'!$C$661:$D$666,2,FALSE),'Lookups'!$H$355:$J$618,3,FALSE),"In the absence of real world data, this figure has been generated using the most relevant average nutrient reduction coefficient.")))
E18: =IF(OR(ISBLANK($C18),ISBLANK($D18),ISBLANK($E$10),ISBLANK($E$11)),"",_xlfn.IFERROR($D18*VLOOKUP((IF(OR($C18="Residential urban land",$C18="Commercial/industrial urban land",$C18="Open urban land",$C18="Greenspace",$C18="Community food growing",$C18="Woodland",$C18="Shrub",$C18="Water"),"|||"&$C18,(VLOOKUP($E$9,'Lookups'!$C$648:$D$656,2,FALSE)&"|"&$C18&"|"&VLOOKUP($E$12,'Lookups'!$C$670:$D$671,2,FALSE)&"|"&VLOOKUP($E$11,'Lookups'!$C$622:$E$644,3,FALSE)&"|"&VLOOKUP($E$10,'Lookups'!$C$661:$D$666,2,FALSE)))),'Lookups'!$H$94:$J$618,3,FALSE),_xlfn.IFERROR(_xlfn.IFERROR($D18*VLOOKUP(VLOOKUP($E$9,'Lookups'!$C$648:$E$656,3,FALSE)&"|"&$C18&"|"&VLOOKUP($E$12,'Lookups'!$C$670:$D$671,2,FALSE)&"|"&VLOOKUP($E$11,'Lookups'!$C$622:$E$644,3,FALSE)&"|"&VLOOKUP($E$10,'Lookups'!$C$661:$D$666,2,FALSE),'Lookups'!$H$355:$J$618,3,FALSE),_xlfn.IFERROR($D18*VLOOKUP(VLOOKUP($E$9,'Lookups'!$C$648:$E$656,3,FALSE)&"|"&$C18&"|"&"TRUE"&"|"&VLOOKUP($E$11,'Lookups'!$C$622:$E$644,3,FALSE)&"|"&VLOOKUP($E$10,'Lookups'!$C$661:$D$666,2,FALSE),'Lookups'!$H$355:$J$618,3,FALSE),$D18*VLOOKUP(VLOOKUP($E$9,'Lookups'!$C$648:$E$656,3,FALSE)&"|"&$C18&"|"&VLOOKUP($E$12,'Lookups'!$C$670:$D$671,2,FALSE)&"|"&VLOOKUP($E$11,'Lookups'!$C$622:$E$644,3,FALSE)&"|"&"DrainedArGr",'Lookups'!$H$355:$J$618,3,FALSE))),_xlfn.IFERROR($D18*VLOOKUP($C18&"|"&VLOOKUP($E$11,'Lookups'!$C$622:$E$644,3,FALSE),'Lookups'!$K$94:$M$610,3,FALSE),$D18*VLOOKUP($C18,'Lookups'!$D$94:$O$610,12,FALSE))))) | G18: =IF(OR(ISBLANK($C18),ISBLANK($D18),ISBLANK($E$10),ISBLANK($E$9),ISBLANK($E$11)),"",_xlfn.IFERROR($D18*VLOOKUP((IF(OR($C18="Residential urban land",$C18="Commercial/industrial urban land",$C18="Open urban land",$C18="Greenspace",$C18="Community food growing",$C18="Woodland",$C18="Shrub",$C18="Water"),"|||"&$C18,(VLOOKUP($E$9,'Lookups'!$C$648:$D$656,2,FALSE)&"|"&$C18&"|"&VLOOKUP($E$12,'Lookups'!$C$670:$D$671,2,FALSE)&"|"&VLOOKUP($E$11,'Lookups'!$C$622:$E$644,3,FALSE)&"|"&VLOOKUP($E$10,'Lookups'!$C$661:$D$666,2,FALSE)))),'Lookups'!$H$94:$J$618,3,FALSE),_xlfn.IFERROR($D18*VLOOKUP(VLOOKUP($E$9,'Lookups'!$C$648:$E$656,3,FALSE)&"|"&$C18&"|"&VLOOKUP($E$12,'Lookups'!$C$670:$D$671,2,FALSE)&"|"&VLOOKUP($E$11,'Lookups'!$C$622:$E$644,3,FALSE)&"|"&VLOOKUP($E$10,'Lookups'!$C$661:$D$666,2,FALSE),'Lookups'!$H$355:$J$618,3,FALSE),"In the absence of real world data, this figure has been generated using the most relevant average nutrient reduction coefficient.")))
E19: =IF(OR(ISBLANK($C19),ISBLANK($D19),ISBLANK($E$10),ISBLANK($E$11)),"",_xlfn.IFERROR($D19*VLOOKUP((IF(OR($C19="Residential urban land",$C19="Commercial/industrial urban land",$C19="Open urban land",$C19="Greenspace",$C19="Community food growing",$C19="Woodland",$C19="Shrub",$C19="Water"),"|||"&$C19,(VLOOKUP($E$9,'Lookups'!$C$648:$D$656,2,FALSE)&"|"&$C19&"|"&VLOOKUP($E$12,'Lookups'!$C$670:$D$671,2,FALSE)&"|"&VLOOKUP($E$11,'Lookups'!$C$622:$E$644,3,FALSE)&"|"&VLOOKUP($E$10,'Lookups'!$C$661:$D$666,2,FALSE)))),'Lookups'!$H$94:$J$618,3,FALSE),_xlfn.IFERROR(_xlfn.IFERROR($D19*VLOOKUP(VLOOKUP($E$9,'Lookups'!$C$648:$E$656,3,FALSE)&"|"&$C19&"|"&VLOOKUP($E$12,'Lookups'!$C$670:$D$671,2,FALSE)&"|"&VLOOKUP($E$11,'Lookups'!$C$622:$E$644,3,FALSE)&"|"&VLOOKUP($E$10,'Lookups'!$C$661:$D$666,2,FALSE),'Lookups'!$H$355:$J$618,3,FALSE),_xlfn.IFERROR($D19*VLOOKUP(VLOOKUP($E$9,'Lookups'!$C$648:$E$656,3,FALSE)&"|"&$C19&"|"&"TRUE"&"|"&VLOOKUP($E$11,'Lookups'!$C$622:$E$644,3,FALSE)&"|"&VLOOKUP($E$10,'Lookups'!$C$661:$D$666,2,FALSE),'Lookups'!$H$355:$J$618,3,FALSE),$D19*VLOOKUP(VLOOKUP($E$9,'Lookups'!$C$648:$E$656,3,FALSE)&"|"&$C19&"|"&VLOOKUP($E$12,'Lookups'!$C$670:$D$671,2,FALSE)&"|"&VLOOKUP($E$11,'Lookups'!$C$622:$E$644,3,FALSE)&"|"&"DrainedArGr",'Lookups'!$H$355:$J$618,3,FALSE))),_xlfn.IFERROR($D19*VLOOKUP($C19&"|"&VLOOKUP($E$11,'Lookups'!$C$622:$E$644,3,FALSE),'Lookups'!$K$94:$M$610,3,FALSE),$D19*VLOOKUP($C19,'Lookups'!$D$94:$O$610,12,FALSE))))) | G19: =IF(OR(ISBLANK($C19),ISBLANK($D19),ISBLANK($E$10),ISBLANK($E$9),ISBLANK($E$11)),"",_xlfn.IFERROR($D19*VLOOKUP((IF(OR($C19="Residential urban land",$C19="Commercial/industrial urban land",$C19="Open urban land",$C19="Greenspace",$C19="Community food growing",$C19="Woodland",$C19="Shrub",$C19="Water"),"|||"&$C19,(VLOOKUP($E$9,'Lookups'!$C$648:$D$656,2,FALSE)&"|"&$C19&"|"&VLOOKUP($E$12,'Lookups'!$C$670:$D$671,2,FALSE)&"|"&VLOOKUP($E$11,'Lookups'!$C$622:$E$644,3,FALSE)&"|"&VLOOKUP($E$10,'Lookups'!$C$661:$D$666,2,FALSE)))),'Lookups'!$H$94:$J$618,3,FALSE),_xlfn.IFERROR($D19*VLOOKUP(VLOOKUP($E$9,'Lookups'!$C$648:$E$656,3,FALSE)&"|"&$C19&"|"&VLOOKUP($E$12,'Lookups'!$C$670:$D$671,2,FALSE)&"|"&VLOOKUP($E$11,'Lookups'!$C$622:$E$644,3,FALSE)&"|"&VLOOKUP($E$10,'Lookups'!$C$661:$D$666,2,FALSE),'Lookups'!$H$355:$J$618,3,FALSE),"In the absence of real world data, this figure has been generated using the most relevant average nutrient reduction coefficient.")))
E20: =IF(OR(ISBLANK($C20),ISBLANK($D20),ISBLANK($E$10),ISBLANK($E$11)),"",_xlfn.IFERROR($D20*VLOOKUP((IF(OR($C20="Residential urban land",$C20="Commercial/industrial urban land",$C20="Open urban land",$C20="Greenspace",$C20="Community food growing",$C20="Woodland",$C20="Shrub",$C20="Water"),"|||"&$C20,(VLOOKUP($E$9,'Lookups'!$C$648:$D$656,2,FALSE)&"|"&$C20&"|"&VLOOKUP($E$12,'Lookups'!$C$670:$D$671,2,FALSE)&"|"&VLOOKUP($E$11,'Lookups'!$C$622:$E$644,3,FALSE)&"|"&VLOOKUP($E$10,'Lookups'!$C$661:$D$666,2,FALSE)))),'Lookups'!$H$94:$J$618,3,FALSE),_xlfn.IFERROR(_xlfn.IFERROR($D20*VLOOKUP(VLOOKUP($E$9,'Lookups'!$C$648:$E$656,3,FALSE)&"|"&$C20&"|"&VLOOKUP($E$12,'Lookups'!$C$670:$D$671,2,FALSE)&"|"&VLOOKUP($E$11,'Lookups'!$C$622:$E$644,3,FALSE)&"|"&VLOOKUP($E$10,'Lookups'!$C$661:$D$666,2,FALSE),'Lookups'!$H$355:$J$618,3,FALSE),_xlfn.IFERROR($D20*VLOOKUP(VLOOKUP($E$9,'Lookups'!$C$648:$E$656,3,FALSE)&"|"&$C20&"|"&"TRUE"&"|"&VLOOKUP($E$11,'Lookups'!$C$622:$E$644,3,FALSE)&"|"&VLOOKUP($E$10,'Lookups'!$C$661:$D$666,2,FALSE),'Lookups'!$H$355:$J$618,3,FALSE),$D20*VLOOKUP(VLOOKUP($E$9,'Lookups'!$C$648:$E$656,3,FALSE)&"|"&$C20&"|"&VLOOKUP($E$12,'Lookups'!$C$670:$D$671,2,FALSE)&"|"&VLOOKUP($E$11,'Lookups'!$C$622:$E$644,3,FALSE)&"|"&"DrainedArGr",'Lookups'!$H$355:$J$618,3,FALSE))),_xlfn.IFERROR($D20*VLOOKUP($C20&"|"&VLOOKUP($E$11,'Lookups'!$C$622:$E$644,3,FALSE),'Lookups'!$K$94:$M$610,3,FALSE),$D20*VLOOKUP($C20,'Lookups'!$D$94:$O$610,12,FALSE))))) | G20: =IF(OR(ISBLANK($C20),ISBLANK($D20),ISBLANK($E$10),ISBLANK($E$9),ISBLANK($E$11)),"",_xlfn.IFERROR($D20*VLOOKUP((IF(OR($C20="Residential urban land",$C20="Commercial/industrial urban land",$C20="Open urban land",$C20="Greenspace",$C20="Community food growing",$C20="Woodland",$C20="Shrub",$C20="Water"),"|||"&$C20,(VLOOKUP($E$9,'Lookups'!$C$648:$D$656,2,FALSE)&"|"&$C20&"|"&VLOOKUP($E$12,'Lookups'!$C$670:$D$671,2,FALSE)&"|"&VLOOKUP($E$11,'Lookups'!$C$622:$E$644,3,FALSE)&"|"&VLOOKUP($E$10,'Lookups'!$C$661:$D$666,2,FALSE)))),'Lookups'!$H$94:$J$618,3,FALSE),_xlfn.IFERROR($D20*VLOOKUP(VLOOKUP($E$9,'Lookups'!$C$648:$E$656,3,FALSE)&"|"&$C20&"|"&VLOOKUP($E$12,'Lookups'!$C$670:$D$671,2,FALSE)&"|"&VLOOKUP($E$11,'Lookups'!$C$622:$E$644,3,FALSE)&"|"&VLOOKUP($E$10,'Lookups'!$C$661:$D$666,2,FALSE),'Lookups'!$H$355:$J$618,3,FALSE),"In the absence of real world data, this figure has been generated using the most relevant average nutrient reduction coefficient.")))
E21: =IF(OR(ISBLANK($C21),ISBLANK($D21),ISBLANK($E$10),ISBLANK($E$11)),"",_xlfn.IFERROR($D21*VLOOKUP((IF(OR($C21="Residential urban land",$C21="Commercial/industrial urban land",$C21="Open urban land",$C21="Greenspace",$C21="Community food growing",$C21="Woodland",$C21="Shrub",$C21="Water"),"|||"&$C21,(VLOOKUP($E$9,'Lookups'!$C$648:$D$656,2,FALSE)&"|"&$C21&"|"&VLOOKUP($E$12,'Lookups'!$C$670:$D$671,2,FALSE)&"|"&VLOOKUP($E$11,'Lookups'!$C$622:$E$644,3,FALSE)&"|"&VLOOKUP($E$10,'Lookups'!$C$661:$D$666,2,FALSE)))),'Lookups'!$H$94:$J$618,3,FALSE),_xlfn.IFERROR(_xlfn.IFERROR($D21*VLOOKUP(VLOOKUP($E$9,'Lookups'!$C$648:$E$656,3,FALSE)&"|"&$C21&"|"&VLOOKUP($E$12,'Lookups'!$C$670:$D$671,2,FALSE)&"|"&VLOOKUP($E$11,'Lookups'!$C$622:$E$644,3,FALSE)&"|"&VLOOKUP($E$10,'Lookups'!$C$661:$D$666,2,FALSE),'Lookups'!$H$355:$J$618,3,FALSE),_xlfn.IFERROR($D21*VLOOKUP(VLOOKUP($E$9,'Lookups'!$C$648:$E$656,3,FALSE)&"|"&$C21&"|"&"TRUE"&"|"&VLOOKUP($E$11,'Lookups'!$C$622:$E$644,3,FALSE)&"|"&VLOOKUP($E$10,'Lookups'!$C$661:$D$666,2,FALSE),'Lookups'!$H$355:$J$618,3,FALSE),$D21*VLOOKUP(VLOOKUP($E$9,'Lookups'!$C$648:$E$656,3,FALSE)&"|"&$C21&"|"&VLOOKUP($E$12,'Lookups'!$C$670:$D$671,2,FALSE)&"|"&VLOOKUP($E$11,'Lookups'!$C$622:$E$644,3,FALSE)&"|"&"DrainedArGr",'Lookups'!$H$355:$J$618,3,FALSE))),_xlfn.IFERROR($D21*VLOOKUP($C21&"|"&VLOOKUP($E$11,'Lookups'!$C$622:$E$644,3,FALSE),'Lookups'!$K$94:$M$610,3,FALSE),$D21*VLOOKUP($C21,'Lookups'!$D$94:$O$610,12,FALSE))))) | G21: =IF(OR(ISBLANK($C21),ISBLANK($D21),ISBLANK($E$10),ISBLANK($E$9),ISBLANK($E$11)),"",_xlfn.IFERROR($D21*VLOOKUP((IF(OR($C21="Residential urban land",$C21="Commercial/industrial urban land",$C21="Open urban land",$C21="Greenspace",$C21="Community food growing",$C21="Woodland",$C21="Shrub",$C21="Water"),"|||"&$C21,(VLOOKUP($E$9,'Lookups'!$C$648:$D$656,2,FALSE)&"|"&$C21&"|"&VLOOKUP($E$12,'Lookups'!$C$670:$D$671,2,FALSE)&"|"&VLOOKUP($E$11,'Lookups'!$C$622:$E$644,3,FALSE)&"|"&VLOOKUP($E$10,'Lookups'!$C$661:$D$666,2,FALSE)))),'Lookups'!$H$94:$J$618,3,FALSE),_xlfn.IFERROR($D21*VLOOKUP(VLOOKUP($E$9,'Lookups'!$C$648:$E$656,3,FALSE)&"|"&$C21&"|"&VLOOKUP($E$12,'Lookups'!$C$670:$D$671,2,FALSE)&"|"&VLOOKUP($E$11,'Lookups'!$C$622:$E$644,3,FALSE)&"|"&VLOOKUP($E$10,'Lookups'!$C$661:$D$666,2,FALSE),'Lookups'!$H$355:$J$618,3,FALSE),"In the absence of real world data, this figure has been generated using the most relevant average nutrient reduction coefficient.")))
E22: =IF(OR(ISBLANK($C22),ISBLANK($D22),ISBLANK($E$10),ISBLANK($E$11)),"",_xlfn.IFERROR($D22*VLOOKUP((IF(OR($C22="Residential urban land",$C22="Commercial/industrial urban land",$C22="Open urban land",$C22="Greenspace",$C22="Community food growing",$C22="Woodland",$C22="Shrub",$C22="Water"),"|||"&$C22,(VLOOKUP($E$9,'Lookups'!$C$648:$D$656,2,FALSE)&"|"&$C22&"|"&VLOOKUP($E$12,'Lookups'!$C$670:$D$671,2,FALSE)&"|"&VLOOKUP($E$11,'Lookups'!$C$622:$E$644,3,FALSE)&"|"&VLOOKUP($E$10,'Lookups'!$C$661:$D$666,2,FALSE)))),'Lookups'!$H$94:$J$618,3,FALSE),_xlfn.IFERROR(_xlfn.IFERROR($D22*VLOOKUP(VLOOKUP($E$9,'Lookups'!$C$648:$E$656,3,FALSE)&"|"&$C22&"|"&VLOOKUP($E$12,'Lookups'!$C$670:$D$671,2,FALSE)&"|"&VLOOKUP($E$11,'Lookups'!$C$622:$E$644,3,FALSE)&"|"&VLOOKUP($E$10,'Lookups'!$C$661:$D$666,2,FALSE),'Lookups'!$H$355:$J$618,3,FALSE),_xlfn.IFERROR($D22*VLOOKUP(VLOOKUP($E$9,'Lookups'!$C$648:$E$656,3,FALSE)&"|"&$C22&"|"&"TRUE"&"|"&VLOOKUP($E$11,'Lookups'!$C$622:$E$644,3,FALSE)&"|"&VLOOKUP($E$10,'Lookups'!$C$661:$D$666,2,FALSE),'Lookups'!$H$355:$J$618,3,FALSE),$D22*VLOOKUP(VLOOKUP($E$9,'Lookups'!$C$648:$E$656,3,FALSE)&"|"&$C22&"|"&VLOOKUP($E$12,'Lookups'!$C$670:$D$671,2,FALSE)&"|"&VLOOKUP($E$11,'Lookups'!$C$622:$E$644,3,FALSE)&"|"&"DrainedArGr",'Lookups'!$H$355:$J$618,3,FALSE))),_xlfn.IFERROR($D22*VLOOKUP($C22&"|"&VLOOKUP($E$11,'Lookups'!$C$622:$E$644,3,FALSE),'Lookups'!$K$94:$M$610,3,FALSE),$D22*VLOOKUP($C22,'Lookups'!$D$94:$O$610,12,FALSE))))) | G22: =IF(OR(ISBLANK($C22),ISBLANK($D22),ISBLANK($E$10),ISBLANK($E$9),ISBLANK($E$11)),"",_xlfn.IFERROR($D22*VLOOKUP((IF(OR($C22="Residential urban land",$C22="Commercial/industrial urban land",$C22="Open urban land",$C22="Greenspace",$C22="Community food growing",$C22="Woodland",$C22="Shrub",$C22="Water"),"|||"&$C22,(VLOOKUP($E$9,'Lookups'!$C$648:$D$656,2,FALSE)&"|"&$C22&"|"&VLOOKUP($E$12,'Lookups'!$C$670:$D$671,2,FALSE)&"|"&VLOOKUP($E$11,'Lookups'!$C$622:$E$644,3,FALSE)&"|"&VLOOKUP($E$10,'Lookups'!$C$661:$D$666,2,FALSE)))),'Lookups'!$H$94:$J$618,3,FALSE),_xlfn.IFERROR($D22*VLOOKUP(VLOOKUP($E$9,'Lookups'!$C$648:$E$656,3,FALSE)&"|"&$C22&"|"&VLOOKUP($E$12,'Lookups'!$C$670:$D$671,2,FALSE)&"|"&VLOOKUP($E$11,'Lookups'!$C$622:$E$644,3,FALSE)&"|"&VLOOKUP($E$10,'Lookups'!$C$661:$D$666,2,FALSE),'Lookups'!$H$355:$J$618,3,FALSE),"In the absence of real world data, this figure has been generated using the most relevant average nutrient reduction coefficient.")))
E23: =IF(OR(ISBLANK($C23),ISBLANK($D23),ISBLANK($E$10),ISBLANK($E$11)),"",_xlfn.IFERROR($D23*VLOOKUP((IF(OR($C23="Residential urban land",$C23="Commercial/industrial urban land",$C23="Open urban land",$C23="Greenspace",$C23="Community food growing",$C23="Woodland",$C23="Shrub",$C23="Water"),"|||"&$C23,(VLOOKUP($E$9,'Lookups'!$C$648:$D$656,2,FALSE)&"|"&$C23&"|"&VLOOKUP($E$12,'Lookups'!$C$670:$D$671,2,FALSE)&"|"&VLOOKUP($E$11,'Lookups'!$C$622:$E$644,3,FALSE)&"|"&VLOOKUP($E$10,'Lookups'!$C$661:$D$666,2,FALSE)))),'Lookups'!$H$94:$J$618,3,FALSE),_xlfn.IFERROR(_xlfn.IFERROR($D23*VLOOKUP(VLOOKUP($E$9,'Lookups'!$C$648:$E$656,3,FALSE)&"|"&$C23&"|"&VLOOKUP($E$12,'Lookups'!$C$670:$D$671,2,FALSE)&"|"&VLOOKUP($E$11,'Lookups'!$C$622:$E$644,3,FALSE)&"|"&VLOOKUP($E$10,'Lookups'!$C$661:$D$666,2,FALSE),'Lookups'!$H$355:$J$618,3,FALSE),_xlfn.IFERROR($D23*VLOOKUP(VLOOKUP($E$9,'Lookups'!$C$648:$E$656,3,FALSE)&"|"&$C23&"|"&"TRUE"&"|"&VLOOKUP($E$11,'Lookups'!$C$622:$E$644,3,FALSE)&"|"&VLOOKUP($E$10,'Lookups'!$C$661:$D$666,2,FALSE),'Lookups'!$H$355:$J$618,3,FALSE),$D23*VLOOKUP(VLOOKUP($E$9,'Lookups'!$C$648:$E$656,3,FALSE)&"|"&$C23&"|"&VLOOKUP($E$12,'Lookups'!$C$670:$D$671,2,FALSE)&"|"&VLOOKUP($E$11,'Lookups'!$C$622:$E$644,3,FALSE)&"|"&"DrainedArGr",'Lookups'!$H$355:$J$618,3,FALSE))),_xlfn.IFERROR($D23*VLOOKUP($C23&"|"&VLOOKUP($E$11,'Lookups'!$C$622:$E$644,3,FALSE),'Lookups'!$K$94:$M$610,3,FALSE),$D23*VLOOKUP($C23,'Lookups'!$D$94:$O$610,12,FALSE))))) | G23: =IF(OR(ISBLANK($C23),ISBLANK($D23),ISBLANK($E$10),ISBLANK($E$9),ISBLANK($E$11)),"",_xlfn.IFERROR($D23*VLOOKUP((IF(OR($C23="Residential urban land",$C23="Commercial/industrial urban land",$C23="Open urban land",$C23="Greenspace",$C23="Community food growing",$C23="Woodland",$C23="Shrub",$C23="Water"),"|||"&$C23,(VLOOKUP($E$9,'Lookups'!$C$648:$D$656,2,FALSE)&"|"&$C23&"|"&VLOOKUP($E$12,'Lookups'!$C$670:$D$671,2,FALSE)&"|"&VLOOKUP($E$11,'Lookups'!$C$622:$E$644,3,FALSE)&"|"&VLOOKUP($E$10,'Lookups'!$C$661:$D$666,2,FALSE)))),'Lookups'!$H$94:$J$618,3,FALSE),_xlfn.IFERROR($D23*VLOOKUP(VLOOKUP($E$9,'Lookups'!$C$648:$E$656,3,FALSE)&"|"&$C23&"|"&VLOOKUP($E$12,'Lookups'!$C$670:$D$671,2,FALSE)&"|"&VLOOKUP($E$11,'Lookups'!$C$622:$E$644,3,FALSE)&"|"&VLOOKUP($E$10,'Lookups'!$C$661:$D$666,2,FALSE),'Lookups'!$H$355:$J$618,3,FALSE),"In the absence of real world data, this figure has been generated using the most relevant average nutrient reduction coefficient.")))
E24: =IF(OR(ISBLANK($C24),ISBLANK($D24),ISBLANK($E$10),ISBLANK($E$11)),"",_xlfn.IFERROR($D24*VLOOKUP((IF(OR($C24="Residential urban land",$C24="Commercial/industrial urban land",$C24="Open urban land",$C24="Greenspace",$C24="Community food growing",$C24="Woodland",$C24="Shrub",$C24="Water"),"|||"&$C24,(VLOOKUP($E$9,'Lookups'!$C$648:$D$656,2,FALSE)&"|"&$C24&"|"&VLOOKUP($E$12,'Lookups'!$C$670:$D$671,2,FALSE)&"|"&VLOOKUP($E$11,'Lookups'!$C$622:$E$644,3,FALSE)&"|"&VLOOKUP($E$10,'Lookups'!$C$661:$D$666,2,FALSE)))),'Lookups'!$H$94:$J$618,3,FALSE),_xlfn.IFERROR(_xlfn.IFERROR($D24*VLOOKUP(VLOOKUP($E$9,'Lookups'!$C$648:$E$656,3,FALSE)&"|"&$C24&"|"&VLOOKUP($E$12,'Lookups'!$C$670:$D$671,2,FALSE)&"|"&VLOOKUP($E$11,'Lookups'!$C$622:$E$644,3,FALSE)&"|"&VLOOKUP($E$10,'Lookups'!$C$661:$D$666,2,FALSE),'Lookups'!$H$355:$J$618,3,FALSE),_xlfn.IFERROR($D24*VLOOKUP(VLOOKUP($E$9,'Lookups'!$C$648:$E$656,3,FALSE)&"|"&$C24&"|"&"TRUE"&"|"&VLOOKUP($E$11,'Lookups'!$C$622:$E$644,3,FALSE)&"|"&VLOOKUP($E$10,'Lookups'!$C$661:$D$666,2,FALSE),'Lookups'!$H$355:$J$618,3,FALSE),$D24*VLOOKUP(VLOOKUP($E$9,'Lookups'!$C$648:$E$656,3,FALSE)&"|"&$C24&"|"&VLOOKUP($E$12,'Lookups'!$C$670:$D$671,2,FALSE)&"|"&VLOOKUP($E$11,'Lookups'!$C$622:$E$644,3,FALSE)&"|"&"DrainedArGr",'Lookups'!$H$355:$J$618,3,FALSE))),_xlfn.IFERROR($D24*VLOOKUP($C24&"|"&VLOOKUP($E$11,'Lookups'!$C$622:$E$644,3,FALSE),'Lookups'!$K$94:$M$610,3,FALSE),$D24*VLOOKUP($C24,'Lookups'!$D$94:$O$610,12,FALSE))))) | G24: =IF(OR(ISBLANK($C24),ISBLANK($D24),ISBLANK($E$10),ISBLANK($E$9),ISBLANK($E$11)),"",_xlfn.IFERROR($D24*VLOOKUP((IF(OR($C24="Residential urban land",$C24="Commercial/industrial urban land",$C24="Open urban land",$C24="Greenspace",$C24="Community food growing",$C24="Woodland",$C24="Shrub",$C24="Water"),"|||"&$C24,(VLOOKUP($E$9,'Lookups'!$C$648:$D$656,2,FALSE)&"|"&$C24&"|"&VLOOKUP($E$12,'Lookups'!$C$670:$D$671,2,FALSE)&"|"&VLOOKUP($E$11,'Lookups'!$C$622:$E$644,3,FALSE)&"|"&VLOOKUP($E$10,'Lookups'!$C$661:$D$666,2,FALSE)))),'Lookups'!$H$94:$J$618,3,FALSE),_xlfn.IFERROR($D24*VLOOKUP(VLOOKUP($E$9,'Lookups'!$C$648:$E$656,3,FALSE)&"|"&$C24&"|"&VLOOKUP($E$12,'Lookups'!$C$670:$D$671,2,FALSE)&"|"&VLOOKUP($E$11,'Lookups'!$C$622:$E$644,3,FALSE)&"|"&VLOOKUP($E$10,'Lookups'!$C$661:$D$666,2,FALSE),'Lookups'!$H$355:$J$618,3,FALSE),"In the absence of real world data, this figure has been generated using the most relevant average nutrient reduction coefficient.")))
E25: =IF(OR(ISBLANK($C25),ISBLANK($D25),ISBLANK($E$10),ISBLANK($E$11)),"",_xlfn.IFERROR($D25*VLOOKUP((IF(OR($C25="Residential urban land",$C25="Commercial/industrial urban land",$C25="Open urban land",$C25="Greenspace",$C25="Community food growing",$C25="Woodland",$C25="Shrub",$C25="Water"),"|||"&$C25,(VLOOKUP($E$9,'Lookups'!$C$648:$D$656,2,FALSE)&"|"&$C25&"|"&VLOOKUP($E$12,'Lookups'!$C$670:$D$671,2,FALSE)&"|"&VLOOKUP($E$11,'Lookups'!$C$622:$E$644,3,FALSE)&"|"&VLOOKUP($E$10,'Lookups'!$C$661:$D$666,2,FALSE)))),'Lookups'!$H$94:$J$618,3,FALSE),_xlfn.IFERROR(_xlfn.IFERROR($D25*VLOOKUP(VLOOKUP($E$9,'Lookups'!$C$648:$E$656,3,FALSE)&"|"&$C25&"|"&VLOOKUP($E$12,'Lookups'!$C$670:$D$671,2,FALSE)&"|"&VLOOKUP($E$11,'Lookups'!$C$622:$E$644,3,FALSE)&"|"&VLOOKUP($E$10,'Lookups'!$C$661:$D$666,2,FALSE),'Lookups'!$H$355:$J$618,3,FALSE),_xlfn.IFERROR($D25*VLOOKUP(VLOOKUP($E$9,'Lookups'!$C$648:$E$656,3,FALSE)&"|"&$C25&"|"&"TRUE"&"|"&VLOOKUP($E$11,'Lookups'!$C$622:$E$644,3,FALSE)&"|"&VLOOKUP($E$10,'Lookups'!$C$661:$D$666,2,FALSE),'Lookups'!$H$355:$J$618,3,FALSE),$D25*VLOOKUP(VLOOKUP($E$9,'Lookups'!$C$648:$E$656,3,FALSE)&"|"&$C25&"|"&VLOOKUP($E$12,'Lookups'!$C$670:$D$671,2,FALSE)&"|"&VLOOKUP($E$11,'Lookups'!$C$622:$E$644,3,FALSE)&"|"&"DrainedArGr",'Lookups'!$H$355:$J$618,3,FALSE))),_xlfn.IFERROR($D25*VLOOKUP($C25&"|"&VLOOKUP($E$11,'Lookups'!$C$622:$E$644,3,FALSE),'Lookups'!$K$94:$M$610,3,FALSE),$D25*VLOOKUP($C25,'Lookups'!$D$94:$O$610,12,FALSE))))) | G25: =IF(OR(ISBLANK($C25),ISBLANK($D25),ISBLANK($E$10),ISBLANK($E$9),ISBLANK($E$11)),"",_xlfn.IFERROR($D25*VLOOKUP((IF(OR($C25="Residential urban land",$C25="Commercial/industrial urban land",$C25="Open urban land",$C25="Greenspace",$C25="Community food growing",$C25="Woodland",$C25="Shrub",$C25="Water"),"|||"&$C25,(VLOOKUP($E$9,'Lookups'!$C$648:$D$656,2,FALSE)&"|"&$C25&"|"&VLOOKUP($E$12,'Lookups'!$C$670:$D$671,2,FALSE)&"|"&VLOOKUP($E$11,'Lookups'!$C$622:$E$644,3,FALSE)&"|"&VLOOKUP($E$10,'Lookups'!$C$661:$D$666,2,FALSE)))),'Lookups'!$H$94:$J$618,3,FALSE),_xlfn.IFERROR($D25*VLOOKUP(VLOOKUP($E$9,'Lookups'!$C$648:$E$656,3,FALSE)&"|"&$C25&"|"&VLOOKUP($E$12,'Lookups'!$C$670:$D$671,2,FALSE)&"|"&VLOOKUP($E$11,'Lookups'!$C$622:$E$644,3,FALSE)&"|"&VLOOKUP($E$10,'Lookups'!$C$661:$D$666,2,FALSE),'Lookups'!$H$355:$J$618,3,FALSE),"In the absence of real world data, this figure has been generated using the most relevant average nutrient reduction coefficient.")))
E26: =IF(OR(ISBLANK($C26),ISBLANK($D26),ISBLANK($E$10),ISBLANK($E$11)),"",_xlfn.IFERROR($D26*VLOOKUP((IF(OR($C26="Residential urban land",$C26="Commercial/industrial urban land",$C26="Open urban land",$C26="Greenspace",$C26="Community food growing",$C26="Woodland",$C26="Shrub",$C26="Water"),"|||"&$C26,(VLOOKUP($E$9,'Lookups'!$C$648:$D$656,2,FALSE)&"|"&$C26&"|"&VLOOKUP($E$12,'Lookups'!$C$670:$D$671,2,FALSE)&"|"&VLOOKUP($E$11,'Lookups'!$C$622:$E$644,3,FALSE)&"|"&VLOOKUP($E$10,'Lookups'!$C$661:$D$666,2,FALSE)))),'Lookups'!$H$94:$J$618,3,FALSE),_xlfn.IFERROR(_xlfn.IFERROR($D26*VLOOKUP(VLOOKUP($E$9,'Lookups'!$C$648:$E$656,3,FALSE)&"|"&$C26&"|"&VLOOKUP($E$12,'Lookups'!$C$670:$D$671,2,FALSE)&"|"&VLOOKUP($E$11,'Lookups'!$C$622:$E$644,3,FALSE)&"|"&VLOOKUP($E$10,'Lookups'!$C$661:$D$666,2,FALSE),'Lookups'!$H$355:$J$618,3,FALSE),_xlfn.IFERROR($D26*VLOOKUP(VLOOKUP($E$9,'Lookups'!$C$648:$E$656,3,FALSE)&"|"&$C26&"|"&"TRUE"&"|"&VLOOKUP($E$11,'Lookups'!$C$622:$E$644,3,FALSE)&"|"&VLOOKUP($E$10,'Lookups'!$C$661:$D$666,2,FALSE),'Lookups'!$H$355:$J$618,3,FALSE),$D26*VLOOKUP(VLOOKUP($E$9,'Lookups'!$C$648:$E$656,3,FALSE)&"|"&$C26&"|"&VLOOKUP($E$12,'Lookups'!$C$670:$D$671,2,FALSE)&"|"&VLOOKUP($E$11,'Lookups'!$C$622:$E$644,3,FALSE)&"|"&"DrainedArGr",'Lookups'!$H$355:$J$618,3,FALSE))),_xlfn.IFERROR($D26*VLOOKUP($C26&"|"&VLOOKUP($E$11,'Lookups'!$C$622:$E$644,3,FALSE),'Lookups'!$K$94:$M$610,3,FALSE),$D26*VLOOKUP($C26,'Lookups'!$D$94:$O$610,12,FALSE))))) | G26: =IF(OR(ISBLANK($C26),ISBLANK($D26),ISBLANK($E$10),ISBLANK($E$9),ISBLANK($E$11)),"",_xlfn.IFERROR($D26*VLOOKUP((IF(OR($C26="Residential urban land",$C26="Commercial/industrial urban land",$C26="Open urban land",$C26="Greenspace",$C26="Community food growing",$C26="Woodland",$C26="Shrub",$C26="Water"),"|||"&$C26,(VLOOKUP($E$9,'Lookups'!$C$648:$D$656,2,FALSE)&"|"&$C26&"|"&VLOOKUP($E$12,'Lookups'!$C$670:$D$671,2,FALSE)&"|"&VLOOKUP($E$11,'Lookups'!$C$622:$E$644,3,FALSE)&"|"&VLOOKUP($E$10,'Lookups'!$C$661:$D$666,2,FALSE)))),'Lookups'!$H$94:$J$618,3,FALSE),_xlfn.IFERROR($D26*VLOOKUP(VLOOKUP($E$9,'Lookups'!$C$648:$E$656,3,FALSE)&"|"&$C26&"|"&VLOOKUP($E$12,'Lookups'!$C$670:$D$671,2,FALSE)&"|"&VLOOKUP($E$11,'Lookups'!$C$622:$E$644,3,FALSE)&"|"&VLOOKUP($E$10,'Lookups'!$C$661:$D$666,2,FALSE),'Lookups'!$H$355:$J$618,3,FALSE),"In the absence of real world data, this figure has been generated using the most relevant average nutrient reduction coefficient.")))
E27: =IF(OR(ISBLANK($C27),ISBLANK($D27),ISBLANK($E$10),ISBLANK($E$11)),"",_xlfn.IFERROR($D27*VLOOKUP((IF(OR($C27="Residential urban land",$C27="Commercial/industrial urban land",$C27="Open urban land",$C27="Greenspace",$C27="Community food growing",$C27="Woodland",$C27="Shrub",$C27="Water"),"|||"&$C27,(VLOOKUP($E$9,'Lookups'!$C$648:$D$656,2,FALSE)&"|"&$C27&"|"&VLOOKUP($E$12,'Lookups'!$C$670:$D$671,2,FALSE)&"|"&VLOOKUP($E$11,'Lookups'!$C$622:$E$644,3,FALSE)&"|"&VLOOKUP($E$10,'Lookups'!$C$661:$D$666,2,FALSE)))),'Lookups'!$H$94:$J$618,3,FALSE),_xlfn.IFERROR(_xlfn.IFERROR($D27*VLOOKUP(VLOOKUP($E$9,'Lookups'!$C$648:$E$656,3,FALSE)&"|"&$C27&"|"&VLOOKUP($E$12,'Lookups'!$C$670:$D$671,2,FALSE)&"|"&VLOOKUP($E$11,'Lookups'!$C$622:$E$644,3,FALSE)&"|"&VLOOKUP($E$10,'Lookups'!$C$661:$D$666,2,FALSE),'Lookups'!$H$355:$J$618,3,FALSE),_xlfn.IFERROR($D27*VLOOKUP(VLOOKUP($E$9,'Lookups'!$C$648:$E$656,3,FALSE)&"|"&$C27&"|"&"TRUE"&"|"&VLOOKUP($E$11,'Lookups'!$C$622:$E$644,3,FALSE)&"|"&VLOOKUP($E$10,'Lookups'!$C$661:$D$666,2,FALSE),'Lookups'!$H$355:$J$618,3,FALSE),$D27*VLOOKUP(VLOOKUP($E$9,'Lookups'!$C$648:$E$656,3,FALSE)&"|"&$C27&"|"&VLOOKUP($E$12,'Lookups'!$C$670:$D$671,2,FALSE)&"|"&VLOOKUP($E$11,'Lookups'!$C$622:$E$644,3,FALSE)&"|"&"DrainedArGr",'Lookups'!$H$355:$J$618,3,FALSE))),_xlfn.IFERROR($D27*VLOOKUP($C27&"|"&VLOOKUP($E$11,'Lookups'!$C$622:$E$644,3,FALSE),'Lookups'!$K$94:$M$610,3,FALSE),$D27*VLOOKUP($C27,'Lookups'!$D$94:$O$610,12,FALSE))))) | G27: =IF(OR(ISBLANK($C27),ISBLANK($D27),ISBLANK($E$10),ISBLANK($E$9),ISBLANK($E$11)),"",_xlfn.IFERROR($D27*VLOOKUP((IF(OR($C27="Residential urban land",$C27="Commercial/industrial urban land",$C27="Open urban land",$C27="Greenspace",$C27="Community food growing",$C27="Woodland",$C27="Shrub",$C27="Water"),"|||"&$C27,(VLOOKUP($E$9,'Lookups'!$C$648:$D$656,2,FALSE)&"|"&$C27&"|"&VLOOKUP($E$12,'Lookups'!$C$670:$D$671,2,FALSE)&"|"&VLOOKUP($E$11,'Lookups'!$C$622:$E$644,3,FALSE)&"|"&VLOOKUP($E$10,'Lookups'!$C$661:$D$666,2,FALSE)))),'Lookups'!$H$94:$J$618,3,FALSE),_xlfn.IFERROR($D27*VLOOKUP(VLOOKUP($E$9,'Lookups'!$C$648:$E$656,3,FALSE)&"|"&$C27&"|"&VLOOKUP($E$12,'Lookups'!$C$670:$D$671,2,FALSE)&"|"&VLOOKUP($E$11,'Lookups'!$C$622:$E$644,3,FALSE)&"|"&VLOOKUP($E$10,'Lookups'!$C$661:$D$666,2,FALSE),'Lookups'!$H$355:$J$618,3,FALSE),"In the absence of real world data, this figure has been generated using the most relevant average nutrient reduction coefficient.")))
E28: =IF(OR(ISBLANK($C28),ISBLANK($D28),ISBLANK($E$10),ISBLANK($E$11)),"",_xlfn.IFERROR($D28*VLOOKUP((IF(OR($C28="Residential urban land",$C28="Commercial/industrial urban land",$C28="Open urban land",$C28="Greenspace",$C28="Community food growing",$C28="Woodland",$C28="Shrub",$C28="Water"),"|||"&$C28,(VLOOKUP($E$9,'Lookups'!$C$648:$D$656,2,FALSE)&"|"&$C28&"|"&VLOOKUP($E$12,'Lookups'!$C$670:$D$671,2,FALSE)&"|"&VLOOKUP($E$11,'Lookups'!$C$622:$E$644,3,FALSE)&"|"&VLOOKUP($E$10,'Lookups'!$C$661:$D$666,2,FALSE)))),'Lookups'!$H$94:$J$618,3,FALSE),_xlfn.IFERROR(_xlfn.IFERROR($D28*VLOOKUP(VLOOKUP($E$9,'Lookups'!$C$648:$E$656,3,FALSE)&"|"&$C28&"|"&VLOOKUP($E$12,'Lookups'!$C$670:$D$671,2,FALSE)&"|"&VLOOKUP($E$11,'Lookups'!$C$622:$E$644,3,FALSE)&"|"&VLOOKUP($E$10,'Lookups'!$C$661:$D$666,2,FALSE),'Lookups'!$H$355:$J$618,3,FALSE),_xlfn.IFERROR($D28*VLOOKUP(VLOOKUP($E$9,'Lookups'!$C$648:$E$656,3,FALSE)&"|"&$C28&"|"&"TRUE"&"|"&VLOOKUP($E$11,'Lookups'!$C$622:$E$644,3,FALSE)&"|"&VLOOKUP($E$10,'Lookups'!$C$661:$D$666,2,FALSE),'Lookups'!$H$355:$J$618,3,FALSE),$D28*VLOOKUP(VLOOKUP($E$9,'Lookups'!$C$648:$E$656,3,FALSE)&"|"&$C28&"|"&VLOOKUP($E$12,'Lookups'!$C$670:$D$671,2,FALSE)&"|"&VLOOKUP($E$11,'Lookups'!$C$622:$E$644,3,FALSE)&"|"&"DrainedArGr",'Lookups'!$H$355:$J$618,3,FALSE))),_xlfn.IFERROR($D28*VLOOKUP($C28&"|"&VLOOKUP($E$11,'Lookups'!$C$622:$E$644,3,FALSE),'Lookups'!$K$94:$M$610,3,FALSE),$D28*VLOOKUP($C28,'Lookups'!$D$94:$O$610,12,FALSE))))) | G28: =IF(OR(ISBLANK($C28),ISBLANK($D28),ISBLANK($E$10),ISBLANK($E$9),ISBLANK($E$11)),"",_xlfn.IFERROR($D28*VLOOKUP((IF(OR($C28="Residential urban land",$C28="Commercial/industrial urban land",$C28="Open urban land",$C28="Greenspace",$C28="Community food growing",$C28="Woodland",$C28="Shrub",$C28="Water"),"|||"&$C28,(VLOOKUP($E$9,'Lookups'!$C$648:$D$656,2,FALSE)&"|"&$C28&"|"&VLOOKUP($E$12,'Lookups'!$C$670:$D$671,2,FALSE)&"|"&VLOOKUP($E$11,'Lookups'!$C$622:$E$644,3,FALSE)&"|"&VLOOKUP($E$10,'Lookups'!$C$661:$D$666,2,FALSE)))),'Lookups'!$H$94:$J$618,3,FALSE),_xlfn.IFERROR($D28*VLOOKUP(VLOOKUP($E$9,'Lookups'!$C$648:$E$656,3,FALSE)&"|"&$C28&"|"&VLOOKUP($E$12,'Lookups'!$C$670:$D$671,2,FALSE)&"|"&VLOOKUP($E$11,'Lookups'!$C$622:$E$644,3,FALSE)&"|"&VLOOKUP($E$10,'Lookups'!$C$661:$D$666,2,FALSE),'Lookups'!$H$355:$J$618,3,FALSE),"In the absence of real world data, this figure has been generated using the most relevant average nutrient reduction coefficient.")))
... E31: =IF(OR(ISBLANK($C31),ISBLANK($D31),ISBLANK($E$10),ISBLANK($E$11)),"",_xlfn.IFERROR($D31*VLOOKUP((IF(OR($C31="Residential urban land",$C31="Commercial/industrial urban land",$C31="Open urban land",$C31="Greenspace",$C31="Community food growing",$C31="Woodland",$C31="Shrub",$C31="Water"),"|||"&$C31,(VLOOKUP($E$9,'Lookups'!$C$648:$D$656,2,FALSE)&"|"&$C31&"|"&VLOOKUP($E$12,'Lookups'!$C$670:$D$671,2,FALSE)&"|"&VLOOKUP($E$11,'Lookups'!$C$622:$E$644,3,FALSE)&"|"&VLOOKUP($E$10,'Lookups'!$C$661:$D$666,2,FALSE)))),'Lookups'!$H$94:$J$618,3,FALSE),_xlfn.IFERROR(_xlfn.IFERROR($D31*VLOOKUP(VLOOKUP($E$9,'Lookups'!$C$648:$E$656,3,FALSE)&"|"&$C31&"|"&VLOOKUP($E$12,'Lookups'!$C$670:$D$671,2,FALSE)&"|"&VLOOKUP($E$11,'Lookups'!$C$622:$E$644,3,FALSE)&"|"&VLOOKUP($E$10,'Lookups'!$C$661:$D$666,2,FALSE),'Lookups'!$H$355:$J$618,3,FALSE),_xlfn.IFERROR($D31*VLOOKUP(VLOOKUP($E$9,'Lookups'!$C$648:$E$656,3,FALSE)&"|"&$C31&"|"&"TRUE"&"|"&VLOOKUP($E$11,'Lookups'!$C$622:$E$644,3,FALSE)&"|"&VLOOKUP($E$10,'Lookups'!$C$661:$D$666,2,FALSE),'Lookups'!$H$355:$J$618,3,FALSE),$D31*VLOOKUP(VLOOKUP($E$9,'Lookups'!$C$648:$E$656,3,FALSE)&"|"&$C31&"|"&VLOOKUP($E$12,'Lookups'!$C$670:$D$671,2,FALSE)&"|"&VLOOKUP($E$11,'Lookups'!$C$622:$E$644,3,FALSE)&"|"&"DrainedArGr",'Lookups'!$H$355:$J$618,3,FALSE))),_xlfn.IFERROR($D31*VLOOKUP($C31&"|"&VLOOKUP($E$11,'Lookups'!$C$622:$E$644,3,FALSE),'Lookups'!$K$94:$M$610,3,FALSE),$D31*VLOOKUP($C31,'Lookups'!$D$94:$O$610,12,FALSE))))) | G31: =IF(OR(ISBLANK($C31),ISBLANK($D31),ISBLANK($E$10),ISBLANK($E$9),ISBLANK($E$11)),"",_xlfn.IFERROR($D31*VLOOKUP((IF(OR($C31="Residential urban land",$C31="Commercial/industrial urban land",$C31="Open urban land",$C31="Greenspace",$C31="Community food growing",$C31="Woodland",$C31="Shrub",$C31="Water"),"|||"&$C31,(VLOOKUP($E$9,'Lookups'!$C$648:$D$656,2,FALSE)&"|"&$C31&"|"&VLOOKUP($E$12,'Lookups'!$C$670:$D$671,2,FALSE)&"|"&VLOOKUP($E$11,'Lookups'!$C$622:$E$644,3,FALSE)&"|"&VLOOKUP($E$10,'Lookups'!$C$661:$D$666,2,FALSE)))),'Lookups'!$H$94:$J$618,3,FALSE),_xlfn.IFERROR($D31*VLOOKUP(VLOOKUP($E$9,'Lookups'!$C$648:$E$656,3,FALSE)&"|"&$C31&"|"&VLOOKUP($E$12,'Lookups'!$C$670:$D$671,2,FALSE)&"|"&VLOOKUP($E$11,'Lookups'!$C$622:$E$644,3,FALSE)&"|"&VLOOKUP($E$10,'Lookups'!$C$661:$D$666,2,FALSE),'Lookups'!$H$355:$J$618,3,FALSE),"In the absence of real world data, this figure has been generated using the most relevant average nutrient reduction coefficient.")))
C32: Total: | D32: =SUM(D15:D31) -> 0.03 | E32: =SUM(E15:E31) -> 0.40525976

Sheet Stage 3
B3: Stage 3
C7: User Inputs
C9: New land use type(s) | D9: Area (ha) | E9: Annual nitrogen nutrient export (kg TN)
D10: 0.03 | E10: 0.41
C14: Residential urban land
C27: Total: | D27: =SUM(D10:D26) -> 0.03 | E27: =SUM(E10:E26) -> 0.41

Sheet Stage 4
B3: Stage 4
C7: Calculated Outputs
C11: N loading to WwTW: | D11: ='Stage 1'!D35 -> 0.78972894
C12: Net land use N change: | D12: ='Stage 3'!E27-'Stage 2'!E32 -> 0.0047402389
C13: N budget: | D13: =D11+D12 -> 0.79446918
C14: N budget + 20% buffer: | D14: =D13*1.2 -> 0.95336301
C16: =_xlfn.IFERROR(IF(AND('Stage 1'!$D$9<DATE(2025,1,1),OR((VLOOKUP('Stage 1'!$D$14,'Lookups'!$C$8:$G$88,2,FALSE))>(VLOOKUP('Stage 1'!$D$14,'Lookups'!$C$8:$G$88,4,FALSE)),(VLOOKUP('Stage 1'!$D$14,'Lookups'!$C$8:$G$88,3,FALSE))>(VLOOKUP('Stage 1'!$D$14,'Lookups'!$C$8:$G$88,5,FALSE)))),"Post-2025 Annual Nutrient Budget","Annual Nutrient Budget"),"") -> Annual Nutrient Budget | F16: =_xlfn.IFERROR(IF(AND('Stage 1'!$D$9<DATE(2025,1,1),OR((VLOOKUP('Stage 1'!$D$14,'Lookups'!$C$8:$G$88,2,FALSE))>(VLOOKUP('Stage 1'!$D$14,'Lookups'!$C$8:$G$88,4,FALSE)),(VLOOKUP('Stage 1'!$D$14,'Lookups'!$C$8:$G$88,3,FALSE))>(VLOOKUP('Stage 1'!$D$14,'Lookups'!$C$8:$G$88,5,FALSE)))),"Pre-2025 Annual Nutrient Budget",""),"")
C17: The total annual phosphorus load to mitigate is: | F17: =_xlfn.IFERROR(IF(AND('Stage 1'!$D$9<DATE(2025,1,1),OR((VLOOKUP('Stage 1'!$D$14,'Lookups'!$C$8:$G$88,2,FALSE))>(VLOOKUP('Stage 1'!$D$14,'Lookups'!$C$8:$G$88,4,FALSE)),(VLOOKUP('Stage 1'!$D$14,'Lookups'!$C$8:$G$88,3,FALSE))>(VLOOKUP('Stage 1'!$D$14,'Lookups'!$C$8:$G$88,5,FALSE)))),"The pre-2025 annual phosphorus load to mitigate is:",""),"")
C23: The total annual nitrogen load to mitigate is: | D23: =IF(ROUND(D14,2)<0,0&" kg TN/year",ROUND(D14,2)&" kg TN/year") -> 0.95 kg TN/year | G23: =_xlfn.IFERROR(IF(AND('Stage 1'!$D$9<DATE(2025,1,1),OR((VLOOKUP('Stage 1'!$D$14,'Lookups'!$C$8:$G$88,2,FALSE))>(VLOOKUP('Stage 1'!$D$14,'Lookups'!$C$8:$G$88,4,FALSE)),(VLOOKUP('Stage 1'!$D$14,'Lookups'!$C$8:$G$88,3,FALSE))>(VLOOKUP('Stage 1'!$D$14,'Lookups'!$C$8:$G$88,5,FALSE)))),IF(ROUND(('Stage 3'!E27-'Stage 2'!E32+'Stage 1'!H23)*1.2,2)<0,0&" kg TN/year",ROUND(('Stage 3'!E27-'Stage 2'!E32+'Stage 1'!H23)*1.2,2)&" kg TN/year"),""),"")
F24: =_xlfn.IFERROR(IF(AND('Stage 1'!$D$9<DATE(2025,1,1),OR((VLOOKUP('Stage 1'!$D$14,'Lookups'!$C$8:$G$88,2,FALSE))>(VLOOKUP('Stage 1'!$D$14,'Lookups'!$C$8:$G$88,4,FALSE)),(VLOOKUP('Stage 1'!$D$14,'Lookups'!$C$8:$G$88,3,FALSE))>(VLOOKUP('Stage 1'!$D$14,'Lookups'!$C$8:$G$88,5,FALSE)))),"The pre-2025 annual nitrogen load to mitigate is:",""),"")

Sheet Stage 4 (2)
B9: P loading to WwTW: | E9: Your final phosphorus budget is:
B10: Net land use P change: | H10: have pop up message if negative that says soemthing like "No P to mitigate
B11: P budget: | H11: =IF(C33<0,"Well done, you're in the clear…,""") -> FALSE
B12: P budget + 20% buffer: | H12: If positive have message similar to the right
B15: N loading to WwTW: | C15: ='Stage 1'!D35 -> 0.78972894 | E15: The total amount of nitrogen to mitigate is:
B16: Net land use N change: | C16: ='Stage 3'!E27-'Stage 2'!E32 -> 0.0047402389
B17: N budget: | C17: =C15+C16 -> 0.79446918
B18: N budget + 20% buffer: | C18: =C17*1.2 -> 0.95336301
C24: ='Stage 1'!D30 -> 0.78972894 | F24: =C33 -> 0.94767473
F29: =C18 -> 0.95336301
C30: =C24+C27 -> 0.78972894
C33: =C30*1.2 -> 0.94767473

Sheet Lookups
B2: Look Up Tables
C6: Table 1: Stage 1 WwTW lookup
C7: Discharge Site Name | D7: Nitrogen Total as N (mg/l) with deductible acceptable loading | E7: Nitrogen, Total as N (mg/l) | F7: Nitrogen Total as N (mg/l), permit post 2025 with deductible acceptable loading | G7: Nitrogen, Total as N (mg/l), permit post 2025
C8: Ashlett Creek WwTW | D8: 25 | E8: =D8+2 -> 27 | F8: 25 | G8: 27
C9: Arreton WwTW | D9: 25 | E9: =D9+2 -> 27 | F9: 25 | G9: 27
C10: Bank WwTW | D10: 25 | E10: =D10+2 -> 27 | F10: 25 | G10: =F10+2 -> 27
C11: Barn Close Ashmansworth WwTW | D11: 25 | E11: =D11+2 -> 27 | F11: 25 | G11: =F11+2 -> 27
C12: Barton Stacey WwTW | D12: 25 | E12: =D12+2 -> 27 | F12: 25 | G12: =F12+2 -> 27
C13: Beaulieu Hummicks WwTW | D13: 25 | E13: =D13+2 -> 27 | F13: 25 | G13: =F13+2 -> 27
C14: Beaulieu Village WwTW | D14: 25 | E14: =D14+2 -> 27 | F14: 25 | G14: =F14+2 -> 27
C15: Bishops Waltham WwTW | D15: 13 | E15: =D15+2 -> 15 | F15: 13 | G15: =F15+2 -> 15
C16: Blackwater S.T.W. | D16: 25 | E16: =D16+2 -> 27 | F16: 25 | G16: =F16+2 -> 27
C17: Boldre WwTW | D17: 25 | E17: =D17+2 -> 27 | F17: 25 | G17: =F17+2 -> 27
C18: Bosham WwTW | D18: 8 | E18: =D18+2 -> 10 | F18: 8 | G18: =F18+2 -> 10
C19: Brockenhurst WwTW | D19: 25 | E19: =D19+2 -> 27 | F19: 25 | G19: =F19+2 -> 27
C20: Budds Farm WwTW | D20: 7.7 | E20: =D20+2 -> 9.7 | F20: 7.7 | G20: =F20+2 -> 9.7
C21: Calbourne WwTW | D21: 25 | E21: =D21+2 -> 27 | F21: 25 | G21: =F21+2 -> 27
... C85: Woolston WwTW | D85: 13 | E85: =D85+2 -> 15 | F85: 13 | G85: =F85+2 -> 15
C86: Wroxall WwTW | D86: 25 | E86: 27 | F86: 25 | G86: 27
C87: Package Treatment Plant default | D87: 70.9 | E87: =D87+2 -> 72.9 | F87: 70.9 | G87: =F87+2 -> 72.9
C88: Septic Tank default | D88: 94.3 | E88: =D88+2 -> 96.3 | F88: 94.3 | G88: =F88+2 -> 96.3
C89: Package Treatment Plant user defined
C90: Septic Tank user defined
C92: Table 2: Stage 2 and 3 Landcover lookup
C93: Catchment | D93: Farmscoper Farm Term | E93: NVZ | F93: Climate | G93: Farmscoper Soil Drainage Term | H93: Lookup | I93: Phosphorus export coefficient | J93: Nitrogen export coefficient | K93: Farm Lookup | L93: Mean P export of farm type and climate combination | M93: Mean N export of farm type and climate combination | N93: Mean P export of farm type | O93: Mean N export of farm type
C94: East Hampshire Rivers | D94: Cereals | E94: FALSE | F94: 700to900 | G94: FreeDrain | H94: =C94&"|"&D94&"|"&E94&"|"&F94&"|"&G94 -> East Hampshire Rivers|Cereals|FALSE|700to900|FreeDrain | I94: 0.11454703 | J94: 27.988219 | K94: =D94&"|"&F94&"" -> Cereals|700to900 | L94: =AVERAGE(I94,I96,I98) -> 0.56822387 | M94: =AVERAGE(J94,J96,J98) -> 23.246217 | N94: =AVERAGE(I94:I100) -> 0.51566841 | O94: =AVERAGE(J94:J100) -> 24.132631
C95: East Hampshire Rivers | D95: Cereals | E95: TRUE | F95: 700to900 | G95: FreeDrain | H95: =C95&"|"&D95&"|"&E95&"|"&F95&"|"&G95 -> East Hampshire Rivers|Cereals|TRUE|700to900|FreeDrain | I95: 0.11454257 | J95: 27.896799 | K95: =D95&"|"&F95&"" -> Cereals|700to900
C96: East Hampshire Rivers | D96: Cereals | E96: FALSE | F96: 700to900 | G96: DrainedAr | H96: =C96&"|"&D96&"|"&E96&"|"&F96&"|"&G96 -> East Hampshire Rivers|Cereals|FALSE|700to900|DrainedAr | I96: 0.67105042 | J96: 21.57875 | K96: =D96&"|"&F96&"" -> Cereals|700to900
C97: East Hampshire Rivers | D97: Cereals | E97: TRUE | F97: 700to900 | G97: DrainedAr | H97: =C97&"|"&D97&"|"&E97&"|"&F97&"|"&G97 -> East Hampshire Rivers|Cereals|TRUE|700to900|DrainedAr | I97: 0.67101051 | J97: 21.516613 | K97: =D97&"|"&F97&"" -> Cereals|700to900
