Workbook

Sheet Front page
E12: BREEAM Credit TRACKER
E14: HSDC - Havant College
E23: For and on behalf of C80 Solutions
E25: =TODAY() -> 45170

Sheet Introduction
B2: INTRODUCTION
B3: This report provides a record of all the BREEAM evidence submitted by each member of the Design Team to date. Each credit is listed with a short description, please refer to the appropriate BREEAM manual or contact the assessor for more detailed requirements and evidence needed for each credit. The Design Team member who is responsible for providing the supporting evidence to the assessor is listed in the following tables. Evidence which is highlighted BOLD in the "Evidence" column is deemed to be specific evidence and must be submitted to award the associated credit(s). Evidence that has been submitted to the assessor will be highlighted according to the 'Status' of the information (see below).
B5: Key:
C6: For credit which information is satisfactory and does not require further action.
C7: For credit which requires further submission of information either because evidence is insufficient or incorrect
C8: For credit which require submission of information
C9: Credit requires action at early design stages (RIBA Stage 2)
C10: Requirement is a pre-requisite and MUST be comlpeted
C11: Credit not sought

Sheet Summary
B3: HSDC - Havant College
B7: Address: | C7: Havant College
B12: Post Code:
B14: BREEAM Scope: | C14: UK NC V6
B16: Target Rating: | C16: Very Good
B18: Fit-out Type: | C18: Fully Fitted
B21: BREEAM Section | C21: Total Section Weighting | D21: Target Score | E21: Credits Available | F21: % of Credits Targeted | G21: Target Section Score | H21: Design Credits Achieved | I21: PCR Credits Achieved | J21: Credits Available | K21: % of Design Credits Achieved | L21: % of PCR Credits Achieved | M21: Design Section Score | N21: PCR Section Score | O21: Potential Extra Credits
B22: Management | C22: 0.11 | D22: ='Man Management'!H24 -> 14 | E22: ='Man Management'!G24 -> 21 | F22: =D22/E22 -> 0.66666667 | G22: =TRUNC(IFERROR(F22*C22,0),4) -> 0.0733 | H22: =IF('Man Management'!$I$24="Check Data","Check",'Man Management'!$I$24) -> 0 | I22: =IF('Man Management'!$J$24="Check Data","Check",'Man Management'!$J$24) -> 0 | J22: ='Man Management'!$G$24 -> 21 | K22: =H22/$J22 -> 0 | L22: =I22/$J22 -> 0 | M22: =TRUNC(IFERROR(K22*C22,0),4) -> 0 | N22: =TRUNC(IFERROR(L22*C22,0),4) -> 0 | O22: =C22*('Man Management'!K24/'Man Management'!G24) -> 0 | P22: =C22/E22 -> 0.0052380952
B23: Health & Wellbeing | C23: =0.14 -> 0.14 | D23: ='Hea Health & wellbeing'!H24 -> 12 | E23: ='Hea Health & wellbeing'!G24 -> 18 | F23: =D23/E23 -> 0.66666667 | G23: =TRUNC(IFERROR(F23*C23,0),4) -> 0.0933 | H23: ='Hea Health & wellbeing'!I24 -> 0 | I23: ='Hea Health & wellbeing'!J24 -> 0 | J23: ='Hea Health & wellbeing'!G24 -> 18 | K23: =H23/J23 -> 0 | L23: =I23/$J23 -> 0 | M23: =TRUNC(IFERROR(K23*C23,0),4) -> 0 | N23: =TRUNC(IFERROR(L23*C23,0),4) -> 0 | O23: =C23*('Hea Health & wellbeing'!K24/'Hea Health & wellbeing'!G24) -> 0 | P23: =C23/E23 -> 0.0077777778
B24: Energy | C24: =0.16 -> 0.16 | D24: ='Ene Energy'!I21 -> 12 | E24: ='Ene Energy'!H21 -> 21 | F24: =D24/E24 -> 0.57142857 | G24: =TRUNC(IFERROR(F24*C24,0),4) -> 0.0914 | H24: ='Ene Energy'!J21 -> 0 | I24: ='Ene Energy'!K21 -> 0 | J24: ='Ene Energy'!H21 -> 21 | K24: =H24/J24 -> 0 | L24: =I24/$J24 -> 0 | M24: =TRUNC(IFERROR(K24*C24,0),4) -> 0 | N24: =TRUNC(IFERROR(L24*C24,0),4) -> 0 | O24: =C24*('Ene Energy'!L21/'Ene Energy'!H21) -> 0 | P24: =C24/E24 -> 0.0076190476
B25: Transport | C25: =0.1 -> 0.1 | D25: ='Tra Transport'!I8 -> 7 | E25: ='Tra Transport'!H8 -> 12 | F25: =D25/E25 -> 0.58333333 | G25: =TRUNC(IFERROR(F25*C25,0),4) -> 0.0583 | H25: ='Tra Transport'!J8 -> 0 | I25: ='Tra Transport'!K8 -> 0 | J25: ='Tra Transport'!H8 -> 12 | K25: =H25/J25 -> 0 | L25: =I25/$J25 -> 0 | M25: =TRUNC(IFERROR(K25*C25,0),4) -> 0 | N25: =TRUNC(IFERROR(L25*C25,0),4) -> 0 | O25: =C25*('Tra Transport'!L8/'Tra Transport'!H8) -> 0 | P25: =C25/E25 -> 0.0083333333
B26: Water | C26: =0.07 -> 0.07 | D26: ='Wat Water'!I10 -> 5 | E26: ='Wat Water'!H10 -> 8 | F26: =D26/E26 -> 0.625 | G26: =TRUNC(IFERROR(F26*C26,0),4) -> 0.0437 | H26: ='Wat Water'!J10 -> 0 | I26: ='Wat Water'!K10 -> 0 | J26: ='Wat Water'!H10 -> 8 | K26: =H26/J26 -> 0 | L26: =I26/$J26 -> 0 | M26: =TRUNC(IFERROR(K26*C26,0),4) -> 0 | N26: =TRUNC(IFERROR(L26*C26,0),4) -> 0 | O26: =C26*('Wat Water'!L10/'Wat Water'!H10) -> 0 | P26: =C26/E26 -> 0.00875
B27: Materials | C27: =0.15 -> 0.15 | D27: ='Mat Materials '!I14 -> 4 | E27: ='Mat Materials '!H14 -> 14 | F27: =D27/E27 -> 0.28571429 | G27: =TRUNC(IFERROR(F27*C27,0),4) -> 0.0428 | H27: ='Mat Materials '!J14 -> 0 | I27: ='Mat Materials '!K14 -> 0 | J27: ='Mat Materials '!H14 -> 14 | K27: =H27/J27 -> 0 | L27: =I27/$J27 -> 0 | M27: =TRUNC(IFERROR(K27*C27,0),4) -> 0 | N27: =TRUNC(IFERROR(L27*C27,0),4) -> 0 | O27: =C27*('Mat Materials '!L14/'Mat Materials '!H14) -> 0 | P27: =C27/E27 -> 0.010714286
B28: Waste | C28: =0.06 -> 0.06 | D28: ='Wst Waste'!I14 -> 6 | E28: ='Wst Waste'!H14 -> 9 | F28: =D28/E28 -> 0.66666667 | G28: =TRUNC(IFERROR(F28*C28,0),4) -> 0.04 | H28: ='Wst Waste'!J14 -> 0 | I28: ='Wst Waste'!K14 -> 0 | J28: ='Wst Waste'!H14 -> 9 | K28: =H28/J28 -> 0 | L28: =I28/$J28 -> 0 | M28: =TRUNC(IFERROR(K28*C28,0),4) -> 0 | N28: =TRUNC(IFERROR(L28*C28,0),4) -> 0 | O28: =C28*('Wst Waste'!L14/'Wst Waste'!H14) -> 0 | P28: =C28/E28 -> 0.0066666667
B29: Land Use & Ecology | C29: =0.13 -> 0.13 | D29: ='LE Land use & Ecology'!I13 -> 9 | E29: ='LE Land use & Ecology'!H13 -> 13 | F29: =D29/E29 -> 0.69230769 | G29: =TRUNC(IFERROR(F29*C29,0),4) -> 0.09 | H29: ='LE Land use & Ecology'!J13 -> 0 | I29: ='LE Land use & Ecology'!K13 -> 0 | J29: ='LE Land use & Ecology'!H13 -> 13 | K29: =H29/J29 -> 0 | L29: =I29/$J29 -> 0 | M29: =TRUNC(IFERROR(K29*C29,0),4) -> 0 | N29: =TRUNC(IFERROR(L29*C29,0),4) -> 0 | O29: =C29*('LE Land use & Ecology'!L13/'LE Land use & Ecology'!H13) -> 0 | P29: =C29/E29 -> 0.01
B30: Pollution | C30: =0.08 -> 0.08 | D30: ='Pol Pollution'!I14 -> 10 | E30: ='Pol Pollution'!H14 -> 12 | F30: =D30/E30 -> 0.83333333 | G30: =TRUNC(IFERROR(F30*C30,0),4) -> 0.0666 | H30: ='Pol Pollution'!J14 -> 0 | I30: ='Pol Pollution'!K14 -> 0 | J30: ='Pol Pollution'!H14 -> 12 | K30: =H30/J30 -> 0 | L30: =I30/$J30 -> 0 | M30: =TRUNC(IFERROR(K30*C30,0),4) -> 0 | N30: =TRUNC(IFERROR(L30*C30,0),4) -> 0 | O30: =C30*('Pol Pollution'!L14/'Pol Pollution'!H14) -> 0 | P30: =C30/E30 -> 0.0066666667
B31: Innovation | C31: =0.1 -> 0.1 | D31: =Innovation!H17 -> 0 | E31: =Innovation!G17 -> 10 | F31: =D31/E31 -> 0 | G31: =TRUNC(IFERROR(F31*C31,0),4) -> 0 | H31: =Innovation!I17 -> 0 | I31: =Innovation!J17 -> 0 | J31: 10 | K31: =H31/J31 -> 0 | L31: =I31/$J31 -> 0 | M31: =TRUNC(IFERROR(K31*C31,0),4) -> 0 | N31: =TRUNC(IFERROR(L31*C31,0),4) -> 0 | O31: =C30*(Innovation!K17/Innovation!G17) -> 0 | P31: =C31/E31 -> 0.01
D32: Targeted Score: | G32: =SUM(G22:G31) -> 0.5994 | H32: Awarded Score: | M32: =SUM(M22:M31) -> 0 | N32: =SUM(N22:N31) -> 0 | O32: =SUM(O22:O31) -> 0
D33: BREEAM Rating: | G33: No Cert | H33: BREEAM Rating: | M33: No Cert | N33: No Cert
B35: Minimum standard achieved for BREEAM rating: | G35: =IF(C16="Pass","Pass",IF(C16="Good","Good",IF(C16="Very Good","Very Good",IF(C16="Excellent","Excellent",IF(C16="Outstanding","Outstanding",""))))) -> Very Good
G36: Design | H36: PCR
B37: Man 03: Responsible Construction Practices | G37: Yes | H37: No
B38: Man 04: Commissioning and Handover | G38: Yes | H38: No
B39: Man 05: Aftercare | G39: Yes | H39: No
B40: Ene 01: Reduction of Energy Use and Carbon Emissions | G40: Yes | H40: No
B41: Ene 02: Energy Monitoring | G41: No | H41: No
B42: Wat 01: Water Consumption | G42: No | H42: No
B43: Wat 02: Water Monitoring | G43: No | H43: No
B44: Mat 03: Responsible Sourcing of Materials | G44: No | H44: No
B45: Wst 01: Construction Waste Management | G45: No | H45: No
B46: Wst 03: Operational Waste | G46: Yes | H46: No
B47: LE 03: Minimising Impact on Existing Site Ecology | G47: No | H47: No

Sheet Man Management
A2: Management
A4: Credits Ref | B4: Credit Title | C4: Requirements | D4: Responsible Party | E4: Evidence required | F4: RIBA Stage Required | G4: Credits Available | H4: Credits Targeted | I4: Design Credits Achieved | J4: Post-Cons Credits Achieved | K4: Potential credits | L4: Information received | M4: Reviewed | N4: Information still required | O4: Post Construction Information still required
A6: Man 01 | B6: Project brief and design | C6: Project delivery stakeholders meet prior to the end of RIBA Stage 2 to identify and define their roles, responsibilities and contributions for each key phase of project. Furthermore, the project team demonstrate how the stakeholder contributions and any other outcomes from the consultation process have influenced or changed the Initial Project Brief, including where appropriate, the Project Execution Plan, Communication Strategy, and the Concept Design. | F6: 2 | G6: 1 | H6: 1 | I6: 0 | J6: 0
C7: All relevant 3rd parties are consulted prior to the completion of RIBA Stage 2. Furthermore, the project team demonstrate how the contributions and outcomes of the consultation exercise have influenced or changed the Initial Project Brief and Concept Design. Additionally for Education, Healthcare, Law Courts and Major Transport Node building types only: The consultation exercise uses a method carried out by an independent party. | F7: 2 | G7: 1 | H7: 1 | I7: 0 | J7: 0
C8: Appoint BREEAM AP at Concept Design stage | F8: 2 | G8: 1 | H8: 0 | I8: 0
C9: Appoint BREEAM AP at Developed Design stage | F9: 4 | G9: 1 | H9: 0 | I9: 0
A10: Man 02 | B10: Life cycle cost and service life planning | C10: A BREEAM compliant elemental life cycle cost (LCC) analysis carried out at Process Stage 2 (equivalent to RIBA Stage 2), together with any design option appraisals in line with 'Standardized method of life cycle costing for construction procurement' PD 156865:20081. | F10: 2 | G10: 2 | H10: 0 | I10: 0 | J10: 0
C11: A component level LCC plan developed by the end of Process Stage 4 in line with PD 156865:2008 and includes the following component types (where present): envelope, services, finishes and external spaces. The LCC plan must then influence the design/specification to minimise life cycle costs and maximise critical value. | F11: 2 | G11: 1 | H11: 0 | I11: 0 | J11: 0
C12: The predicted capital cost for the building is reported via the BREEAM assessment reporting tool in pounds per square metre (£k/m2). | D12: CONTRACTOR | E12: Confirmation of capital cost | F12: 2 | G12: 1 | H12: 1 | I12: 0
A13: Man 03 | B13: Responsible construction practices MANDATORY REQUIREMENTS (1 CREDIT FOR EXCELLENT, 2 CREDITS FOR OUTSTANDING) | C13: Pre-requisite: All site timber used in the project is sourced in accordance with the UK government’s Timber Procurement Policy | D13: CONTRACTOR | E13: Site timber recertification | F13: 4 | G13: PRE REQUISITE ACHIEVED? | I13: YES/NO
C14: The principal contractor operates an EMS covering their main operations (Pre-requisite for Healthcare NHS buildings) as well as implementing best practice pollution prevention policies and procedures on site in accordance with Pollution Prevention Guidelines (PPG) 6 Working at construction and demolition sites. The principal contractor formally agrees BREEAM related performance targets with the client, and appoints a BREEAM AP (site) to oversee and provide support for all BREEAM requirements. | D14: CONTRACTOR | E14: Copy of EMS certificate | F14: 5 | G14: 2 | H14: 1 | I14: 0
C15: Up to 2 credits: The principal contractor signs up to the Considerate Constructors Scheme (or other compliant scheme) and achieves either 'compliance' with the criteria or significantly exceeds 'compliance'. 1 CREDIT MANDATORY FOR EXCELLENT, 2 FOR OUTSTANDING. | F15: 5 | G15: 2 | H15: 2 | I15: 0
C16: Up to 2 credits (see below): Pre-requisite: An individual is appointed who has the authority and responsibility to request and access data to allow the following: The aforementioned individual monitors and records the principal and sub contractor's energy consumption in kWh (and where relevant, litres of fuel used) and water consumption in m3 as a result from the use of construction plant, equipment and site accommodation. The data must then be reported separately to demonstrate the total carbon dioxide emissions (total kgCO2/project value) from energy consumption and the total net water consumption (m3). The aforementioned individual monitors and records the total fuel consumption (litres), carbon dioxide emissions (kgCO2eq) and the total distance travelled (km) for transportation movements resulting from delivery of major construction materials to and construction waste from site. This data must then be reported separately demonstrating the total materials, waste, fuel consumption (litres), carbon dioxide emissions (kgCO2eq) and the total distance travelled (km). | D16: CONTRACTOR | E16: Final Data collected. Evidence of reporting Site visit | F16: 5 | G16: 2 | H16: 2 | I16: 0
A17: Man 04 | B17: Commissioning and handover BUG CREDIT MANDATORY FOR EXCELLENT AND OUTSTANDING | C17: Prepare a schedule of commissioning and testing. The schedule identifies and includes a suitable timescale for commissioning and re-commissioning of all complex and non-complex building services and control systems and for testing and inspecting building fabric. | F17: 4 | G17: 1 | H17: 1 | I17: 0 | J17: 0
C18: During the design stage, the client or the principal contractor appoints an appropriate project team member (see criterion 4), provided they are not involved in the general installation works for the building services systems, with responsibility for: a Undertaking design reviews and giving advice on suitability for ease of commissioning. b Providing commissioning management input to construction programming and during installation stages. c Management of commissioning, performance testing and handover or post-handover stages. | F18: 4 | G18: 1 | H18: 1 | I18: 0 | J18: 0
C19: Complete post-construction testing and inspection to quality-assure the integrity of the building fabric, including continuity of insulation, avoidance of thermal bridging and air leakage paths (this is through airtightness testing and a thermographic survey). | D19: CONTRACTOR | E19: Letter or specification | F19: 5 | G19: 1 | H19: 0 | I19: 0 | J19: 0
C20: Prior to handover, develop two building user guides (see Methodology below) for the following users: a A non-technical user guide for distribution to the building occupiers. b A technical user guide for the premises facilities managers. Prepare two training schedules timed appropriately around handover and proposed occupation plans for the following users: a A non-technical training schedule for the building occupiers. b A technical training schedule for the premises facilities managers. | D20: CONTRACTOR | E20: User Guides & Technical Manuals | F20: 5 | G20: 1 | H20: 1 | I20: 0 | J20: 0
A21: Man 05 | B21: Aftercare SEASONAL COMMISSIONING CREDIT MANDATORY FOR EXCELLENT AND OUTSTANDING | C21: Provide aftercare support to the building occupiers through having in place operational infrastructure and resources. | E21: Letter of intent | F21: 4 | G21: 1 | H21: 1 | I21: 0 | J21: 0
C22: Complete the commissioning activities over a minimum 12-month period, once the building becomes substantially occupied | E22: Letter of intent | F22: 4 | G22: 1 | H22: 1 | I22: 0 | J22: 0
C23: The client or building occupier commits to carry out a POE exercise (see Definitions on the facing page) one year after the building is substantially occupied. This gains comprehensive in-use performance feedback (see criterion 5.b.v below) and identifies gaps between design intent and in-use performance. The aim is to highlight any improvements or interventions that need to be made and to inform operational processes. | E23: Letter of intent | F23: 4 | G23: 1 | H23: 1 | I23: 0 | J23: 0
E24: Total | G24: =SUM(G6:G23) -> 21 | H24: =SUM(H6:H23) -> 14 | I24: =IF(SUM(I6:I23)>G24,"Check Data",SUM(I6:I23)) -> 0 | J24: =IF(SUM(J6:J23)>G24,"Check Data",SUM(J6:J23)) -> 0 | K24: =SUM(K6:K23) -> 0

Sheet Hea Health & wellbeing
A2: Health & Wellbeing
A4: Credits Ref | B4: Credit Title | C4: Requirements | D4: Responsibilities | E4: Evidence required | F4: RIBA Stage Required | G4: Credits Available | H4: Credits Targeted | I4: Design Credits Achieved | J4: Post-Cons Credits Achieved | K4: Potential credits | L4: Information received | M4: Reviewed | N4: Information still required | O4: Post Construction Information still required
A6: Hea 01 | B6: Visual comfort | C6: Identify areas at risk of glare using a glare control assessment. The glare control assessment also justifies any areas deemed not at risk of glare, and identifies the appropriate mitigation measures incorporated into the design to reduce or nullify the risk of glare. | D6: ARCHITECT | E6: Glare Risk Assessment | F6: 4 | G6: 1 | H6: 1 | I6: 0 | J6: 0
C7: All relevant areas meet good practice daylight factors and other relevant criteria. | D7: Architect/M&E | E7: Daylighting calculations. | F7: 4 | G7: 2 | H7: 0 | I7: 0 | J7: 0
C8: At least 95% of floor space in relevant building areas are within 7m of a wall which has a window or permanent opening that provides an adequate view out. The window/opening must be ≥ 20% of the surrounding wall area. Where the room depth is greater than 7m, compliance is only possible where the % of window/opening is ≥ the values in table 1.0 of BS 82061. In addition, will the following be met: PRISONS ONLY: Cells: An adequate view out from a normal standing or sitting position and the distance between each window and nearest external solid object is ≥10m. Where existing features prevent compliance with this criteria in less than 20% of the cells within the building, the credit can still be awarded. Patient occupied spaces: The relevant daylight criteria must be met for these spaces (under healthcare) and the distance between the wall and window/opening and nearest external solid object is ≥10m. MULTI-RES (SELF CONTAINED FLATS - COMMUNAL LOUNGES, INDIVIDUAL BEDROOMS AND BEDSITS (SHELTERED HOUSING): All positions within relevant areas are within 5m of a wall which has a window or permanent opening providing an adequate view. The window/opening must be ≥20% of the surrounding wall area. HEALTHCARE BUILDINGS WITH INPATIENT AREAS (ONE ADDITIONAL CREDIT): In patient occupied spaces (wards and dayrooms), will the relevant daylighting etc. be met and will the distance between the wall and window/opening and nearest solid object be ≥10m. | D8: ARCHITECT | E8: Drawings Calculations showing openable window area and wall area in each occupied space, and work stations are within 7m of a wall with a window | F8: 4 | G8: 1 | H8: 1 | I8: 0 | J8: 0
C9: Compliant internal and external lighting is provided, and will the zoning of lighting and occupant control be compliant with BREEAM requirements? Manual lighting control is required in occupied spaces. Lighting must be zoned as follows; - in office areas, zones of no more than 4 work places - workstations adjacent to windows/atria are separately zoned and controlled - seminar and lecture rooms: zoned for presentation and audience areas - library spaces: separate zoning of stacks, reading and counter areas - teaching space or demonstration area - whiteboard or display screen - auditoria: zoning of seating areas, circulation space and lectern area - dining, restaurant, cafe areas: separate zoning of servery and seating/dining areas - retail: separate zoning of bar and seating areas - wards or bedded areas: zoned lighting control for individual bed spaces and control for staff over groups of bed spaces - treatment areas, dayrooms, waiting areas: zoning of seating and activity areas and circulation space with controls accessible to staff | D9: M&E | E9: Site visit As built drawings Letter confirmation that installed external lighting meets the criteria | F9: 4 | G9: 1 | H9: 1 | I9: 0 | J9: 0
A10: Hea 02 | B10: Indoor air quality | C10: A site-specific indoor air quality plan has been produced and implemented in accordance with the guidance in Guidance Note GN06. The objective of the plan is to facilitate a process that leads to design, specification and installation decisions and actions that minimise indoor air pollution during occupation of the building. PRE-REQUISITE. | D10: Air Quality Proffessional | E10: IAQP | F10: 4 | G10: 0 | H10: 0 | I10: 0 | J10: 0
C11: The building has been designed to minimise the indoor concentration and recirculation of pollutants in the building as follows: a Provide fresh air into the building in accordance with the criteria of the relevant standard for ventilation. b Ventilation pathways are designed to minimise the ingress and build-up of air pollutants inside the building (see Methodology on page 95) c Where present, HVAC systems must incorporate suitable filtration to minimise external air pollution, as defined in BS EN 16798-3:2017(45). The specified filters should achieve supply air classification of at least SUP 2. d Areas of the building subject to large and unpredictable or variable occupancy patterns have carbon dioxide (CO₂) or air quality sensors specified | F11: 4 | G11: 1 | H11: 1 | I11: 0 | J11: 0
C12: Three out of the five product types meet the emission limits, testing requirements and any additional requirements listed in Table 5.11 below. Where wood-based products are not one of three selected product types, all wood-based products used for internal fixtures and fittings must be tested and classified as formaldehyde E1 class as a minimum. | D12: ARCHITECT | E12: N/A | F12: 4 | G12: 1 | H12: 1 | I12: 0 | J12: 0
C13: VOCs (Products and Post Construction) | D13: ARHCITECT | E13: Manufacturer details/ certs & post construction VOC emissions testing | F13: 4 | G13: 1 | H13: 0 | I13: 0 | J13: 0
C14: The buildings ventilation strategy must be flexible and adaptable for potential building occupant needs and climatic scenarios. This strategy must also be capable of providing at least two levels of user-control on the supply of fresh air to the occupied space. | D14: ARCHITECT/M&E | E14: Drawings and spec confirming details of ventilation strategy. | F14: 4 | G14: 1 | H14: 0 | I14: 0 | J14: 0
C15: N/A | D15: N/A | E15: N/A | G15: 0 | H15: 0 | I15: 0 | J15: 0
A16: Hea 04 | B16: Thermal comfort | C16: Thermal modelling has been carried out using software in accordance with CIBSE AM11(79) Building Energy and Performance Modelling. | D16: CONTRACTOR | E16: Thermal Modelling Reports | F16: 2 | G16: 1 | H16: 1 | I16: 0 | J16: 0
C17: The thermal modelling demonstrates that the relevant requirements set out in criterion 3 on the previous page are achieved for a projected climate change environment (see Definitions on the facing page). | D17: CONTRACTOR | E17: Thermal Modelling Reports | F17: 2 | G17: 1 | H17: 1 | I17: 0 | J17: 0
C18: The thermal modelling analysis (criteria1 on the previous page to 4 on the previous page) has informed the temperature control strategy for the building and its users. | D18: M&E Consultant | E18: Heating Control Design | F18: 2 | G18: 1 | H18: 1 | I18: 0 | J18: 0
A19: Hea 05 | B19: Acoustic performance | C19: Education, Healthcare, Office and Law Courts building types (1 credit): The building meets the appropriate acoustic performance standards and testing requirements defined in the BREEAM guidance, which defines criteria for the acoustic principals of: a. Sound insulation; b. Indoor ambient noise levels; and an the performance standards in the Building Regulations or Standards. | D19: ACOUSTICIAN CONTRACTOR | E19: Acoustic test reports & acoustician's qualifications | F19: 4 | G19: 3 | H19: 3 | I19: 0 | J19: 0
A20: Hea 06 | B20: Safety and security | C20: During or prior to Concept Design (RIBA Stage 2), a Suitably Qualified Security Specialist (SQSS) conducts an evidence based Security Needs Assessment (SNA) to develop a set of site specific recommendations or solutions, with the aim to ensure the design of buildings, public and private car parks and public or amenity spaces are planned, designed and specified to address issues identified. The design team must then implement these recommendations or solutions within the design. Any deviation from the recommendation or solutions will require justification that has been documented and agreed with the SQSS. | D20: Suitably Qualified Security Specialist (e.g. Architectural Liaison Officer or Crime Prevention Design Advisor) ARCHITECT | E20: SBD certificate (if applicable) As built drawings showing security measures Site visit | F20: 2 | G20: 1 | H20: 0 | I20: 0 | J20: 0
A22: Hea 07 | B22: Safe and healthy surroundings | C22: The site is designed to provide safe pedestrian and cyclist access, as defined in the BREEAM Guidance. | D22: ARCHITECT | E22: AS built drawing Site visit | F22: 4 | G22: 1 | H22: 0 | I22: 0 | J22: 0
C23: There is an outside space providing building users with an external amenity area. | D23: ARCHITECT | E23: AS built drawing Site visit | F23: 4 | G23: 1 | H23: 1 | I23: 0 | J23: 0
E24: Total | G24: =SUM(G6:G23) -> 18 | H24: =SUM(H6:H23) -> 12 | I24: =SUM(I6:I23) -> 0 | J24: =SUM(J6:J23) -> 0 | K24: =SUM(K6:K21) -> 0

Sheet Ene Energy
B2: Energy
B4: Credits Ref | C4: Credit Title | D4: Requirements | E4: Responsibilities | F4: Evidence required | G4: RIBA Stage Required | H4: Credits Available | I4: Credits Targeted | J4: Design Credits Achieved | K4: Post-Cons Credits Achieved | L4: Potential credits | M4: Information received | N4: Reviewed | O4: Information still required | P4: Post Construction Information still required
B6: Ene 01 | C6: Reduction of energy use and carbon emissions 5 CREDITS MANDATORY FOR EXCELLENT / 8 CREDITS MANDATORY FOR OUTSTANDING | D6: Up to 12 credits: Based on the Energy Performance Ratio for New Construction (EPRNC). This is based on the building's modelled; operational energy performance (mJ,m2), primary energy consumption (kWh/m2) and CO2 emissions (kg CO2/m2). | E6: ENERGY ASSESSOR | F6: BRUKL or SBEM .inp file | G6: 4 | H6: 13 | I6: 6 | J6: 0 | K6: 0 | P6: As built BRUKL
B7: Ene 02 | C7: Energy monitoring MANDATORY FOR VERY GOOD, EXCELLENT AND OUTSTANDING | D7: Energy monitoring system to be installed and easily identifiable and will enable at least 90% of the estimated annual energy consumption to be monitored and recorded. | E7: M&E | F7: Data sheets | G7: 4 | H7: 1 | I7: 1 | J7: 0 | K7: 0
H8: 1 | I8: 0 | J8: 0 | K8: 0
B9: Ene 03 | C9: External lighting | D9: One credit: The building has been designed to operate without the need for external lighting. OR The average initial luminous efficacy of the external light fittings within the construction zone > 60 luminaire lumens per circuit Watt. AND All external light fittings are automatically controlled for prevention of operation during daylight hours and presence detection in areas of intermittent pedestrian traffic. | E9: M&E | F9: Site visit As built drawings Datasheets or other info from manufacturer confirming efficacy of all external light fittings. | G9: 4 | H9: 1 | I9: 1 | J9: 0 | K9: 0 | P9: Site visit As built drawings Datasheets or other info from manufacturer confirming efficacy of all external light fittings.
B10: Ene 04 | C10: Low carbon design | D10: Passive design analysis 1 Achieve the first credit Hea 04 Thermal comfort: One credit - Thermal modelling on page 103 to demonstrate that the building design delivers appropriate thermal comfort levels in occupied spaces. 2 The project team analyses the proposed building design and development during Concept Design to identify opportunities for the implementation of passive design measures | E10: M&E | F10: Passive Design Analysis Report | G10: 2 | H10: 1 | I10: 1 | J10: 0 | K10: 0
D11: Include a free cooling analysis (see Free cooling analysis on the next page) in the passive design analysis carried out under criterion 2. - Identify opportunities for the implementation of free cooling solutions. - The building is naturally ventilated or uses any combination of the free cooling strategies listed in Free cooling analysis on the next page. | E11: M&E | F11: Free Cooling Analysis | G11: 2 | H11: 1 | I11: 0 | J11: 0 | K11: 0
D12: Prior to completion of the Concept Design (RIBA Stage 2 or equivalent), a BREEAM compliant feasibility study must be carried out by an energy specialist to establish the most appropriate LZC for the site/development. The recommended LZC technology must then be specified in line with the recommendations from this feasibility study. | E12: M&E | F12: As built drawing Site visit | G12: 2 | H12: 1 | I12: 1 | J12: 0 | K12: 0 | P12: As built drawing Site visit
B13: Ene 05 | C13: Energy efficient cold storage | D13: The refrigeration system, its controls and components must be designed, installed and commissioned in accordance with the Code of Conduct for carbon reduction in the refrigeration retail sector and BS EN 378-2. It must also use robust and tested refrigeration systems/components, normally defined as those included on the Enhanced Capital Allowance (ECA) Energy Technology Product List (ETPL) list and be commissioned to comply with the criteria for commissioning as outlined in BREEAM issue Man 04. | E13: N/A | F13: N/A | G13: 4 | H13: 0 | I13: 0 | J13: 0 | K13: 0
D14: When the above criteria has been demonstrated and the installed refrigeration system(s) demonstrate a saving in indirect greenhouse gas emissions (CO2 eq.) over the course of its operational life? The first credit must be achieved. | E14: N/A | F14: N/A | G14: 4 | H14: 0 | I14: 0 | J14: 0 | K14: 0 | P14: Site visit
B15: Ene 06 | C15: Energy efficient transportation systems | D15: One credit: Transport analysis must be carried out and the energy consumption calculated to determine the optimum number and size of lifts, escalators and/or moving walks. The system with the lowest energy consumption must then be specified. One credit: The above analysis and calculations have been carried out. AND Lifts have the 3 following energy efficient features specified and where applicable d.: a. The lifts operate in a stand-by condition during off-peak periods. b. The lift car lighting and display lighting provides an average lamp efficacy, (across all fittings in the car) of > 55 lamp lumens/circuit Watt and lighting switches off after the lift has been idle for a prescribed length of time. c. The lift uses a drive controller capable of variable-speed, variable-voltage, and variable-frequency (VVVF) control of the drive motor. d. Where the use of regenerative drives is demonstrated to save energy , they are specified. Escalators and/or moving walks comply with at least one of the following: a. Fitted with a load sensing device that synchronises motor output to passenger demand through a variable speed drive. b. Fitted with a passenger sensing device for automated operation (auto walk), so the escalator operates in stand-by mode when there is no passenger demand. | E15: Transport Specialist | F15: Transport Analysis Reports | G15: 4 | H15: 2 | I15: 2 | J15: 0 | K15: 0
B16: Ene 07 | C16: Energy efficient laboratory systems | D16: Pre-requisite: Risk assessment criteria under Hea 03 is achieved. | E16: N/A | H16: PRE REQUISITE ACHIEVED? | J16: YES/NO | K16: YES/NO
D17: One credit: Consultation takes place during the Preparation and Brief stage (RIBA Stage 1) between the client and design team to determine occupant requirements and define laboratory performance criteria. The design team must then demonstrate that the energy demand of the laboratory facilities has been minimised as a result of achieving the defined design performance criteria to ensure the correct sizing of the equipment. APPLICABLE TO BUILDINGS WITH LAB CONTAINMENT DEVICES AS CONTAINMENT AREAS ONLY: The specification of fume cupboards and other containment devices are carried out in compliance with criteria 2 and 3 of issue Hea 03 and, ducted fume cupboards demonstrate compliance, where specified. | E17: N/A | F17: N/A | H17: 0 | I17: 0 | J17: 0 | K17: 0
D18: Up to 4 credits: WHERE LAB AREAS ARE AT LEAST 10% OF THE BUILDING FLOOR AREA: Where the above criteria are met, and the lab plant and systems are designed, specified and installed to promote energy efficiency, demonstrated through the BREEAM requirements. Two credits: The lab area accounts for ≥10% - <25% of the total building floor area. Four credits: The lab area accounts for ≥25% and the chosen measure(s) have a reasonably significant effect on the total energy consumption of the laboratory and do not compromise the defined performance criteria. | E18: N/A | F18: N/A | H18: 0 | I18: 0 | J18: 0 | K18: 0
B19: Ene 08 | C19: Energy efficient equipment | D19: Two credits: Identify the building's unregulated energy consuming loads from the list below and for each (where applicable), estimate or model their contribution to the total unregulated energy consumption, assuming a typical/standard specification. a. Small power, plug in equipment b. Swimming pool c. Communal laundry facilities with commercial sized appliances d. Data centres e. IT intensive operating areas f. Residential areas with domestic appliances (individual and communal facilities) g. Healthcare h. Kitchen and catering facilities Of the systems / processes that have a major impact on the total unregulated energy demand, a meaningful reduction in the total unregulated energy demand must be demonstrated through either good practice design or specification. | E19: N/A | F19: N/A | H19: 0 | I19: 0 | J19: 0 | K19: 0
B20: Ene 09 | C20: Drying space | D20: One credit: Either of the following scenarios are met. Self-contained dwellings: Adequate internal or external space with a secure fixture/post that is capable of holding: a. One to two bedrooms: 4m+ of drying line b. Three plus bedrooms: 6m+ of drying line. OR Individual bedrooms: Adequate internal or external space with a secure fixture/post that is capable of holding: a. Two metres or more of drying line per bedrooms for developments with up to 30 individual bedrooms; plus b. One metre of additional drying line for each bedroom over the 30 individual bedroom threshold. AND c. The space (internal or external) is secure. | E20: N/A | F20: Drawings, spec | H20: 0 | I20: 0 | J20: 0 | K20: 0
F21: Total | H21: =SUM(H6:H20) -> 21 | I21: =SUM(I6:I20) -> 12 | J21: =IF(SUM(J6:J20)>H21,"Check Data",SUM(J6:J20)) -> 0 | K21: =IF(SUM(K6:K20)>H21,"Check Data",SUM(K6:K20)) -> 0 | L21: =SUM(L6:L20) -> 0

Sheet Tra Transport
B2: Transport
B4: Credits Ref | C4: Credit Title | D4: Requirements | E4: Responsibilities | F4: Evidence required | G4: RIBA Stage Required | H4: Credits Available | I4: Credits Targeted | J4: Design Credits Achieved | K4: Post-Cons Credits Achieved | L4: Potential credits | M4: Information received | N4: Reviewed | O4: Information still required | P4: Post Construction Information still required
B6: Tra 01 | C6: Public transport accessibility | D6: No later than Concept Design stage, undertake a site-specific transport assessment (or develop a travel statement) and draft travel plan, which can demonstrably be used to influence the site layout and built form; see Methodology. | E6: Transport Specialist | F6: Transport Assessment & Travel Plan | G6: 2 | H6: 2 | I6: 2 | J6: 0 | K6: 0
B7: Tra 02 | C7: Proximity to amenities | D7: Identify the sustainable transport measures, see Table 7.4 below. 3 Award credits according to the existing Accessible Index (AI) of the project, and the total number of points achieved for the options implemented. | E7: BREEAM Assessor | F7: AI Calculations Confirmation of sustainable transport measures implemented | G7: 4 | H7: 10 | I7: 5 | J7: 0 | K7: 0 | M7: Location Map | P7: Site visit
F8: Total | H8: =SUM(H6:H7) -> 12 | I8: =SUM(I6:I7) -> 7 | J8: =IF(SUM(J6:J7)>H8,"Check Data",SUM(J6:J7)) -> 0 | K8: =IF(SUM(K6:K7)>H8,"Check Data",SUM(K6:K7)) -> 0 | L8: =SUM(L6:L7) -> 0

Sheet Wat Water
B2: Water
B4: Credits Ref | C4: Credit Title | D4: Requirements | E4: Responsibilities | F4: Evidence required | G4: RIBA Stage Required | H4: Credits Available | I4: Credits Targeted | J4: Design Credits Achieved | K4: Post-Cons Credits Achieved | L4: Potential credits | M4: Information received | N4: Reviewed | O4: Information still required | P4: Post Construction Information still required
B6: Wat 01 | C6: Water consumption 1 CREDIT MANDATORY FOR GOOD, VERY GOOD AND EXCELLENT 2 CREDITS MANDATORY FOR OUTSTANDING | D6: Use the BREEAM Wat 01 calculator to assess the efficiency of the domestic water-consuming components. Use the standard Wat 01 method (see Methodology on the next page) to compare the water consumption (litres/person/day) for the assessed building against a baseline performance. Award BREEAM credits based upon Table 8.1 below. Where it is not possible to use the standard method, complete the assessment using the alternative Wat 01 method (see Methodology on the next page). | E6: BREEAM Assessor | F6: WAT 01 Calculator Results | G6: 4 | H6: 5 | I6: 3 | J6: 0 | K6: 0
B7: Wat 02 | C7: Water monitoring FIRST CRITERIA MANDATORY FOR GOOD, VERY GOOD, EXCELLENT AND OUTSTANDING | D7: One credit: All of the following criteria are met (where applicable): a. A water meter is specified on the mains water supply to each building. MANDATORY FOR VERY GOOD b. Water-consuming plant or building areas, consuming ≥10% of the building’s total water demand, are fitted with easily accessible sub meters or have water monitoring equipment integral to the plant or area. c. Each meter (main and sub) has a pulsed output for the monitoring of water consumption and, where an existing BMS exists, the pulsed water meter(s) is connected to this. d. Where the building is on a site with an existing BMS managed by the same occupier the pulsed water meter must be connected to the existing BMS. | E7: M&E | F7: Site visit As built schematic | G7: 4 | H7: 1 | I7: 1 | J7: 0 | K7: 0 | P7: Site visit As built schematic
B8: Wat 03 | C8: Water leak detection | D8: A BREEAM compliant leak detection system must be installed which is capable of detecting a major water leak on the mains water supply within the building and between the building and the utilities water meter. | E8: M&E | F8: Site visit As built schematic | G8: 4 | H8: 2 | I8: 1 | J8: 0 | K8: 0 | P8: Site visit As built drawing
B9: Wat 04 | C9: Water efficient equipment | D9: One credit: Identify the building's unregulated water demands (e.g. vehicle wash or external and internal soft landscaping which requires irrigation) that could be realistically mitigated or reduced. AND Where systems/processes have been identified to reduce unregulated water demand, and can be demonstrated through either good practice design or specification, a meaningful reduction in the total water demand is achieved. | E9: M&E | G9: 4 | H9: 0 | I9: 0 | J9: 0 | K9: 0
F10: Total | H10: =SUM(H6:H9) -> 8 | I10: =SUM(I6:I9) -> 5 | J10: =IF(SUM(J6:J9)>H10,"Check Data",SUM(J6:J9)) -> 0 | K10: =IF(SUM(K6:K9)>H10,"Check Data",SUM(K6:K9)) -> 0 | L10: =SUM(L6:L9) -> 0

Sheet Mat Materials 
B2: Materials
B4: Credits Ref | C4: Credit Title | D4: Requirements | E4: Responsibilities | F4: Evidence required | G4: RIBA Stage Required | H4: Credits Available | I4: Credits Targeted | J4: Design Credits Achieved | K4: Post-Cons Credits Achieved | L4: Potential credits | M4: Information received | N4: Reviewed | O4: Information still required | P4: Post Construction Information still required
B6: Mat 01 | C6: Life cycle impacts | D6: Credits for building Life Cycle Assessment (LCA) of the superstructure (criteria 1 to 5) are awarded as a combined total. Of these, criteria 1 to 2 for LCA benchmarking of the superstructure are only applicable to office, industrial and retail buildings. For other building types, the same number of credits are available for LCA options appraisal alone (criteria 3 to 5). For comparison with the BREEAM LCA benchmark (criteria 1 to 2), the number of credits awarded depends on the environmental impacts of the building compared with the BREEAM LCA benchmark. For option appraisal (criteria 3 to 9), the number of credits depends on the number of design options included in the options appraisal. | E6: ARCHITECT | F6: As built drawings Updated spreadsheet to show final materials used OR letter to confirm no changes made to Mat 1 info provided at design stage site visit | G6: 2 | H6: 7 | I6: 0 | J6: 0 | K6: 0
B7: Mat 02 | C7: Hard landscaping and boundary protection | D7: One credit: At least 80% of all external hard landscaping and boundary protection (by area) in the construction zone achieve an A or A+ Green Guide Rating. | E7: CONTRACTOR | F7: Letter of Intent | G7: 2 | H7: 1 | I7: 0 | J7: 0 | K7: 0
B8: Mat 03 | C8: Responsible sourcing of materials MANDATORY REQUIREMENT | D8: Pre-requisite: All timber used on the project is 'Legally harvested and traded timber'. (MANDATORY FOR ALL BREEAM LEVELS). | E8: CONTRACTOR | F8: FSC/PEFC certs for all timber | G8: 4 | H8: PRE REQUISITE ACHIEVED? | J8: YES/NO | K8: YES/NO
D9: Does the principal contractor source materials for the project in accordance with a sustainable procurement plan? | E9: CONTRACTOR | G9: 4 | H9: 1 | I9: 1 | J9: 0 | K9: 0 | M9: Sustainable procurement plan
D10: Up to 3 credits: Have all the applicable materials*1 comprising the main building elements*2 been sourced responsibly, and can the appropriate certificates for each product be provided. *1 Applicable materials are; timber/ timber based products, concrete/cementitious, metal, stone/aggregate, clay based, gypsum, glass, plastic/polymer/resin/paint/chemical/bituminous, animal fibre/skin/ cellulose fibre *2 Main building elements are; ceiling (including ceiling finish), door/window, floor (including floor finish), insulation, internal partition/internal walls (including finishes), roof (including roof finishes), structure (primary and secondary), external wall, building service, hard landscaping | E10: CONTRACTOR | G10: 4 | H10: 3 | I10: 1 | J10: 0 | K10: 0 | M10: Certificates
B11: Mat 04 | C11: Insulation | D11: Will the Insulation Index for the building fabric and services insulation be ≥2.5? All new insulation specified for use within the following building elements must be assessed: external walls, ground floor, roof and building services. The Insulation Index is calculated using the thermal conductivity (W/m.K) and volume or area and thickness of each insulation type. | E11: ARCHITECT insulation in building fabric M&E- insulation in building | F11: Confirmation of amounts and type of insulation used in services & building As built drawings OR letter confirming no changes | H11: 0 | I11: 0 | J11: 0 | K11: 0
B12: Mat 05 | C12: Designing for durability and resilience | D12: Will the building incorporate suitable durability and protection measures or have designed features/solutions to prevent damage to vulnerable parts of the internal and external building and landscaping elements? This must include, but is not necessarily limited to: a. Protection from the effects of high pedestrian traffic in main entrances, public areas and thoroughfares (corridors, lifts, stairs, doors etc.). b. Protection against any internal vehicular/trolley movement within 1m of the internal building fabric in storage, delivery, corridor and kitchen areas. c. Protection against, or prevention from, any potential vehicular collision where vehicular parking and manoeuvring occurs within 1m of the external building façade for all car parking areas and within 2m for all delivery areas. Will the relevant building elements incorporate appropriate design and specification measures to limit material degradation due to environmental factors? | E12: ARCHITECT BRREAM Assessor | F12: Site visit | G12: 2 | H12: 1 | I12: 1 | J12: 0 | K12: 0
B13: Mat 06 | C13: Material efficiency | D13: At the Preparation and Brief and Concept Design stages, set targets and report on opportunities and methods to optimise the use of materials. | E13: ARCHITECT | F13: Letter of Intent | G13: 2 | H13: 1 | I13: 1 | J13: 0 | K13: 0
F14: Total | H14: =SUM(H6:H13) -> 14 | I14: =SUM(I6:I13) -> 4 | J14: =IF(SUM(J6:J13)>H14,"Check Data",SUM(J6:J13)) -> 0 | K14: =IF(SUM(K6:K13)>H14,"Check Data",SUM(K6:K13)) -> 0 | L14: =SUM(L6:L13) -> 0

Sheet Wst Waste
B2: Waste
B4: Credits Ref | C4: Credit Title | D4: Requirements | E4: Responsibilities | F4: Evidence required | G4: RIBA Stage Required | H4: Credits Available | I4: Credits Targeted | J4: Design Credits Achieved | K4: Post-Cons Credits Achieved | L4: Potential credits | M4: Information received | N4: Reviewed | O4: Information still required | P4: Post Construction Information still required
B6: Wst 01 | C6: Construction waste management 1 CREDIT MANDATORY FOR OUTSTANDING | D6: Has a compliant Construction Resource Management Plan (CRMP) been developed covering the non-hazardous waste related to onsite construction and offsite manufacture or fabrication (including demolition and excavation waste) generated by the building’s design and construction? Does the waste (excluding demolition and excavation waste) related to on-site construction and off-site manufacture/fabrication meet the required benchmarks: - 1 credit: ≤13.3m3 / ≤11.1tonnes waste generated per 100m2 gross internal floor area; - 2 credits: ≤7.5m3 / ≤6.5tonnes waste generated per 100m2 gross internal floor area; - 3 credits: ≤3.4m3 / ≤3.2tonnes waste generated per 100m2 gross internal floor area. Where existing buildings on the site will be demolished, will a compliant pre-demolition audit of any existing buildings, structures or hard surfaces be carried out? | E6: CONTRACTOR | F6: Final SWMP with waste totals | G6: 5 | H6: 3 | I6: 1 | J6: 0 | K6: 0
D7: Complete a pre-demolition audit of any existing buildings, structures or hard surfaces being considered for demolition. This must be used to determine whether refurbishment or reuse is feasible and, in the case of demolition, to maximise the recovery of material for subsequent high grade or value applications. | E7: CONTRACTOR | F7: Pre-Demolition Audit | G7: 4 | H7: 0 | I7: 0 | J7: 0 | K7: 0
D8: Will the percentage of non-hazardous construction and demolition waste generated from landfill meet the required benchmarks: - Non-demolition: 70% by volume / 80% tonnage - Demolition: 80% by volume / 90% tonnage Waste materials must be sorted into separate key waste groups either onsite or offsite through a licensed contractor for recovery. | E8: CONTRACTOR | F8: Final SWMP with waste totals | G8: 5 | H8: 1 | I8: 1 | J8: 0 | K8: 0
B9: Wst 02 | C9: Recycled aggregates | D9: 1 Identify all aggregate uses and types on the project (see Table 10.5 below and Table 10.6 on the facing page 2 Determine the quantity in tonnes for each identified use and aggregate type. 3 Identify the region in which the aggregate source is located. 4 Calculate the distance in kilometres travelled by all aggregates by transport type. 5 Enter the information into the BREEAM Wst 02 calculator to calculate the Project Sustainable Aggregate points. | E9: ARCHITECT BREEAM Assessor | F9: WST 02 Calculator Results | G9: 4 | H9: 1 | I9: 0 | J9: 0 | K9: 0
B10: Wst 03 | C10: Operational waste MANDATORY FOR EXCELLENT AND OUTSTANDING | D10: Will dedicated space(s) be provided for the segregation and storage of operational recyclable waste volumes? The space must be clearly labelled, accessible and correctly sized. Where the consistent generation in volume of the appropriate operational waste streams is likely to exist, will static waste compactors / balers or compliant composting facilities be provided? Where composting is provided a water outlet must also be installed nearby. | E10: ARCHITECT CONTRACTOR | F10: Site visit As built site plan showing location and size of bin store | G10: 4 | H10: 1 | I10: 1 | J10: 0 | K10: 0
B11: Wst 04 | C11: Speculative floor and ceiling finishes | D11: N/A | E11: N/A | F11: N/A | H11: 0 | I11: 0 | J11: 0 | K11: 0
B12: Wst 05 | C12: Adaptation to climate change | D12: Conduct a climate change adaptation strategy appraisal using: A systematic risk assessment to identify the impact of expected extreme weather conditions arising from climate change on the building over its projected life cycle. The assessment covers the installation of building services and renewable systems, as well as structural and fabric resilience aspects | E12: CONTRACTOR | F12: Letter of Intent | G12: 2 | H12: 1 | I12: 1 | J12: 0 | K12: 0
B13: Wst 06 | C13: Functional adaptability | D13: Conduct a study to explore the ease of disassembly and the functional adaptation potential of different design scenarios (see Methodology below) by the end of Concept Design. Develop recommendations or solutions (see Methodology below) based on the study (criterion 1 above), during or prior to Concept Design, that aim to enable and facilitate disassembly and functional adaptation. | E13: Architect | F13: Reports from Adaptability Study | G13: 2 | H13: 2 | I13: 2 | J13: 0 | K13: 0
F14: Total | H14: =SUM(H6:H13) -> 9 | I14: =SUM(I6:I13) -> 6 | J14: =IF(SUM(J6:J13)>H14,"Check Data",SUM(J6:J13)) -> 0 | K14: =IF(SUM(K6:K13)>H14,"Check Data",SUM(K6:K13)) -> 0 | L14: =SUM(L6:L13) -> 0

Sheet LE Land use & Ecology
B2: Land Use & Ecology
B4: Credits Ref | C4: Credit Title | D4: Requirements | E4: Responsibilities | F4: Evidence required | G4: RIBA Stage Required | H4: Credits Available | I4: Credits Targeted | J4: Design Credits Achieved | K4: Post-Cons Credits Achieved | L4: Potential credits | M4: Information received | N4: Reviewed | O4: Information still required | P4: Post Construction Information still required
B6: LE 01 | C6: Site selection | D6: At least 75% of the proposed development is on previously occupied land | E6: CONTRACTOR | F6: DS Site Drawings | G6: 2 | H6: 2 | I6: 1 | J6: 0 | K6: 0
D7: A contaminated land professional undertakes a site investigation, risk assessment and appraisal, which deems that land within the development footprint to be affected by contamination. | E7: CONTRACTOR | F7: Site Investigation Report | J7: 0 | K7: 0
B8: LE 02 | C8: Ecological value of site and protection of ecological features | D8: The site is evaluated using the BREEAM Ecological Risk Evaluation Checklist (Guidance Note 34) confirming that the Foundation route can be used (see Methodology and Definitions). | E8: BREEAM Assessor | F8: LE02 Results | G8: 2 | H8: 2 | I8: 2 | J8: 0 | K8: 0
D9: Survey and evaluation criteria relevant to the chosen route (FOUNDATION) | E9: BREEAM Assessor | F9: LE02 Results | J9: 0 | K9: 0
B10: LE 03 | C10: Minimising impact on existing site ecology ONE CREDIT MANDATORY FOR VERY GOOD, EXCELLENT AND OUTSTANDING | D10: Further planning to avoid and manage negative ecological impacts on-site is carried out (see Methodology) early enough to influence the concept design and design brief as well as site preparation planning (typically Concept Design stage). Negative impacts from site preparation and construction works are managed according to the mitigation hierarchy (see Methodology on the next page) and no overall loss (see Definitions) of ecological value has occurred. | E10: Contractor BREEAM Assessor | F10: Confirmation of no ecological loss (Letter). | G10: 2 | H10: 3 | I10: 2 | J10: 0 | K10: 0
B11: LE 04 | C11: Enhancing site ecology | D11: Locally relevant ecological measures have been implemented that enhance the site's ecological value. The measures adopted are based on (see Methodology); a Recommendations from recognised ‘local’ ecological expertise and specialist input and guidance. b Input from the project team in collaboration with representative stakeholders and data collated as part of ‘Determining ecological outcomes’ in LE 02. | E11: Contractor | F11: Confirmation of measures implemented | G11: 2 | H11: 4 | I11: 2 | J11: 0 | K11: 0
B12: LE 05 | C12: Long term impact on biodiversity | D12: Measures have been implemented to manage and maintain ecology throughout the project. These measures are based on input from the project team in collaboration with representative stakeholders and data collated as part of the ‘Determining ecological outcomes’ in LE 02 (see Methodology). To ensure the optimal ecological outcomes agreed in LE 02 are met in-practice, these measures must monitor and review the effectiveness of the mitigation and enhancement measures in place for LE 03 & LE 04 to ensure they are implemented. | E12: Contractor | F12: Confirmation of measures implemented | G12: 4 | H12: 2 | I12: 2 | J12: 0 | K12: 0
F13: Total | H13: =SUM(H6:H12) -> 13 | I13: =SUM(I6:I12) -> 9 | J13: =IF(SUM(J6:J12)>H13,"Check Data",SUM(J6:J12)) -> 0 | K13: =IF(SUM(K6:K12)>H13,"Check Data",SUM(K6:K12)) -> 0 | L13: =SUM(L6:L12) -> 0

Sheet Pol Pollution
B2: Pollution
B4: Credits Ref | C4: Credit Title | D4: Requirements | E4: Responsibilities | F4: Evidence required | G4: RIBA Stage Required | H4: Credits Available | I4: Credits Targeted | J4: Design Credits Achieved | K4: Post-Cons Credits Achieved | L4: Potential credits | M4: Information received | N4: Reviewed | O4: Information still required | P4: Post Construction Information still required
B6: Pol 01 | C6: Impact of refrigerants | D6: The direct effect life cycle CO₂ equivalent emissions (DELC) of ≤100 CO₂-eq/kW. For systems which provide cooling and heating, the worst performing output based on the lower of kW cooling output and kW heating output is used to complete the calculation. All systems are hermetically sealed or only use environmentally benign refrigerants | E6: M&E Contractor | F6: Specification | G6: 4 | H6: 3 | I6: 3 | J6: 0 | K6: 0
B7: Pol 02 | C7: Local air quality | D7: All heating and hot water is supplied by non-combustion systems. For example, only powered by electricity. | E7: M&E | F7: Specification | G7: 4 | H7: 2 | I7: 2 | J7: 0 | K7: 0
B8: Pol 03 | C8: Surface water run-off | D8: Has a site specific flood risk assessment confirmed the site of being at a low or medium/high risk of flooding? | E8: DRAINAGE ENGINEER | F8: Flood risk assessment, | G8: 2 | H8: 2 | I8: 2 | J8: 0 | K8: 0
D9: Will an appropriate consultant confirm that the criteria for the peak rate of run-off from site to watercourses are met? | E9: DRAINAGE ENGINEER | F9: Calculations/reports/drawings to show drainage strategy - investigate which surface water run off credits can be achieved. Drainage specialist's CV/qualifications | G9: 2 | H9: 1 | I9: 1 | J9: 0 | K9: 0
D10: Will an appropriate consultant confirm that the criteria for run-off volume will be met, and that flooding will not occur in the event of location drainage system failure? | E10: DRAINAGE ENGINEER | F10: Calculations/reports/drawings to show drainage strategy - investigate which surface water run off credits can be achieved. | G10: 2 | H10: 1 | I10: 0 | J10: 0 | K10: 0
D11: Will the site meet the criteria for minimising water course pollution? | E11: DRAINAGE ENGINEER | F11: Calculations/reports/drawings to show drainage strategy - investigate which surface water run off credits can be achieved. | G11: 2 | H11: 1 | I11: 0 | J11: 0 | K11: 0
B12: Pol 04 | C12: Reduction of night time light pollution | D12: Has external lighting pollution been eliminated through effective design that removes the need for external lighting without adversely affecting the safety and security of the site and its users? Alternatively, does the lighting strategy comply with the BREEAM requirements for the reduction of night time pollution? 1. The external lighting strategy has been designed in compliance with Table 2 (and its accompanying notes) of the ILP Guidance notes for the reduction of obtrusive light, 2011 2. All external lighting (except for safety and security lighting) can be automatically switched off between 23:00 and 07:00. 3. If safety or security lighting is provided and will be used between 23:00 and 07:00, this part of the lighting system complies with the lower levels of lighting recommended during these hours in Table 2 of the ILP’s Guidance notes. 4. Illuminated advertisements, where specified, must be designed in compliance with ILP PLG 05 The Brightness of Illuminated Advertisements | E12: M&E | F12: Spec, letter, drawings | G12: 4 | H12: 1 | I12: 1 | J12: 0 | K12: 0
B13: Pol 05 | C13: Reduction of noise pollution | D13: Are there any noise-sensitive areas or buildings within an 800m radius of the assessed development? Where noise-sensitive buildings/areas are present, will a noise impact assessment be conducted in compliance with BS 7445 to measure / determine the existing background noise levels and the most exposed/sensitive development and the rating noise level resulting from the new noise source. The noise level from the proposed site/building, as measured in the locality of the nearest or most exposed noise-sensitive development, must have a difference no greater than +5dB during the day (07:00 to 23:00) and +3dB at night (23:00 to 07:00) compared to the background noise level. Where the noise levels will be greater, measures must be installed to attenuate this at its source. | E13: ACOUSTICIAN | F13: Map of local area highlighting noise sensitive buildings. Acoustic report Confirmation that acoustician is suitably qualified. Letter confirming mitigation measures to be implemented (if applicable). | G13: 4 | H13: 1 | I13: 1 | J13: 0 | K13: 0
F14: Total | H14: =SUM(H6:H13) -> 12 | I14: =SUM(I6:I13) -> 10 | J14: =IF(SUM(J6:J13)>H14,"Check Data",SUM(J6:J13)) -> 0 | K14: =IF(SUM(K6:K13)>H14,"Check Data",SUM(K6:K13)) -> 0 | L14: =SUM(L6:L13) -> 0

Sheet Innovation
B2: Innovation
B4: Credits Ref | C4: Credit Title | D4: Requirements | E4: Responsibilities | F4: Evidence required | G4: Credits Available | H4: Credits Targeted | I4: Design Credits Achieved | J4: Post-Cons Credits Achieved | K4: Potential credits | L4: Information received | M4: Reviewed | N4: Information still required | O4: Post Construction Information still required
B6: Man 03 | C6: Responsible construction practices | D6: Will a final score of at least 40 be achieved, where no individual sub-section receiving a score of less than 7? | E6: CONTRACTOR | F6: Letter, specification, contract | G6: 1 | H6: 0 | I6: 0 | J6: 0
B7: Man 05 | C7: Aftercare | D7: Will there be operational infrastructure and resources in place to co-ordinate the following activities at quarterly intervals for the first three years of building occupation: collection of occupant satisfaction, energy consumption and water consumption data? Will the analysis of this data be used to make any necessary adjustments to systems controls or to inform building user behaviours? Will targets for reducing water and energy consumption be set and monitored? Will the 'lessons learned' be fed back to the design team and developer for use in future projects? Will the actual annual building energy, water consumption and occupant satisfaction data be provided to the BRE? | E7: CLIENT | F7: Letter, spec, contract | G7: 1 | H7: 0 | I7: 0 | J7: 0
B8: Hea 01 | C8: Visual comfort | D8: Will the daylighting criteria for exemplary level performance be met, as outlined in either Table 15 of the BREEAM guidance manual? | E8: M&E | F8: Daylight calculations | G8: 1 | H8: 0 | I8: 0 | J8: 0
B9: Hea 02 | C9: Indoor air quality | D9: One credit: Will the formaldehyde emission levels have been measured and found to be less than or equal to 0.06mg/m3 air in accordance with the approved testing standards in Table - 18. Two credits: Will the formaldehyde emission levels have been measured and found to be less than or equal to 0.01mg/m3 air in accordance with the approved testing standards in Table - 18. | E9: ARCHITECT/CONTRACTOR | F9: Letter, specification | G9: 2 | H9: 0 | I9: 0 | J9: 0
