Workbook

Sheet Intro
M12: Image Source: Neil Howard Solent Buoys - Flood Tide Copyright: © GrahamAndDairne 2013

Sheet Background
B3: Background
B7: There have been a series of court cases in recent years relating to how new plans or projects interact with the Habitats Regulations process where there are existing high levels of background nutrients. These decisions have led Natural England to review its advice on water quality effects on Habitats sites.
B8: The additional nutrient load from the increase in wastewater and/or the change in the land use of the development land created by a new residential development can create an impact pathway for potential negative effects on Habitats sites that are already suffering from problems related to nutrient loading. This impact pathway is shown diagrammatically in Figure 1.
B34: Habitats Regulations Assessments (HRAs) of new residential developments need to consider whether nutrient loading will result in ‘Likely Significant Effects’ (LSE) on a Habitats site. If an HRA finds LSE due to nutrient loading, the Appropriate Assessment will need to consider whether this nutrient load needs to be mitigated in order to remove adverse effects on the Habitats site.
B35: The first step in an HRA involving nutrient neutrality is understanding both whether a residential development will need mitigation to achieve nutrient neutrality and, if so, the amount of nutrients that require mitigating on an annual basis. In order to understand the amount of nutrients a new residential development will create, a nutrient budget for the development is required.
B36: This tool provides a step-by-step approach to calculating the nutrient budget for a new residential development. Before a nutrient budget can be completed using the methodology, certain site-specific details for the Habitats Site in question need to be determined. The required details for each stage of the nutrient budget methodology are shown in the instructions tab, with an associated guidance document that informs users of this calculator how to generate certain inputs to the calculator.

Sheet Solent Marine Sites
B3: Solent Marine European Sites
B6: The Solent Marine Habitats sites comprise a range of Special Areas of Conservation, Special Protection Areas and Ramsar sites with water pollution and eutrophication considered a threat to its condition.
B7: The Solent is a complex site encompassing a major estuarine system on the south coast of England. The Solent and its inlets are unique in Britain and Europe for their hydrographic regime with double tides, as well as for the complexity of the marine and estuarine habitats present within the area.
B8: The river’s vegetation is exceptionally species rich, with many of the typical chalk stream plants present in abundance, including species such as river water-crowfoot and stream water-crowfoot.
B9: The rich intertidal mudflats, saltmarsh, shingle beaches and adjacent coastal habitats, including grazing marsh, reedbeds and damp woodland, support nationally and internationally important numbers of migratory and over-wintering waders and waterfowl such as ringed plover and sandwich terns, as well as important breeding gull and tern populations.
B10: Increased levels of nitrogen and phosphorous entering aquatic environments via surface water and groundwater can severely threaten these sensitive habitats and species within the sites. The elevated levels of nutrients can cause eutrophication, leading to algal blooms which disrupt normal ecosystem function and cause major changes in the aquatic community. These algal blooms can result in reduced levels of oxygen within the water, which in turn can lead to the death of many aquatic organisms including invertebrates and fish.
B11: The species and habitats within the Solent Marine sites that result in their designations are referred to a ‘qualifying features.’ Not all of these qualifying features will be sensitive to changes in nutrients within the site. When completing an HRA involving nutrient neutrality, the Competent Authority (normally Local Planning Authority for developments) must identify and screen out qualifying features that are not sensitive to nutrients via a Habitats Regulations Assessment. Developers will be asked to submit information to support this process.
B12: More detailed information on the qualifying features of the SPA and details of water quality data highlighting the current nutrient problems in the site are available in the Natural England Solent and Southampton Water SPA evidence summary

Sheet Instructions
B3: Instructions
B7: The nutrient budget for a site is calculated in four stages, with each stage implemented in the following worksheets.
B20: 1. General tips:
C22: Key:
D23: Values to be entered by the user
D24: Fixed or calculated values
D25: Lookup tables
B27: When a cell is selected, instructions are shown on how to fill out the cell:
B37: It is advisable to retain a blank copy of this workbook and "Save as" a new copy each time you calculate a budget, in case of any mistakes in data inputs or to ease calculation of new nutrient budgets .
B39: Note:
B40: The values already included in this tool have been chosen based on research to determine suitable inputs to the nutrient budget that meet the HRA tests of beyond reasonable scientific doubt, in perpetuity (practically speaking this is 80-125 years) and in accordance with the precautionary principle. If editing any values in this tool, you must make sure there is a sufficient evidence base to justify these changes and that the new inputs are selected in accordance with the precautionary principle.
B42: 2. Stage specific instructions:
B44: 2.1 Stage 1: calculate the new nutrient load associated with the additional wastewater:
B46: In this section the user will need to enter:
B47: The date of first occupancy. This is because some wastewater treatment works (WwTW) may be due an upgrade in 2025 which will change the nutrient concentration permit values. This will be shown through two values for the permits and nutrients load from before and after the upgrade.
B48: The average occupancy rate of the development will need to be entered. The default setting is the national occupancy rate of 2.4 people per dwelling/unit. Only change this value if there is sufficient evidence that the development will be different to the national average.
B49: The number of dwellings/units that will be in the development at the time of completion.
B50: Whether the catchment of the proposed development has a deductible acceptable loading or not.
B51: The receiving WwTW that the development will drain to. If it is uncertain what WwTW the site will drain to, please find this information from your sewerage company before completing the calculator. If it is not feasable to connect to a WwTW and a septic tank or package treatment plant is being used, please select this option. Please be aware that if the total nitrogen (TN) final effluent concentrations (in mg/l) are specified by the manufacturer, please select 'Septic Tank user defined' or 'Package Treatment Plant user defined' and enter the manufacturer specified value in the cell where prompted.
... B75: 3.1 Instructions for finding the Operational Catchment that the development is situated within:
B76: a) Go to this link: | D76: http://environment.data.gov.uk/catchment-planning/
B77: b) Search the location by place name, postcode etc. This will give a high-level view of the area. Use the zoom feature to find the exact location of the development.
B78: c) Click on the light blue area on the map in which the development is located. This will bring the user to the Operational Catchment page
B79: d) Make note of the name of the Operational Catchment and select it from the dropdown list in the relevant cell.
B81: 3.2 Instructions for finding the drainage associated with the predominant soil type within development site:
B82: a) Go to this link: | D82: http://www.landis.org.uk/soilscapes/#.
B83: b) Find the site location on the map by using the search bar on the right side of the map in the 'Search' tab. Searching an area will generate a pop up window in which you can view the soil information by clicking 'View soil information'. If this is not an option then click on the relevant soil type on the map and click on the 'Soil information' tab on the right hand side of the map, below the 'Search' tab.
B84: c) The 'Soil drainage type' value can be found In the 'Soil information' under the title 'Drainage:'
B85: d) Make a note of this soil type and select the relevant soil drainage type from the drop down list in the relevant cell.
B87: 3.3 Instructions for finding the annual average rainfall that the development will receive using the National River Flow Archive:
B88: a) Go to this link: | D88: https://nrfa.ceh.ac.uk/data/station/spatial/42019
B89: b) This link will bring the user to the Tanners Brook at Milbrook flow gauge catchment information page.
B90: c) Click on the dropdown list next to the title 'Select spatial data type to view:' on the left of the map and select 'Rainfall'. Next select the Legend tab.
B91: d) Zoom in on the map to find the location of the development and find the corresponding rainfall range from the Legend.
B92: e) Select the rainfall band from the drop down list in the table. If your rainfall band is not in the drop down list, please select the closest band shown in the list.
B94: 3.4 Instructions for finding out whether the development is in a Nitrate Vulnerable Zone (NVZ):
B95: a) Go to this link: | D95: http://mapapps2.bgs.ac.uk/ukso/home.html?layers=NVZEng
B96: b) Enter the location of the development site in the search bar.
B97: c) Once the area has been located, click on the map where the development is located to find out if is within an NVZ.
B98: d) Make note of this and select this in the dropdown list.

Sheet Development site details
B3: Development site details
C7: Date (dd/mm/yyyy): | D7: 44935
C8: Site Name: | D8: 9 Princes Drive
C9: Planning Application number: | D9: APP/23/00012
C10: Site Address: | D10: 9 Princes Drive, Waterlooville, PO7 7QN

Sheet Stage 1
B3: Stage 1
C7: User Inputs
C9: Date of first occupancy: | D9: 45139
C10: Average occupancy rate: | D10: 1.4 | G10: =IFERROR(IF(AND($D$9<DATE(2025,1,1),OR((VLOOKUP($D$14,Lookups!$C$8:$G$88,2,FALSE))>(VLOOKUP($D$14,Lookups!$C$8:$G$88,4,FALSE)),(VLOOKUP($D$14,Lookups!$C$8:$G$88,3,FALSE))>(VLOOKUP($D$14,Lookups!$C$8:$G$88,5,FALSE)))),"A nutrient permit is changing for the selected WwTW as of 01/01/2025. Therefore, two nutrient budgets will be calculated for the loading before and after the 2025 WwTW permit upgrade.",""),"")
C11: Water usage (litres/person/day): | D11: 120
C12: Development Proposal (dwellings/units): | D12: 1
C13: Include deductible acceptable loading? | D13: Yes
C14: Wastewater treatment works: | D14: Budds Farm WwTW
C15: Wastewater treatment works P permit (mg TP/litre): | D15: =(IFERROR(IF(OR(D14="Package Treatment Plant user defined",D14="Septic Tank user defined"),"Please enter value in cell to the right:",IF('Stage 1'!D9<DATE(2025,1,1),VLOOKUP('Stage 1'!D14,Lookups!C8:G91,2,FALSE),VLOOKUP('Stage 1'!D14,Lookups!C8:G90,4,FALSE))),"")) -> 7.7 | F15: =IFERROR(IF(AND($D$9<DATE(2025,1,1),(VLOOKUP($D$14,Lookups!$C$8:$G$88,2,FALSE))>(VLOOKUP($D$14,Lookups!$C$8:$G$88,4,FALSE))), "Post 2025 WwTW P permit:",""),"") | G15: =IFERROR(IF(AND($D$9<DATE(2025,1,1),(VLOOKUP($D$14,Lookups!$C$8:$G$88,2,FALSE))>(VLOOKUP($D$14,Lookups!$C$8:$G$88,4,FALSE))), VLOOKUP('Stage 1'!D14,Lookups!C8:G91,4,FALSE),""),"") | H15: =IFERROR(IF(AND($D$9<DATE(2025,1,1),(VLOOKUP($D$14,Lookups!$C$8:$G$88,2,FALSE))>(VLOOKUP($D$14,Lookups!$C$8:$G$88,4,FALSE))), "mg TP/litre",""),"")
C16: Wastewater treatment works N permit (mg TN/litre): | D16: =IFERROR(IF(OR(D14="Package Treatment Plant user defined",D14="Septic Tank user defined"),"Please enter value in cell to the right:",IF(AND('Stage 1'!D9<DATE(2025,1,1),D13="Yes"),VLOOKUP('Stage 1'!D14,Lookups!$C$8:$G$91,2,FALSE),IF(AND('Stage 1'!D9<DATE(2025,1,1),D13="No"),VLOOKUP('Stage 1'!D14,Lookups!$C$8:$G$91,3,FALSE),IF(AND('Stage 1'!D9>=DATE(2025,1,1),D13="Yes"),VLOOKUP('Stage 1'!D14,Lookups!$C$8:$G$91,4,FALSE),VLOOKUP('Stage 1'!D14,Lookups!$C$8:$G$91,5,FALSE))))),"") -> 7.7 | F16: =IFERROR(IF(AND($D$9<DATE(2025,1,1),(VLOOKUP($D$14,Lookups!$C$8:$G$88,3,FALSE))>(VLOOKUP($D$14,Lookups!$C$8:$G$88,5,FALSE))), "Post 2025 WwTW N permit:",""),"") | G16: =IFERROR(IF(AND($D$9<DATE(2025,1,1),(VLOOKUP($D$14,Lookups!$C$8:$G$88,3,FALSE))>(VLOOKUP($D$14,Lookups!$C$8:$G$88,5,FALSE))), VLOOKUP('Stage 1'!D14,Lookups!$C$8:$G$91,5,FALSE),""),"") | H16: =IFERROR(IF(AND($D$9<DATE(2025,1,1),(VLOOKUP($D$14,Lookups!$C$8:$G$88,3,FALSE))>(VLOOKUP($D$14,Lookups!$C$8:$G$88,5,FALSE))), "mg TN/litre",""),"")
C18: Stage 1 Calculated Loading
N20: AND($C$9<DATE(2025,1,1),OR((VLOOKUP($C$13,Lookups!$A$9:$E$14,2,FALSE))>(VLOOKUP($C$13,Lookups!$A$9:$E$14,4,FALSE)),(VLOOKUP($C$13,Lookups!$A$9:$E$14,3,FALSE))>(VLOOKUP($C$13,Lookups!$A$9:$E$14,5,FALSE))))
C21: =IFERROR(IF(AND($D$9<DATE(2025,1,1),OR((VLOOKUP($D$14,Lookups!$C$8:$G$88,2,FALSE))>(VLOOKUP($D$14,Lookups!$C$8:$G$88,4,FALSE)),(VLOOKUP($D$14,Lookups!$C$8:$G$88,3,FALSE))>(VLOOKUP($D$14,Lookups!$C$8:$G$88,5,FALSE)))),"Post-2025 Stage 1 Nutrient Loading","Stage 1 Nutrient Loading"),"") -> Stage 1 Nutrient Loading | G21: =IFERROR(IF(AND($D$9<DATE(2025,1,1),OR((VLOOKUP($D$14,Lookups!$C$8:$G$88,2,FALSE))>(VLOOKUP($D$14,Lookups!$C$8:$G$88,4,FALSE)),(VLOOKUP($D$14,Lookups!$C$8:$G$88,3,FALSE))>(VLOOKUP($D$14,Lookups!$C$8:$G$88,5,FALSE)))),"Pre-2025 Stage 1 Nutrient Loading",""),"")
C23: Additional population | D23: =IF(ISBLANK(D12),"",D10*D12) -> 1.4 | E23: people | G23: =IFERROR(IF(AND($D$9<DATE(2025,1,1),OR((VLOOKUP($D$14,Lookups!$C$8:$G$88,2,FALSE))>(VLOOKUP($D$14,Lookups!$C$8:$G$88,4,FALSE)),(VLOOKUP($D$14,Lookups!$C$8:$G$88,3,FALSE))>(VLOOKUP($D$14,Lookups!$C$8:$G$88,5,FALSE)))),"Annual wastewater TN load:",""),"") | H23: =IFERROR(IF(AND($D$9<DATE(2025,1,1),OR((VLOOKUP($D$14,Lookups!$C$8:$G$88,2,FALSE))>(VLOOKUP($D$14,Lookups!$C$8:$G$88,4,FALSE)),(VLOOKUP($D$14,Lookups!$C$8:$G$88,3,FALSE))>(VLOOKUP($D$14,Lookups!$C$8:$G$88,5,FALSE)))),IF(D16=25,(D16*D$24)/1000000*365.25,(D16*D$24*0.9)/1000000*365.25),""),"") | I23: =IFERROR(IF(AND($D$9<DATE(2025,1,1),OR((VLOOKUP($D$14,Lookups!$C$8:$G$88,2,FALSE))>(VLOOKUP($D$14,Lookups!$C$8:$G$88,4,FALSE)),(VLOOKUP($D$14,Lookups!$C$8:$G$88,3,FALSE))>(VLOOKUP($D$14,Lookups!$C$8:$G$88,5,FALSE)))),"kg TN/yr",""),"")
C24: Wastewater by development | D24: =IFERROR(D23*D11,"") -> 168 | E24: litres/day
C27: TP discharge from WwTW | D27: =IFERROR(IF(ISNUMBER(G15),G15*D24*0.9,IF(D15="Please enter value in cell to the right:",IF(AND(D15="Please enter value in cell to the right:",ISNUMBER(E15)),D24*E15, VLOOKUP((LEFT(D14,(LEN(D14)-13))&" default"),Lookups!C87:E88,2,FALSE)*D24),IF(OR(D14="Package Treatment Plant default",D14="Septic Tank default"),D15*D24,IF(D15=8,D15*D24,D15*D24*0.9)))),"") -> 1164.24 | E27: mg TP/day
C28: Convert to kg/TP/d | D28: =IFERROR($D$27/1000000,"") -> 0.00116424 | E28: kg TP/day
C29: Convert to kg/TP/yr | D29: =IFERROR($D$28*365.25,"") -> 0.42523866 | E29: kg TP/yr
C30: Annual wastewater TP load | D30: =D29 -> 0.42523866 | E30: kg TP/yr
C33: TN discharge from WwTW | D33: =IFERROR(IF(ISNUMBER(G16),G16*D24*0.9,IF(D16="Please enter value in cell to the right:",IF(AND(D16="Please enter value in cell to the right:",ISNUMBER(E16)),D24*(IF(E16-2<0,E16,E16-2)), VLOOKUP((LEFT(D14,(LEN(D14)-13))&" default"),Lookups!C87:E88,3,FALSE)*D24),IF(OR(D14="Package Treatment Plant default",D14="Septic Tank default"),D16*D24,IF(VLOOKUP(D14,Lookups!$C$8:$G$85,3,FALSE)=27,D16*D24,D16*D24*0.9)))),"") -> 1164.24 | E33: mg TN/day
C34: Convert to kg/TN/d | D34: =IFERROR($D$33/1000000,"") -> 0.00116424 | E34: kg TN/day
C35: Convert to kg/TN/yr | D35: =IFERROR($D$34*365.25,"") -> 0.42523866 | E35: kg TN/yr
C36: Annual wastewater TN load | D36: =D35 -> 0.42523866 | E36: kg TN/yr

Sheet Stage 2
B3: Stage 2
C7: User Inputs
C9: Catchment: | E9: East Hampshire Rivers
C10: Soil drainage type: | E10: Impeded drainage
C11: Annual average rainfall (mm): | E11: 750.1 - 800
C12: Within Nitrate Vulnerable Zone (NVZ): | E12: Yes
C14: Existing land use type(s) | D14: Area (ha) | E14: Annual nitrogen nutrient export (kg TN)
C15: Residential urban land | D15: 0.037 | E15: =IF(OR(ISBLANK($C15),ISBLANK($D15),ISBLANK($E$10),ISBLANK($E$11)),"",IFERROR($D15*VLOOKUP((IF(OR($C15="Residential urban land",$C15="Commercial/industrial urban land",$C15="Open urban land",$C15="Greenspace",$C15="Community food growing",$C15="Woodland",$C15="Shrub", $C15="Water"), "|||"&$C15, (VLOOKUP('Stage 2'!$E$9,Lookups!$C$648:$D$656,2,FALSE)&"|"&$C15&"|"&VLOOKUP('Stage 2'!$E$12,Lookups!$C$670:$D$671,2,FALSE)&"|"&VLOOKUP('Stage 2'!$E$11,Lookups!$C$622:$E$644,3,FALSE)&"|"&VLOOKUP($E$10,Lookups!$C$661:$D$666,2,FALSE)))),Lookups!$H$94:$J$618,3,FALSE), IFERROR(IFERROR($D15*VLOOKUP(VLOOKUP($E$9,Lookups!$C$648:$E$656,3,FALSE)&"|"&$C15&"|"&VLOOKUP('Stage 2'!$E$12,Lookups!$C$670:$D$671,2,FALSE)&"|"&VLOOKUP('Stage 2'!$E$11,Lookups!$C$622:$E$644,3,FALSE)&"|"&VLOOKUP($E$10,Lookups!$C$661:$D$666,2,FALSE),Lookups!$H$355:$J$618,3,FALSE),IFERROR($D15*VLOOKUP(VLOOKUP($E$9,Lookups!$C$648:$E$656,3,FALSE)&"|"&$C15&"|"&"TRUE"&"|"&VLOOKUP('Stage 2'!$E$11,Lookups!$C$622:$E$644,3,FALSE)&"|"&VLOOKUP($E$10,Lookups!$C$661:$D$666,2,FALSE),Lookups!$H$355:$J$618,3,FALSE),$D15*VLOOKUP(VLOOKUP($E$9,Lookups!$C$648:$E$656,3,FALSE)&"|"&$C15&"|"&VLOOKUP('Stage 2'!$E$12,Lookups!$C$670:$D$671,2,FALSE)&"|"&VLOOKUP('Stage 2'!$E$11,Lookups!$C$622:$E$644,3,FALSE)&"|"&"DrainedArGr",Lookups!$H$355:$J$618,3,FALSE))),IFERROR($D15*VLOOKUP($C15&"|"&VLOOKUP('Stage 2'!$E$11,Lookups!$C$622:$E$644,3,FALSE),Lookups!$K$94:$M$610,3,FALSE),$D15*VLOOKUP($C15,Lookups!$D$94:$O$610,12,FALSE))))) -> 0.53449146 | G15: =IF( OR(ISBLANK($C15),ISBLANK($D15),ISBLANK($E$10),ISBLANK($E$9),ISBLANK($E$11)),"",IFERROR($D15*VLOOKUP((IF( OR($C15="Residential urban land",$C15="Commercial/industrial urban land",$C15="Open urban land",$C15="Greenspace",$C15="Community food growing",$C15="Woodland",$C15="Shrub",$C15="Water"),"|||"&$C15,(VLOOKUP('Stage 2'!$E$9,Lookups!$C$648:$D$656,2,FALSE)&"|"&$C15&"|"&VLOOKUP('Stage 2'!$E$12,Lookups!$C$670:$D$671,2,FALSE)&"|"&VLOOKUP('Stage 2'!$E$11,Lookups!$C$622:$E$644,3,FALSE)&"|"&VLOOKUP($E$10,Lookups!$C$661:$D$666,2,FALSE)))),Lookups!$H$94:$J$618,3,FALSE), IFERROR($D15*VLOOKUP(VLOOKUP($E$9,Lookups!$C$648:$E$656,3,FALSE)&"|"&$C15&"|"&VLOOKUP('Stage 2'!$E$12,Lookups!$C$670:$D$671,2,FALSE)&"|"&VLOOKUP('Stage 2'!$E$11,Lookups!$C$622:$E$644,3,FALSE)&"|"&VLOOKUP($E$10,Lookups!$C$661:$D$666,2,FALSE),Lookups!$H$355:$J$618,3,FALSE),"In the absence of real world data, this figure has been generated using the most relevant average nutrient reduction coefficient."))) -> 0.53449146
E16: =IF(OR(ISBLANK($C16),ISBLANK($D16),ISBLANK($E$10),ISBLANK($E$11)),"",IFERROR($D16*VLOOKUP((IF(OR($C16="Residential urban land",$C16="Commercial/industrial urban land",$C16="Open urban land",$C16="Greenspace",$C16="Community food growing",$C16="Woodland",$C16="Shrub", $C16="Water"), "|||"&$C16, (VLOOKUP('Stage 2'!$E$9,Lookups!$C$648:$D$656,2,FALSE)&"|"&$C16&"|"&VLOOKUP('Stage 2'!$E$12,Lookups!$C$670:$D$671,2,FALSE)&"|"&VLOOKUP('Stage 2'!$E$11,Lookups!$C$622:$E$644,3,FALSE)&"|"&VLOOKUP($E$10,Lookups!$C$661:$D$666,2,FALSE)))),Lookups!$H$94:$J$618,3,FALSE), IFERROR(IFERROR($D16*VLOOKUP(VLOOKUP($E$9,Lookups!$C$648:$E$656,3,FALSE)&"|"&$C16&"|"&VLOOKUP('Stage 2'!$E$12,Lookups!$C$670:$D$671,2,FALSE)&"|"&VLOOKUP('Stage 2'!$E$11,Lookups!$C$622:$E$644,3,FALSE)&"|"&VLOOKUP($E$10,Lookups!$C$661:$D$666,2,FALSE),Lookups!$H$355:$J$618,3,FALSE),IFERROR($D16*VLOOKUP(VLOOKUP($E$9,Lookups!$C$648:$E$656,3,FALSE)&"|"&$C16&"|"&"TRUE"&"|"&VLOOKUP('Stage 2'!$E$11,Lookups!$C$622:$E$644,3,FALSE)&"|"&VLOOKUP($E$10,Lookups!$C$661:$D$666,2,FALSE),Lookups!$H$355:$J$618,3,FALSE),$D16*VLOOKUP(VLOOKUP($E$9,Lookups!$C$648:$E$656,3,FALSE)&"|"&$C16&"|"&VLOOKUP('Stage 2'!$E$12,Lookups!$C$670:$D$671,2,FALSE)&"|"&VLOOKUP('Stage 2'!$E$11,Lookups!$C$622:$E$644,3,FALSE)&"|"&"DrainedArGr",Lookups!$H$355:$J$618,3,FALSE))),IFERROR($D16*VLOOKUP($C16&"|"&VLOOKUP('Stage 2'!$E$11,Lookups!$C$622:$E$644,3,FALSE),Lookups!$K$94:$M$610,3,FALSE),$D16*VLOOKUP($C16,Lookups!$D$94:$O$610,12,FALSE))))) | G16: =IF( OR(ISBLANK($C16),ISBLANK($D16),ISBLANK($E$10),ISBLANK($E$9),ISBLANK($E$11)),"",IFERROR($D16*VLOOKUP((IF( OR($C16="Residential urban land",$C16="Commercial/industrial urban land",$C16="Open urban land",$C16="Greenspace",$C16="Community food growing",$C16="Woodland",$C16="Shrub",$C16="Water"),"|||"&$C16,(VLOOKUP('Stage 2'!$E$9,Lookups!$C$648:$D$656,2,FALSE)&"|"&$C16&"|"&VLOOKUP('Stage 2'!$E$12,Lookups!$C$670:$D$671,2,FALSE)&"|"&VLOOKUP('Stage 2'!$E$11,Lookups!$C$622:$E$644,3,FALSE)&"|"&VLOOKUP($E$10,Lookups!$C$661:$D$666,2,FALSE)))),Lookups!$H$94:$J$618,3,FALSE), IFERROR($D16*VLOOKUP(VLOOKUP($E$9,Lookups!$C$648:$E$656,3,FALSE)&"|"&$C16&"|"&VLOOKUP('Stage 2'!$E$12,Lookups!$C$670:$D$671,2,FALSE)&"|"&VLOOKUP('Stage 2'!$E$11,Lookups!$C$622:$E$644,3,FALSE)&"|"&VLOOKUP($E$10,Lookups!$C$661:$D$666,2,FALSE),Lookups!$H$355:$J$618,3,FALSE),"In the absence of real world data, this figure has been generated using the most relevant average nutrient reduction coefficient.")))
E17: =IF(OR(ISBLANK($C17),ISBLANK($D17),ISBLANK($E$10),ISBLANK($E$11)),"",IFERROR($D17*VLOOKUP((IF(OR($C17="Residential urban land",$C17="Commercial/industrial urban land",$C17="Open urban land",$C17="Greenspace",$C17="Community food growing",$C17="Woodland",$C17="Shrub", $C17="Water"), "|||"&$C17, (VLOOKUP('Stage 2'!$E$9,Lookups!$C$648:$D$656,2,FALSE)&"|"&$C17&"|"&VLOOKUP('Stage 2'!$E$12,Lookups!$C$670:$D$671,2,FALSE)&"|"&VLOOKUP('Stage 2'!$E$11,Lookups!$C$622:$E$644,3,FALSE)&"|"&VLOOKUP($E$10,Lookups!$C$661:$D$666,2,FALSE)))),Lookups!$H$94:$J$618,3,FALSE), IFERROR(IFERROR($D17*VLOOKUP(VLOOKUP($E$9,Lookups!$C$648:$E$656,3,FALSE)&"|"&$C17&"|"&VLOOKUP('Stage 2'!$E$12,Lookups!$C$670:$D$671,2,FALSE)&"|"&VLOOKUP('Stage 2'!$E$11,Lookups!$C$622:$E$644,3,FALSE)&"|"&VLOOKUP($E$10,Lookups!$C$661:$D$666,2,FALSE),Lookups!$H$355:$J$618,3,FALSE),IFERROR($D17*VLOOKUP(VLOOKUP($E$9,Lookups!$C$648:$E$656,3,FALSE)&"|"&$C17&"|"&"TRUE"&"|"&VLOOKUP('Stage 2'!$E$11,Lookups!$C$622:$E$644,3,FALSE)&"|"&VLOOKUP($E$10,Lookups!$C$661:$D$666,2,FALSE),Lookups!$H$355:$J$618,3,FALSE),$D17*VLOOKUP(VLOOKUP($E$9,Lookups!$C$648:$E$656,3,FALSE)&"|"&$C17&"|"&VLOOKUP('Stage 2'!$E$12,Lookups!$C$670:$D$671,2,FALSE)&"|"&VLOOKUP('Stage 2'!$E$11,Lookups!$C$622:$E$644,3,FALSE)&"|"&"DrainedArGr",Lookups!$H$355:$J$618,3,FALSE))),IFERROR($D17*VLOOKUP($C17&"|"&VLOOKUP('Stage 2'!$E$11,Lookups!$C$622:$E$644,3,FALSE),Lookups!$K$94:$M$610,3,FALSE),$D17*VLOOKUP($C17,Lookups!$D$94:$O$610,12,FALSE))))) | G17: =IF( OR(ISBLANK($C17),ISBLANK($D17),ISBLANK($E$10),ISBLANK($E$9),ISBLANK($E$11)),"",IFERROR($D17*VLOOKUP((IF( OR($C17="Residential urban land",$C17="Commercial/industrial urban land",$C17="Open urban land",$C17="Greenspace",$C17="Community food growing",$C17="Woodland",$C17="Shrub",$C17="Water"),"|||"&$C17,(VLOOKUP('Stage 2'!$E$9,Lookups!$C$648:$D$656,2,FALSE)&"|"&$C17&"|"&VLOOKUP('Stage 2'!$E$12,Lookups!$C$670:$D$671,2,FALSE)&"|"&VLOOKUP('Stage 2'!$E$11,Lookups!$C$622:$E$644,3,FALSE)&"|"&VLOOKUP($E$10,Lookups!$C$661:$D$666,2,FALSE)))),Lookups!$H$94:$J$618,3,FALSE), IFERROR($D17*VLOOKUP(VLOOKUP($E$9,Lookups!$C$648:$E$656,3,FALSE)&"|"&$C17&"|"&VLOOKUP('Stage 2'!$E$12,Lookups!$C$670:$D$671,2,FALSE)&"|"&VLOOKUP('Stage 2'!$E$11,Lookups!$C$622:$E$644,3,FALSE)&"|"&VLOOKUP($E$10,Lookups!$C$661:$D$666,2,FALSE),Lookups!$H$355:$J$618,3,FALSE),"In the absence of real world data, this figure has been generated using the most relevant average nutrient reduction coefficient.")))
E18: =IF(OR(ISBLANK($C18),ISBLANK($D18),ISBLANK($E$10),ISBLANK($E$11)),"",IFERROR($D18*VLOOKUP((IF(OR($C18="Residential urban land",$C18="Commercial/industrial urban land",$C18="Open urban land",$C18="Greenspace",$C18="Community food growing",$C18="Woodland",$C18="Shrub", $C18="Water"), "|||"&$C18, (VLOOKUP('Stage 2'!$E$9,Lookups!$C$648:$D$656,2,FALSE)&"|"&$C18&"|"&VLOOKUP('Stage 2'!$E$12,Lookups!$C$670:$D$671,2,FALSE)&"|"&VLOOKUP('Stage 2'!$E$11,Lookups!$C$622:$E$644,3,FALSE)&"|"&VLOOKUP($E$10,Lookups!$C$661:$D$666,2,FALSE)))),Lookups!$H$94:$J$618,3,FALSE), IFERROR(IFERROR($D18*VLOOKUP(VLOOKUP($E$9,Lookups!$C$648:$E$656,3,FALSE)&"|"&$C18&"|"&VLOOKUP('Stage 2'!$E$12,Lookups!$C$670:$D$671,2,FALSE)&"|"&VLOOKUP('Stage 2'!$E$11,Lookups!$C$622:$E$644,3,FALSE)&"|"&VLOOKUP($E$10,Lookups!$C$661:$D$666,2,FALSE),Lookups!$H$355:$J$618,3,FALSE),IFERROR($D18*VLOOKUP(VLOOKUP($E$9,Lookups!$C$648:$E$656,3,FALSE)&"|"&$C18&"|"&"TRUE"&"|"&VLOOKUP('Stage 2'!$E$11,Lookups!$C$622:$E$644,3,FALSE)&"|"&VLOOKUP($E$10,Lookups!$C$661:$D$666,2,FALSE),Lookups!$H$355:$J$618,3,FALSE),$D18*VLOOKUP(VLOOKUP($E$9,Lookups!$C$648:$E$656,3,FALSE)&"|"&$C18&"|"&VLOOKUP('Stage 2'!$E$12,Lookups!$C$670:$D$671,2,FALSE)&"|"&VLOOKUP('Stage 2'!$E$11,Lookups!$C$622:$E$644,3,FALSE)&"|"&"DrainedArGr",Lookups!$H$355:$J$618,3,FALSE))),IFERROR($D18*VLOOKUP($C18&"|"&VLOOKUP('Stage 2'!$E$11,Lookups!$C$622:$E$644,3,FALSE),Lookups!$K$94:$M$610,3,FALSE),$D18*VLOOKUP($C18,Lookups!$D$94:$O$610,12,FALSE))))) | G18: =IF( OR(ISBLANK($C18),ISBLANK($D18),ISBLANK($E$10),ISBLANK($E$9),ISBLANK($E$11)),"",IFERROR($D18*VLOOKUP((IF( OR($C18="Residential urban land",$C18="Commercial/industrial urban land",$C18="Open urban land",$C18="Greenspace",$C18="Community food growing",$C18="Woodland",$C18="Shrub",$C18="Water"),"|||"&$C18,(VLOOKUP('Stage 2'!$E$9,Lookups!$C$648:$D$656,2,FALSE)&"|"&$C18&"|"&VLOOKUP('Stage 2'!$E$12,Lookups!$C$670:$D$671,2,FALSE)&"|"&VLOOKUP('Stage 2'!$E$11,Lookups!$C$622:$E$644,3,FALSE)&"|"&VLOOKUP($E$10,Lookups!$C$661:$D$666,2,FALSE)))),Lookups!$H$94:$J$618,3,FALSE), IFERROR($D18*VLOOKUP(VLOOKUP($E$9,Lookups!$C$648:$E$656,3,FALSE)&"|"&$C18&"|"&VLOOKUP('Stage 2'!$E$12,Lookups!$C$670:$D$671,2,FALSE)&"|"&VLOOKUP('Stage 2'!$E$11,Lookups!$C$622:$E$644,3,FALSE)&"|"&VLOOKUP($E$10,Lookups!$C$661:$D$666,2,FALSE),Lookups!$H$355:$J$618,3,FALSE),"In the absence of real world data, this figure has been generated using the most relevant average nutrient reduction coefficient.")))
E19: =IF(OR(ISBLANK($C19),ISBLANK($D19),ISBLANK($E$10),ISBLANK($E$11)),"",IFERROR($D19*VLOOKUP((IF(OR($C19="Residential urban land",$C19="Commercial/industrial urban land",$C19="Open urban land",$C19="Greenspace",$C19="Community food growing",$C19="Woodland",$C19="Shrub", $C19="Water"), "|||"&$C19, (VLOOKUP('Stage 2'!$E$9,Lookups!$C$648:$D$656,2,FALSE)&"|"&$C19&"|"&VLOOKUP('Stage 2'!$E$12,Lookups!$C$670:$D$671,2,FALSE)&"|"&VLOOKUP('Stage 2'!$E$11,Lookups!$C$622:$E$644,3,FALSE)&"|"&VLOOKUP($E$10,Lookups!$C$661:$D$666,2,FALSE)))),Lookups!$H$94:$J$618,3,FALSE), IFERROR(IFERROR($D19*VLOOKUP(VLOOKUP($E$9,Lookups!$C$648:$E$656,3,FALSE)&"|"&$C19&"|"&VLOOKUP('Stage 2'!$E$12,Lookups!$C$670:$D$671,2,FALSE)&"|"&VLOOKUP('Stage 2'!$E$11,Lookups!$C$622:$E$644,3,FALSE)&"|"&VLOOKUP($E$10,Lookups!$C$661:$D$666,2,FALSE),Lookups!$H$355:$J$618,3,FALSE),IFERROR($D19*VLOOKUP(VLOOKUP($E$9,Lookups!$C$648:$E$656,3,FALSE)&"|"&$C19&"|"&"TRUE"&"|"&VLOOKUP('Stage 2'!$E$11,Lookups!$C$622:$E$644,3,FALSE)&"|"&VLOOKUP($E$10,Lookups!$C$661:$D$666,2,FALSE),Lookups!$H$355:$J$618,3,FALSE),$D19*VLOOKUP(VLOOKUP($E$9,Lookups!$C$648:$E$656,3,FALSE)&"|"&$C19&"|"&VLOOKUP('Stage 2'!$E$12,Lookups!$C$670:$D$671,2,FALSE)&"|"&VLOOKUP('Stage 2'!$E$11,Lookups!$C$622:$E$644,3,FALSE)&"|"&"DrainedArGr",Lookups!$H$355:$J$618,3,FALSE))),IFERROR($D19*VLOOKUP($C19&"|"&VLOOKUP('Stage 2'!$E$11,Lookups!$C$622:$E$644,3,FALSE),Lookups!$K$94:$M$610,3,FALSE),$D19*VLOOKUP($C19,Lookups!$D$94:$O$610,12,FALSE))))) | G19: =IF( OR(ISBLANK($C19),ISBLANK($D19),ISBLANK($E$10),ISBLANK($E$9),ISBLANK($E$11)),"",IFERROR($D19*VLOOKUP((IF( OR($C19="Residential urban land",$C19="Commercial/industrial urban land",$C19="Open urban land",$C19="Greenspace",$C19="Community food growing",$C19="Woodland",$C19="Shrub",$C19="Water"),"|||"&$C19,(VLOOKUP('Stage 2'!$E$9,Lookups!$C$648:$D$656,2,FALSE)&"|"&$C19&"|"&VLOOKUP('Stage 2'!$E$12,Lookups!$C$670:$D$671,2,FALSE)&"|"&VLOOKUP('Stage 2'!$E$11,Lookups!$C$622:$E$644,3,FALSE)&"|"&VLOOKUP($E$10,Lookups!$C$661:$D$666,2,FALSE)))),Lookups!$H$94:$J$618,3,FALSE), IFERROR($D19*VLOOKUP(VLOOKUP($E$9,Lookups!$C$648:$E$656,3,FALSE)&"|"&$C19&"|"&VLOOKUP('Stage 2'!$E$12,Lookups!$C$670:$D$671,2,FALSE)&"|"&VLOOKUP('Stage 2'!$E$11,Lookups!$C$622:$E$644,3,FALSE)&"|"&VLOOKUP($E$10,Lookups!$C$661:$D$666,2,FALSE),Lookups!$H$355:$J$618,3,FALSE),"In the absence of real world data, this figure has been generated using the most relevant average nutrient reduction coefficient.")))
E20: =IF(OR(ISBLANK($C20),ISBLANK($D20),ISBLANK($E$10),ISBLANK($E$11)),"",IFERROR($D20*VLOOKUP((IF(OR($C20="Residential urban land",$C20="Commercial/industrial urban land",$C20="Open urban land",$C20="Greenspace",$C20="Community food growing",$C20="Woodland",$C20="Shrub", $C20="Water"), "|||"&$C20, (VLOOKUP('Stage 2'!$E$9,Lookups!$C$648:$D$656,2,FALSE)&"|"&$C20&"|"&VLOOKUP('Stage 2'!$E$12,Lookups!$C$670:$D$671,2,FALSE)&"|"&VLOOKUP('Stage 2'!$E$11,Lookups!$C$622:$E$644,3,FALSE)&"|"&VLOOKUP($E$10,Lookups!$C$661:$D$666,2,FALSE)))),Lookups!$H$94:$J$618,3,FALSE), IFERROR(IFERROR($D20*VLOOKUP(VLOOKUP($E$9,Lookups!$C$648:$E$656,3,FALSE)&"|"&$C20&"|"&VLOOKUP('Stage 2'!$E$12,Lookups!$C$670:$D$671,2,FALSE)&"|"&VLOOKUP('Stage 2'!$E$11,Lookups!$C$622:$E$644,3,FALSE)&"|"&VLOOKUP($E$10,Lookups!$C$661:$D$666,2,FALSE),Lookups!$H$355:$J$618,3,FALSE),IFERROR($D20*VLOOKUP(VLOOKUP($E$9,Lookups!$C$648:$E$656,3,FALSE)&"|"&$C20&"|"&"TRUE"&"|"&VLOOKUP('Stage 2'!$E$11,Lookups!$C$622:$E$644,3,FALSE)&"|"&VLOOKUP($E$10,Lookups!$C$661:$D$666,2,FALSE),Lookups!$H$355:$J$618,3,FALSE),$D20*VLOOKUP(VLOOKUP($E$9,Lookups!$C$648:$E$656,3,FALSE)&"|"&$C20&"|"&VLOOKUP('Stage 2'!$E$12,Lookups!$C$670:$D$671,2,FALSE)&"|"&VLOOKUP('Stage 2'!$E$11,Lookups!$C$622:$E$644,3,FALSE)&"|"&"DrainedArGr",Lookups!$H$355:$J$618,3,FALSE))),IFERROR($D20*VLOOKUP($C20&"|"&VLOOKUP('Stage 2'!$E$11,Lookups!$C$622:$E$644,3,FALSE),Lookups!$K$94:$M$610,3,FALSE),$D20*VLOOKUP($C20,Lookups!$D$94:$O$610,12,FALSE))))) | G20: =IF( OR(ISBLANK($C20),ISBLANK($D20),ISBLANK($E$10),ISBLANK($E$9),ISBLANK($E$11)),"",IFERROR($D20*VLOOKUP((IF( OR($C20="Residential urban land",$C20="Commercial/industrial urban land",$C20="Open urban land",$C20="Greenspace",$C20="Community food growing",$C20="Woodland",$C20="Shrub",$C20="Water"),"|||"&$C20,(VLOOKUP('Stage 2'!$E$9,Lookups!$C$648:$D$656,2,FALSE)&"|"&$C20&"|"&VLOOKUP('Stage 2'!$E$12,Lookups!$C$670:$D$671,2,FALSE)&"|"&VLOOKUP('Stage 2'!$E$11,Lookups!$C$622:$E$644,3,FALSE)&"|"&VLOOKUP($E$10,Lookups!$C$661:$D$666,2,FALSE)))),Lookups!$H$94:$J$618,3,FALSE), IFERROR($D20*VLOOKUP(VLOOKUP($E$9,Lookups!$C$648:$E$656,3,FALSE)&"|"&$C20&"|"&VLOOKUP('Stage 2'!$E$12,Lookups!$C$670:$D$671,2,FALSE)&"|"&VLOOKUP('Stage 2'!$E$11,Lookups!$C$622:$E$644,3,FALSE)&"|"&VLOOKUP($E$10,Lookups!$C$661:$D$666,2,FALSE),Lookups!$H$355:$J$618,3,FALSE),"In the absence of real world data, this figure has been generated using the most relevant average nutrient reduction coefficient.")))
E21: =IF(OR(ISBLANK($C21),ISBLANK($D21),ISBLANK($E$10),ISBLANK($E$11)),"",IFERROR($D21*VLOOKUP((IF(OR($C21="Residential urban land",$C21="Commercial/industrial urban land",$C21="Open urban land",$C21="Greenspace",$C21="Community food growing",$C21="Woodland",$C21="Shrub", $C21="Water"), "|||"&$C21, (VLOOKUP('Stage 2'!$E$9,Lookups!$C$648:$D$656,2,FALSE)&"|"&$C21&"|"&VLOOKUP('Stage 2'!$E$12,Lookups!$C$670:$D$671,2,FALSE)&"|"&VLOOKUP('Stage 2'!$E$11,Lookups!$C$622:$E$644,3,FALSE)&"|"&VLOOKUP($E$10,Lookups!$C$661:$D$666,2,FALSE)))),Lookups!$H$94:$J$618,3,FALSE), IFERROR(IFERROR($D21*VLOOKUP(VLOOKUP($E$9,Lookups!$C$648:$E$656,3,FALSE)&"|"&$C21&"|"&VLOOKUP('Stage 2'!$E$12,Lookups!$C$670:$D$671,2,FALSE)&"|"&VLOOKUP('Stage 2'!$E$11,Lookups!$C$622:$E$644,3,FALSE)&"|"&VLOOKUP($E$10,Lookups!$C$661:$D$666,2,FALSE),Lookups!$H$355:$J$618,3,FALSE),IFERROR($D21*VLOOKUP(VLOOKUP($E$9,Lookups!$C$648:$E$656,3,FALSE)&"|"&$C21&"|"&"TRUE"&"|"&VLOOKUP('Stage 2'!$E$11,Lookups!$C$622:$E$644,3,FALSE)&"|"&VLOOKUP($E$10,Lookups!$C$661:$D$666,2,FALSE),Lookups!$H$355:$J$618,3,FALSE),$D21*VLOOKUP(VLOOKUP($E$9,Lookups!$C$648:$E$656,3,FALSE)&"|"&$C21&"|"&VLOOKUP('Stage 2'!$E$12,Lookups!$C$670:$D$671,2,FALSE)&"|"&VLOOKUP('Stage 2'!$E$11,Lookups!$C$622:$E$644,3,FALSE)&"|"&"DrainedArGr",Lookups!$H$355:$J$618,3,FALSE))),IFERROR($D21*VLOOKUP($C21&"|"&VLOOKUP('Stage 2'!$E$11,Lookups!$C$622:$E$644,3,FALSE),Lookups!$K$94:$M$610,3,FALSE),$D21*VLOOKUP($C21,Lookups!$D$94:$O$610,12,FALSE))))) | G21: =IF( OR(ISBLANK($C21),ISBLANK($D21),ISBLANK($E$10),ISBLANK($E$9),ISBLANK($E$11)),"",IFERROR($D21*VLOOKUP((IF( OR($C21="Residential urban land",$C21="Commercial/industrial urban land",$C21="Open urban land",$C21="Greenspace",$C21="Community food growing",$C21="Woodland",$C21="Shrub",$C21="Water"),"|||"&$C21,(VLOOKUP('Stage 2'!$E$9,Lookups!$C$648:$D$656,2,FALSE)&"|"&$C21&"|"&VLOOKUP('Stage 2'!$E$12,Lookups!$C$670:$D$671,2,FALSE)&"|"&VLOOKUP('Stage 2'!$E$11,Lookups!$C$622:$E$644,3,FALSE)&"|"&VLOOKUP($E$10,Lookups!$C$661:$D$666,2,FALSE)))),Lookups!$H$94:$J$618,3,FALSE), IFERROR($D21*VLOOKUP(VLOOKUP($E$9,Lookups!$C$648:$E$656,3,FALSE)&"|"&$C21&"|"&VLOOKUP('Stage 2'!$E$12,Lookups!$C$670:$D$671,2,FALSE)&"|"&VLOOKUP('Stage 2'!$E$11,Lookups!$C$622:$E$644,3,FALSE)&"|"&VLOOKUP($E$10,Lookups!$C$661:$D$666,2,FALSE),Lookups!$H$355:$J$618,3,FALSE),"In the absence of real world data, this figure has been generated using the most relevant average nutrient reduction coefficient.")))
E22: =IF(OR(ISBLANK($C22),ISBLANK($D22),ISBLANK($E$10),ISBLANK($E$11)),"",IFERROR($D22*VLOOKUP((IF(OR($C22="Residential urban land",$C22="Commercial/industrial urban land",$C22="Open urban land",$C22="Greenspace",$C22="Community food growing",$C22="Woodland",$C22="Shrub", $C22="Water"), "|||"&$C22, (VLOOKUP('Stage 2'!$E$9,Lookups!$C$648:$D$656,2,FALSE)&"|"&$C22&"|"&VLOOKUP('Stage 2'!$E$12,Lookups!$C$670:$D$671,2,FALSE)&"|"&VLOOKUP('Stage 2'!$E$11,Lookups!$C$622:$E$644,3,FALSE)&"|"&VLOOKUP($E$10,Lookups!$C$661:$D$666,2,FALSE)))),Lookups!$H$94:$J$618,3,FALSE), IFERROR(IFERROR($D22*VLOOKUP(VLOOKUP($E$9,Lookups!$C$648:$E$656,3,FALSE)&"|"&$C22&"|"&VLOOKUP('Stage 2'!$E$12,Lookups!$C$670:$D$671,2,FALSE)&"|"&VLOOKUP('Stage 2'!$E$11,Lookups!$C$622:$E$644,3,FALSE)&"|"&VLOOKUP($E$10,Lookups!$C$661:$D$666,2,FALSE),Lookups!$H$355:$J$618,3,FALSE),IFERROR($D22*VLOOKUP(VLOOKUP($E$9,Lookups!$C$648:$E$656,3,FALSE)&"|"&$C22&"|"&"TRUE"&"|"&VLOOKUP('Stage 2'!$E$11,Lookups!$C$622:$E$644,3,FALSE)&"|"&VLOOKUP($E$10,Lookups!$C$661:$D$666,2,FALSE),Lookups!$H$355:$J$618,3,FALSE),$D22*VLOOKUP(VLOOKUP($E$9,Lookups!$C$648:$E$656,3,FALSE)&"|"&$C22&"|"&VLOOKUP('Stage 2'!$E$12,Lookups!$C$670:$D$671,2,FALSE)&"|"&VLOOKUP('Stage 2'!$E$11,Lookups!$C$622:$E$644,3,FALSE)&"|"&"DrainedArGr",Lookups!$H$355:$J$618,3,FALSE))),IFERROR($D22*VLOOKUP($C22&"|"&VLOOKUP('Stage 2'!$E$11,Lookups!$C$622:$E$644,3,FALSE),Lookups!$K$94:$M$610,3,FALSE),$D22*VLOOKUP($C22,Lookups!$D$94:$O$610,12,FALSE))))) | G22: =IF( OR(ISBLANK($C22),ISBLANK($D22),ISBLANK($E$10),ISBLANK($E$9),ISBLANK($E$11)),"",IFERROR($D22*VLOOKUP((IF( OR($C22="Residential urban land",$C22="Commercial/industrial urban land",$C22="Open urban land",$C22="Greenspace",$C22="Community food growing",$C22="Woodland",$C22="Shrub",$C22="Water"),"|||"&$C22,(VLOOKUP('Stage 2'!$E$9,Lookups!$C$648:$D$656,2,FALSE)&"|"&$C22&"|"&VLOOKUP('Stage 2'!$E$12,Lookups!$C$670:$D$671,2,FALSE)&"|"&VLOOKUP('Stage 2'!$E$11,Lookups!$C$622:$E$644,3,FALSE)&"|"&VLOOKUP($E$10,Lookups!$C$661:$D$666,2,FALSE)))),Lookups!$H$94:$J$618,3,FALSE), IFERROR($D22*VLOOKUP(VLOOKUP($E$9,Lookups!$C$648:$E$656,3,FALSE)&"|"&$C22&"|"&VLOOKUP('Stage 2'!$E$12,Lookups!$C$670:$D$671,2,FALSE)&"|"&VLOOKUP('Stage 2'!$E$11,Lookups!$C$622:$E$644,3,FALSE)&"|"&VLOOKUP($E$10,Lookups!$C$661:$D$666,2,FALSE),Lookups!$H$355:$J$618,3,FALSE),"In the absence of real world data, this figure has been generated using the most relevant average nutrient reduction coefficient.")))
E23: =IF(OR(ISBLANK($C23),ISBLANK($D23),ISBLANK($E$10),ISBLANK($E$11)),"",IFERROR($D23*VLOOKUP((IF(OR($C23="Residential urban land",$C23="Commercial/industrial urban land",$C23="Open urban land",$C23="Greenspace",$C23="Community food growing",$C23="Woodland",$C23="Shrub", $C23="Water"), "|||"&$C23, (VLOOKUP('Stage 2'!$E$9,Lookups!$C$648:$D$656,2,FALSE)&"|"&$C23&"|"&VLOOKUP('Stage 2'!$E$12,Lookups!$C$670:$D$671,2,FALSE)&"|"&VLOOKUP('Stage 2'!$E$11,Lookups!$C$622:$E$644,3,FALSE)&"|"&VLOOKUP($E$10,Lookups!$C$661:$D$666,2,FALSE)))),Lookups!$H$94:$J$618,3,FALSE), IFERROR(IFERROR($D23*VLOOKUP(VLOOKUP($E$9,Lookups!$C$648:$E$656,3,FALSE)&"|"&$C23&"|"&VLOOKUP('Stage 2'!$E$12,Lookups!$C$670:$D$671,2,FALSE)&"|"&VLOOKUP('Stage 2'!$E$11,Lookups!$C$622:$E$644,3,FALSE)&"|"&VLOOKUP($E$10,Lookups!$C$661:$D$666,2,FALSE),Lookups!$H$355:$J$618,3,FALSE),IFERROR($D23*VLOOKUP(VLOOKUP($E$9,Lookups!$C$648:$E$656,3,FALSE)&"|"&$C23&"|"&"TRUE"&"|"&VLOOKUP('Stage 2'!$E$11,Lookups!$C$622:$E$644,3,FALSE)&"|"&VLOOKUP($E$10,Lookups!$C$661:$D$666,2,FALSE),Lookups!$H$355:$J$618,3,FALSE),$D23*VLOOKUP(VLOOKUP($E$9,Lookups!$C$648:$E$656,3,FALSE)&"|"&$C23&"|"&VLOOKUP('Stage 2'!$E$12,Lookups!$C$670:$D$671,2,FALSE)&"|"&VLOOKUP('Stage 2'!$E$11,Lookups!$C$622:$E$644,3,FALSE)&"|"&"DrainedArGr",Lookups!$H$355:$J$618,3,FALSE))),IFERROR($D23*VLOOKUP($C23&"|"&VLOOKUP('Stage 2'!$E$11,Lookups!$C$622:$E$644,3,FALSE),Lookups!$K$94:$M$610,3,FALSE),$D23*VLOOKUP($C23,Lookups!$D$94:$O$610,12,FALSE))))) | G23: =IF( OR(ISBLANK($C23),ISBLANK($D23),ISBLANK($E$10),ISBLANK($E$9),ISBLANK($E$11)),"",IFERROR($D23*VLOOKUP((IF( OR($C23="Residential urban land",$C23="Commercial/industrial urban land",$C23="Open urban land",$C23="Greenspace",$C23="Community food growing",$C23="Woodland",$C23="Shrub",$C23="Water"),"|||"&$C23,(VLOOKUP('Stage 2'!$E$9,Lookups!$C$648:$D$656,2,FALSE)&"|"&$C23&"|"&VLOOKUP('Stage 2'!$E$12,Lookups!$C$670:$D$671,2,FALSE)&"|"&VLOOKUP('Stage 2'!$E$11,Lookups!$C$622:$E$644,3,FALSE)&"|"&VLOOKUP($E$10,Lookups!$C$661:$D$666,2,FALSE)))),Lookups!$H$94:$J$618,3,FALSE), IFERROR($D23*VLOOKUP(VLOOKUP($E$9,Lookups!$C$648:$E$656,3,FALSE)&"|"&$C23&"|"&VLOOKUP('Stage 2'!$E$12,Lookups!$C$670:$D$671,2,FALSE)&"|"&VLOOKUP('Stage 2'!$E$11,Lookups!$C$622:$E$644,3,FALSE)&"|"&VLOOKUP($E$10,Lookups!$C$661:$D$666,2,FALSE),Lookups!$H$355:$J$618,3,FALSE),"In the absence of real world data, this figure has been generated using the most relevant average nutrient reduction coefficient.")))
E24: =IF(OR(ISBLANK($C24),ISBLANK($D24),ISBLANK($E$10),ISBLANK($E$11)),"",IFERROR($D24*VLOOKUP((IF(OR($C24="Residential urban land",$C24="Commercial/industrial urban land",$C24="Open urban land",$C24="Greenspace",$C24="Community food growing",$C24="Woodland",$C24="Shrub", $C24="Water"), "|||"&$C24, (VLOOKUP('Stage 2'!$E$9,Lookups!$C$648:$D$656,2,FALSE)&"|"&$C24&"|"&VLOOKUP('Stage 2'!$E$12,Lookups!$C$670:$D$671,2,FALSE)&"|"&VLOOKUP('Stage 2'!$E$11,Lookups!$C$622:$E$644,3,FALSE)&"|"&VLOOKUP($E$10,Lookups!$C$661:$D$666,2,FALSE)))),Lookups!$H$94:$J$618,3,FALSE), IFERROR(IFERROR($D24*VLOOKUP(VLOOKUP($E$9,Lookups!$C$648:$E$656,3,FALSE)&"|"&$C24&"|"&VLOOKUP('Stage 2'!$E$12,Lookups!$C$670:$D$671,2,FALSE)&"|"&VLOOKUP('Stage 2'!$E$11,Lookups!$C$622:$E$644,3,FALSE)&"|"&VLOOKUP($E$10,Lookups!$C$661:$D$666,2,FALSE),Lookups!$H$355:$J$618,3,FALSE),IFERROR($D24*VLOOKUP(VLOOKUP($E$9,Lookups!$C$648:$E$656,3,FALSE)&"|"&$C24&"|"&"TRUE"&"|"&VLOOKUP('Stage 2'!$E$11,Lookups!$C$622:$E$644,3,FALSE)&"|"&VLOOKUP($E$10,Lookups!$C$661:$D$666,2,FALSE),Lookups!$H$355:$J$618,3,FALSE),$D24*VLOOKUP(VLOOKUP($E$9,Lookups!$C$648:$E$656,3,FALSE)&"|"&$C24&"|"&VLOOKUP('Stage 2'!$E$12,Lookups!$C$670:$D$671,2,FALSE)&"|"&VLOOKUP('Stage 2'!$E$11,Lookups!$C$622:$E$644,3,FALSE)&"|"&"DrainedArGr",Lookups!$H$355:$J$618,3,FALSE))),IFERROR($D24*VLOOKUP($C24&"|"&VLOOKUP('Stage 2'!$E$11,Lookups!$C$622:$E$644,3,FALSE),Lookups!$K$94:$M$610,3,FALSE),$D24*VLOOKUP($C24,Lookups!$D$94:$O$610,12,FALSE))))) | G24: =IF( OR(ISBLANK($C24),ISBLANK($D24),ISBLANK($E$10),ISBLANK($E$9),ISBLANK($E$11)),"",IFERROR($D24*VLOOKUP((IF( OR($C24="Residential urban land",$C24="Commercial/industrial urban land",$C24="Open urban land",$C24="Greenspace",$C24="Community food growing",$C24="Woodland",$C24="Shrub",$C24="Water"),"|||"&$C24,(VLOOKUP('Stage 2'!$E$9,Lookups!$C$648:$D$656,2,FALSE)&"|"&$C24&"|"&VLOOKUP('Stage 2'!$E$12,Lookups!$C$670:$D$671,2,FALSE)&"|"&VLOOKUP('Stage 2'!$E$11,Lookups!$C$622:$E$644,3,FALSE)&"|"&VLOOKUP($E$10,Lookups!$C$661:$D$666,2,FALSE)))),Lookups!$H$94:$J$618,3,FALSE), IFERROR($D24*VLOOKUP(VLOOKUP($E$9,Lookups!$C$648:$E$656,3,FALSE)&"|"&$C24&"|"&VLOOKUP('Stage 2'!$E$12,Lookups!$C$670:$D$671,2,FALSE)&"|"&VLOOKUP('Stage 2'!$E$11,Lookups!$C$622:$E$644,3,FALSE)&"|"&VLOOKUP($E$10,Lookups!$C$661:$D$666,2,FALSE),Lookups!$H$355:$J$618,3,FALSE),"In the absence of real world data, this figure has been generated using the most relevant average nutrient reduction coefficient.")))
E25: =IF(OR(ISBLANK($C25),ISBLANK($D25),ISBLANK($E$10),ISBLANK($E$11)),"",IFERROR($D25*VLOOKUP((IF(OR($C25="Residential urban land",$C25="Commercial/industrial urban land",$C25="Open urban land",$C25="Greenspace",$C25="Community food growing",$C25="Woodland",$C25="Shrub", $C25="Water"), "|||"&$C25, (VLOOKUP('Stage 2'!$E$9,Lookups!$C$648:$D$656,2,FALSE)&"|"&$C25&"|"&VLOOKUP('Stage 2'!$E$12,Lookups!$C$670:$D$671,2,FALSE)&"|"&VLOOKUP('Stage 2'!$E$11,Lookups!$C$622:$E$644,3,FALSE)&"|"&VLOOKUP($E$10,Lookups!$C$661:$D$666,2,FALSE)))),Lookups!$H$94:$J$618,3,FALSE), IFERROR(IFERROR($D25*VLOOKUP(VLOOKUP($E$9,Lookups!$C$648:$E$656,3,FALSE)&"|"&$C25&"|"&VLOOKUP('Stage 2'!$E$12,Lookups!$C$670:$D$671,2,FALSE)&"|"&VLOOKUP('Stage 2'!$E$11,Lookups!$C$622:$E$644,3,FALSE)&"|"&VLOOKUP($E$10,Lookups!$C$661:$D$666,2,FALSE),Lookups!$H$355:$J$618,3,FALSE),IFERROR($D25*VLOOKUP(VLOOKUP($E$9,Lookups!$C$648:$E$656,3,FALSE)&"|"&$C25&"|"&"TRUE"&"|"&VLOOKUP('Stage 2'!$E$11,Lookups!$C$622:$E$644,3,FALSE)&"|"&VLOOKUP($E$10,Lookups!$C$661:$D$666,2,FALSE),Lookups!$H$355:$J$618,3,FALSE),$D25*VLOOKUP(VLOOKUP($E$9,Lookups!$C$648:$E$656,3,FALSE)&"|"&$C25&"|"&VLOOKUP('Stage 2'!$E$12,Lookups!$C$670:$D$671,2,FALSE)&"|"&VLOOKUP('Stage 2'!$E$11,Lookups!$C$622:$E$644,3,FALSE)&"|"&"DrainedArGr",Lookups!$H$355:$J$618,3,FALSE))),IFERROR($D25*VLOOKUP($C25&"|"&VLOOKUP('Stage 2'!$E$11,Lookups!$C$622:$E$644,3,FALSE),Lookups!$K$94:$M$610,3,FALSE),$D25*VLOOKUP($C25,Lookups!$D$94:$O$610,12,FALSE))))) | G25: =IF( OR(ISBLANK($C25),ISBLANK($D25),ISBLANK($E$10),ISBLANK($E$9),ISBLANK($E$11)),"",IFERROR($D25*VLOOKUP((IF( OR($C25="Residential urban land",$C25="Commercial/industrial urban land",$C25="Open urban land",$C25="Greenspace",$C25="Community food growing",$C25="Woodland",$C25="Shrub",$C25="Water"),"|||"&$C25,(VLOOKUP('Stage 2'!$E$9,Lookups!$C$648:$D$656,2,FALSE)&"|"&$C25&"|"&VLOOKUP('Stage 2'!$E$12,Lookups!$C$670:$D$671,2,FALSE)&"|"&VLOOKUP('Stage 2'!$E$11,Lookups!$C$622:$E$644,3,FALSE)&"|"&VLOOKUP($E$10,Lookups!$C$661:$D$666,2,FALSE)))),Lookups!$H$94:$J$618,3,FALSE), IFERROR($D25*VLOOKUP(VLOOKUP($E$9,Lookups!$C$648:$E$656,3,FALSE)&"|"&$C25&"|"&VLOOKUP('Stage 2'!$E$12,Lookups!$C$670:$D$671,2,FALSE)&"|"&VLOOKUP('Stage 2'!$E$11,Lookups!$C$622:$E$644,3,FALSE)&"|"&VLOOKUP($E$10,Lookups!$C$661:$D$666,2,FALSE),Lookups!$H$355:$J$618,3,FALSE),"In the absence of real world data, this figure has been generated using the most relevant average nutrient reduction coefficient.")))
E26: =IF(OR(ISBLANK($C26),ISBLANK($D26),ISBLANK($E$10),ISBLANK($E$11)),"",IFERROR($D26*VLOOKUP((IF(OR($C26="Residential urban land",$C26="Commercial/industrial urban land",$C26="Open urban land",$C26="Greenspace",$C26="Community food growing",$C26="Woodland",$C26="Shrub", $C26="Water"), "|||"&$C26, (VLOOKUP('Stage 2'!$E$9,Lookups!$C$648:$D$656,2,FALSE)&"|"&$C26&"|"&VLOOKUP('Stage 2'!$E$12,Lookups!$C$670:$D$671,2,FALSE)&"|"&VLOOKUP('Stage 2'!$E$11,Lookups!$C$622:$E$644,3,FALSE)&"|"&VLOOKUP($E$10,Lookups!$C$661:$D$666,2,FALSE)))),Lookups!$H$94:$J$618,3,FALSE), IFERROR(IFERROR($D26*VLOOKUP(VLOOKUP($E$9,Lookups!$C$648:$E$656,3,FALSE)&"|"&$C26&"|"&VLOOKUP('Stage 2'!$E$12,Lookups!$C$670:$D$671,2,FALSE)&"|"&VLOOKUP('Stage 2'!$E$11,Lookups!$C$622:$E$644,3,FALSE)&"|"&VLOOKUP($E$10,Lookups!$C$661:$D$666,2,FALSE),Lookups!$H$355:$J$618,3,FALSE),IFERROR($D26*VLOOKUP(VLOOKUP($E$9,Lookups!$C$648:$E$656,3,FALSE)&"|"&$C26&"|"&"TRUE"&"|"&VLOOKUP('Stage 2'!$E$11,Lookups!$C$622:$E$644,3,FALSE)&"|"&VLOOKUP($E$10,Lookups!$C$661:$D$666,2,FALSE),Lookups!$H$355:$J$618,3,FALSE),$D26*VLOOKUP(VLOOKUP($E$9,Lookups!$C$648:$E$656,3,FALSE)&"|"&$C26&"|"&VLOOKUP('Stage 2'!$E$12,Lookups!$C$670:$D$671,2,FALSE)&"|"&VLOOKUP('Stage 2'!$E$11,Lookups!$C$622:$E$644,3,FALSE)&"|"&"DrainedArGr",Lookups!$H$355:$J$618,3,FALSE))),IFERROR($D26*VLOOKUP($C26&"|"&VLOOKUP('Stage 2'!$E$11,Lookups!$C$622:$E$644,3,FALSE),Lookups!$K$94:$M$610,3,FALSE),$D26*VLOOKUP($C26,Lookups!$D$94:$O$610,12,FALSE))))) | G26: =IF( OR(ISBLANK($C26),ISBLANK($D26),ISBLANK($E$10),ISBLANK($E$9),ISBLANK($E$11)),"",IFERROR($D26*VLOOKUP((IF( OR($C26="Residential urban land",$C26="Commercial/industrial urban land",$C26="Open urban land",$C26="Greenspace",$C26="Community food growing",$C26="Woodland",$C26="Shrub",$C26="Water"),"|||"&$C26,(VLOOKUP('Stage 2'!$E$9,Lookups!$C$648:$D$656,2,FALSE)&"|"&$C26&"|"&VLOOKUP('Stage 2'!$E$12,Lookups!$C$670:$D$671,2,FALSE)&"|"&VLOOKUP('Stage 2'!$E$11,Lookups!$C$622:$E$644,3,FALSE)&"|"&VLOOKUP($E$10,Lookups!$C$661:$D$666,2,FALSE)))),Lookups!$H$94:$J$618,3,FALSE), IFERROR($D26*VLOOKUP(VLOOKUP($E$9,Lookups!$C$648:$E$656,3,FALSE)&"|"&$C26&"|"&VLOOKUP('Stage 2'!$E$12,Lookups!$C$670:$D$671,2,FALSE)&"|"&VLOOKUP('Stage 2'!$E$11,Lookups!$C$622:$E$644,3,FALSE)&"|"&VLOOKUP($E$10,Lookups!$C$661:$D$666,2,FALSE),Lookups!$H$355:$J$618,3,FALSE),"In the absence of real world data, this figure has been generated using the most relevant average nutrient reduction coefficient.")))
E27: =IF(OR(ISBLANK($C27),ISBLANK($D27),ISBLANK($E$10),ISBLANK($E$11)),"",IFERROR($D27*VLOOKUP((IF(OR($C27="Residential urban land",$C27="Commercial/industrial urban land",$C27="Open urban land",$C27="Greenspace",$C27="Community food growing",$C27="Woodland",$C27="Shrub", $C27="Water"), "|||"&$C27, (VLOOKUP('Stage 2'!$E$9,Lookups!$C$648:$D$656,2,FALSE)&"|"&$C27&"|"&VLOOKUP('Stage 2'!$E$12,Lookups!$C$670:$D$671,2,FALSE)&"|"&VLOOKUP('Stage 2'!$E$11,Lookups!$C$622:$E$644,3,FALSE)&"|"&VLOOKUP($E$10,Lookups!$C$661:$D$666,2,FALSE)))),Lookups!$H$94:$J$618,3,FALSE), IFERROR(IFERROR($D27*VLOOKUP(VLOOKUP($E$9,Lookups!$C$648:$E$656,3,FALSE)&"|"&$C27&"|"&VLOOKUP('Stage 2'!$E$12,Lookups!$C$670:$D$671,2,FALSE)&"|"&VLOOKUP('Stage 2'!$E$11,Lookups!$C$622:$E$644,3,FALSE)&"|"&VLOOKUP($E$10,Lookups!$C$661:$D$666,2,FALSE),Lookups!$H$355:$J$618,3,FALSE),IFERROR($D27*VLOOKUP(VLOOKUP($E$9,Lookups!$C$648:$E$656,3,FALSE)&"|"&$C27&"|"&"TRUE"&"|"&VLOOKUP('Stage 2'!$E$11,Lookups!$C$622:$E$644,3,FALSE)&"|"&VLOOKUP($E$10,Lookups!$C$661:$D$666,2,FALSE),Lookups!$H$355:$J$618,3,FALSE),$D27*VLOOKUP(VLOOKUP($E$9,Lookups!$C$648:$E$656,3,FALSE)&"|"&$C27&"|"&VLOOKUP('Stage 2'!$E$12,Lookups!$C$670:$D$671,2,FALSE)&"|"&VLOOKUP('Stage 2'!$E$11,Lookups!$C$622:$E$644,3,FALSE)&"|"&"DrainedArGr",Lookups!$H$355:$J$618,3,FALSE))),IFERROR($D27*VLOOKUP($C27&"|"&VLOOKUP('Stage 2'!$E$11,Lookups!$C$622:$E$644,3,FALSE),Lookups!$K$94:$M$610,3,FALSE),$D27*VLOOKUP($C27,Lookups!$D$94:$O$610,12,FALSE))))) | G27: =IF( OR(ISBLANK($C27),ISBLANK($D27),ISBLANK($E$10),ISBLANK($E$9),ISBLANK($E$11)),"",IFERROR($D27*VLOOKUP((IF( OR($C27="Residential urban land",$C27="Commercial/industrial urban land",$C27="Open urban land",$C27="Greenspace",$C27="Community food growing",$C27="Woodland",$C27="Shrub",$C27="Water"),"|||"&$C27,(VLOOKUP('Stage 2'!$E$9,Lookups!$C$648:$D$656,2,FALSE)&"|"&$C27&"|"&VLOOKUP('Stage 2'!$E$12,Lookups!$C$670:$D$671,2,FALSE)&"|"&VLOOKUP('Stage 2'!$E$11,Lookups!$C$622:$E$644,3,FALSE)&"|"&VLOOKUP($E$10,Lookups!$C$661:$D$666,2,FALSE)))),Lookups!$H$94:$J$618,3,FALSE), IFERROR($D27*VLOOKUP(VLOOKUP($E$9,Lookups!$C$648:$E$656,3,FALSE)&"|"&$C27&"|"&VLOOKUP('Stage 2'!$E$12,Lookups!$C$670:$D$671,2,FALSE)&"|"&VLOOKUP('Stage 2'!$E$11,Lookups!$C$622:$E$644,3,FALSE)&"|"&VLOOKUP($E$10,Lookups!$C$661:$D$666,2,FALSE),Lookups!$H$355:$J$618,3,FALSE),"In the absence of real world data, this figure has been generated using the most relevant average nutrient reduction coefficient.")))
... E31: =IF(OR(ISBLANK($C31),ISBLANK($D31),ISBLANK($E$10),ISBLANK($E$11)),"",IFERROR($D31*VLOOKUP((IF(OR($C31="Residential urban land",$C31="Commercial/industrial urban land",$C31="Open urban land",$C31="Greenspace",$C31="Community food growing",$C31="Woodland",$C31="Shrub", $C31="Water"), "|||"&$C31, (VLOOKUP('Stage 2'!$E$9,Lookups!$C$648:$D$656,2,FALSE)&"|"&$C31&"|"&VLOOKUP('Stage 2'!$E$12,Lookups!$C$670:$D$671,2,FALSE)&"|"&VLOOKUP('Stage 2'!$E$11,Lookups!$C$622:$E$644,3,FALSE)&"|"&VLOOKUP($E$10,Lookups!$C$661:$D$666,2,FALSE)))),Lookups!$H$94:$J$618,3,FALSE), IFERROR(IFERROR($D31*VLOOKUP(VLOOKUP($E$9,Lookups!$C$648:$E$656,3,FALSE)&"|"&$C31&"|"&VLOOKUP('Stage 2'!$E$12,Lookups!$C$670:$D$671,2,FALSE)&"|"&VLOOKUP('Stage 2'!$E$11,Lookups!$C$622:$E$644,3,FALSE)&"|"&VLOOKUP($E$10,Lookups!$C$661:$D$666,2,FALSE),Lookups!$H$355:$J$618,3,FALSE),IFERROR($D31*VLOOKUP(VLOOKUP($E$9,Lookups!$C$648:$E$656,3,FALSE)&"|"&$C31&"|"&"TRUE"&"|"&VLOOKUP('Stage 2'!$E$11,Lookups!$C$622:$E$644,3,FALSE)&"|"&VLOOKUP($E$10,Lookups!$C$661:$D$666,2,FALSE),Lookups!$H$355:$J$618,3,FALSE),$D31*VLOOKUP(VLOOKUP($E$9,Lookups!$C$648:$E$656,3,FALSE)&"|"&$C31&"|"&VLOOKUP('Stage 2'!$E$12,Lookups!$C$670:$D$671,2,FALSE)&"|"&VLOOKUP('Stage 2'!$E$11,Lookups!$C$622:$E$644,3,FALSE)&"|"&"DrainedArGr",Lookups!$H$355:$J$618,3,FALSE))),IFERROR($D31*VLOOKUP($C31&"|"&VLOOKUP('Stage 2'!$E$11,Lookups!$C$622:$E$644,3,FALSE),Lookups!$K$94:$M$610,3,FALSE),$D31*VLOOKUP($C31,Lookups!$D$94:$O$610,12,FALSE))))) | G31: =IF( OR(ISBLANK($C31),ISBLANK($D31),ISBLANK($E$10),ISBLANK($E$9),ISBLANK($E$11)),"",IFERROR($D31*VLOOKUP((IF( OR($C31="Residential urban land",$C31="Commercial/industrial urban land",$C31="Open urban land",$C31="Greenspace",$C31="Community food growing",$C31="Woodland",$C31="Shrub",$C31="Water"),"|||"&$C31,(VLOOKUP('Stage 2'!$E$9,Lookups!$C$648:$D$656,2,FALSE)&"|"&$C31&"|"&VLOOKUP('Stage 2'!$E$12,Lookups!$C$670:$D$671,2,FALSE)&"|"&VLOOKUP('Stage 2'!$E$11,Lookups!$C$622:$E$644,3,FALSE)&"|"&VLOOKUP($E$10,Lookups!$C$661:$D$666,2,FALSE)))),Lookups!$H$94:$J$618,3,FALSE), IFERROR($D31*VLOOKUP(VLOOKUP($E$9,Lookups!$C$648:$E$656,3,FALSE)&"|"&$C31&"|"&VLOOKUP('Stage 2'!$E$12,Lookups!$C$670:$D$671,2,FALSE)&"|"&VLOOKUP('Stage 2'!$E$11,Lookups!$C$622:$E$644,3,FALSE)&"|"&VLOOKUP($E$10,Lookups!$C$661:$D$666,2,FALSE),Lookups!$H$355:$J$618,3,FALSE),"In the absence of real world data, this figure has been generated using the most relevant average nutrient reduction coefficient.")))
C32: Total: | D32: =SUM(D15:D31) -> 0.037 | E32: =SUM(E15:E31) -> 0.53449146

Sheet Stage 3
B3: Stage 3
C7: User Inputs
C9: New land use type(s) | D9: Area (ha) | E9: Annual nitrogen nutrient export (kg TN)
C10: Residential urban land | D10: 0.037 | E10: =IF(OR(ISBLANK(C10),ISBLANK(D10)),"",D10*VLOOKUP((IF(OR(C10="Residential urban land",C10="Commercial/industrial urban land",C10="Open urban land",C10="Greenspace",C10="Community food growing",C10="Woodland",C10="Shrub", C10="Water"), "|||"&C10, (VLOOKUP('Stage 2'!$E$9,Lookups!$C$661:$E$666,2,FALSE)&"|"&C10&"|"&VLOOKUP('Stage 2'!$E$12,Lookups!$C$670:$D$671,2,FALSE)&"|"&VLOOKUP('Stage 2'!$E$11,Lookups!$C$622:$E$644,3,FALSE)&"|"&VLOOKUP('Stage 2'!$E$10,Lookups!#REF!,2,FALSE)))),Lookups!$H$355:$J$618,3,FALSE)) -> 0.53449146
E11: =IF(OR(ISBLANK(C11),ISBLANK(D11)),"",D11*VLOOKUP((IF(OR(C11="Residential urban land",C11="Commercial/industrial urban land",C11="Open urban land",C11="Greenspace",C11="Community food growing",C11="Woodland",C11="Shrub", C11="Water"), "|||"&C11, (VLOOKUP('Stage 2'!$E$9,Lookups!$C$661:$E$666,2,FALSE)&"|"&C11&"|"&VLOOKUP('Stage 2'!$E$12,Lookups!$C$670:$D$671,2,FALSE)&"|"&VLOOKUP('Stage 2'!$E$11,Lookups!$C$622:$E$644,3,FALSE)&"|"&VLOOKUP('Stage 2'!$E$10,Lookups!#REF!,2,FALSE)))),Lookups!$H$355:$J$618,3,FALSE))
E12: =IF(OR(ISBLANK(C12),ISBLANK(D12)),"",D12*VLOOKUP((IF(OR(C12="Residential urban land",C12="Commercial/industrial urban land",C12="Open urban land",C12="Greenspace",C12="Community food growing",C12="Woodland",C12="Shrub", C12="Water"), "|||"&C12, (VLOOKUP('Stage 2'!$E$9,Lookups!$C$661:$E$666,2,FALSE)&"|"&C12&"|"&VLOOKUP('Stage 2'!$E$12,Lookups!$C$670:$D$671,2,FALSE)&"|"&VLOOKUP('Stage 2'!$E$11,Lookups!$C$622:$E$644,3,FALSE)&"|"&VLOOKUP('Stage 2'!$E$10,Lookups!#REF!,2,FALSE)))),Lookups!$H$355:$J$618,3,FALSE))
E13: =IF(OR(ISBLANK(C13),ISBLANK(D13)),"",D13*VLOOKUP((IF(OR(C13="Residential urban land",C13="Commercial/industrial urban land",C13="Open urban land",C13="Greenspace",C13="Community food growing",C13="Woodland",C13="Shrub", C13="Water"), "|||"&C13, (VLOOKUP('Stage 2'!$E$9,Lookups!$C$661:$E$666,2,FALSE)&"|"&C13&"|"&VLOOKUP('Stage 2'!$E$12,Lookups!$C$670:$D$671,2,FALSE)&"|"&VLOOKUP('Stage 2'!$E$11,Lookups!$C$622:$E$644,3,FALSE)&"|"&VLOOKUP('Stage 2'!$E$10,Lookups!#REF!,2,FALSE)))),Lookups!$H$355:$J$618,3,FALSE))
E14: =IF(OR(ISBLANK(C14),ISBLANK(D14)),"",D14*VLOOKUP((IF(OR(C14="Residential urban land",C14="Commercial/industrial urban land",C14="Open urban land",C14="Greenspace",C14="Community food growing",C14="Woodland",C14="Shrub", C14="Water"), "|||"&C14, (VLOOKUP('Stage 2'!$E$9,Lookups!$C$661:$E$666,2,FALSE)&"|"&C14&"|"&VLOOKUP('Stage 2'!$E$12,Lookups!$C$670:$D$671,2,FALSE)&"|"&VLOOKUP('Stage 2'!$E$11,Lookups!$C$622:$E$644,3,FALSE)&"|"&VLOOKUP('Stage 2'!$E$10,Lookups!#REF!,2,FALSE)))),Lookups!$H$355:$J$618,3,FALSE))
E15: =IF(OR(ISBLANK(C15),ISBLANK(D15)),"",D15*VLOOKUP((IF(OR(C15="Residential urban land",C15="Commercial/industrial urban land",C15="Open urban land",C15="Greenspace",C15="Community food growing",C15="Woodland",C15="Shrub", C15="Water"), "|||"&C15, (VLOOKUP('Stage 2'!$E$9,Lookups!$C$661:$E$666,2,FALSE)&"|"&C15&"|"&VLOOKUP('Stage 2'!$E$12,Lookups!$C$670:$D$671,2,FALSE)&"|"&VLOOKUP('Stage 2'!$E$11,Lookups!$C$622:$E$644,3,FALSE)&"|"&VLOOKUP('Stage 2'!$E$10,Lookups!#REF!,2,FALSE)))),Lookups!$H$355:$J$618,3,FALSE))
E16: =IF(OR(ISBLANK(C16),ISBLANK(D16)),"",D16*VLOOKUP((IF(OR(C16="Residential urban land",C16="Commercial/industrial urban land",C16="Open urban land",C16="Greenspace",C16="Community food growing",C16="Woodland",C16="Shrub", C16="Water"), "|||"&C16, (VLOOKUP('Stage 2'!$E$9,Lookups!$C$661:$E$666,2,FALSE)&"|"&C16&"|"&VLOOKUP('Stage 2'!$E$12,Lookups!$C$670:$D$671,2,FALSE)&"|"&VLOOKUP('Stage 2'!$E$11,Lookups!$C$622:$E$644,3,FALSE)&"|"&VLOOKUP('Stage 2'!$E$10,Lookups!#REF!,2,FALSE)))),Lookups!$H$355:$J$618,3,FALSE))
E17: =IF(OR(ISBLANK(C17),ISBLANK(D17)),"",D17*VLOOKUP((IF(OR(C17="Residential urban land",C17="Commercial/industrial urban land",C17="Open urban land",C17="Greenspace",C17="Community food growing",C17="Woodland",C17="Shrub", C17="Water"), "|||"&C17, (VLOOKUP('Stage 2'!$E$9,Lookups!$C$661:$E$666,2,FALSE)&"|"&C17&"|"&VLOOKUP('Stage 2'!$E$12,Lookups!$C$670:$D$671,2,FALSE)&"|"&VLOOKUP('Stage 2'!$E$11,Lookups!$C$622:$E$644,3,FALSE)&"|"&VLOOKUP('Stage 2'!$E$10,Lookups!#REF!,2,FALSE)))),Lookups!$H$355:$J$618,3,FALSE))
E18: =IF(OR(ISBLANK(C18),ISBLANK(D18)),"",D18*VLOOKUP((IF(OR(C18="Residential urban land",C18="Commercial/industrial urban land",C18="Open urban land",C18="Greenspace",C18="Community food growing",C18="Woodland",C18="Shrub", C18="Water"), "|||"&C18, (VLOOKUP('Stage 2'!$E$9,Lookups!$C$661:$E$666,2,FALSE)&"|"&C18&"|"&VLOOKUP('Stage 2'!$E$12,Lookups!$C$670:$D$671,2,FALSE)&"|"&VLOOKUP('Stage 2'!$E$11,Lookups!$C$622:$E$644,3,FALSE)&"|"&VLOOKUP('Stage 2'!$E$10,Lookups!#REF!,2,FALSE)))),Lookups!$H$355:$J$618,3,FALSE))
E19: =IF(OR(ISBLANK(C19),ISBLANK(D19)),"",D19*VLOOKUP((IF(OR(C19="Residential urban land",C19="Commercial/industrial urban land",C19="Open urban land",C19="Greenspace",C19="Community food growing",C19="Woodland",C19="Shrub", C19="Water"), "|||"&C19, (VLOOKUP('Stage 2'!$E$9,Lookups!$C$661:$E$666,2,FALSE)&"|"&C19&"|"&VLOOKUP('Stage 2'!$E$12,Lookups!$C$670:$D$671,2,FALSE)&"|"&VLOOKUP('Stage 2'!$E$11,Lookups!$C$622:$E$644,3,FALSE)&"|"&VLOOKUP('Stage 2'!$E$10,Lookups!#REF!,2,FALSE)))),Lookups!$H$355:$J$618,3,FALSE))
E20: =IF(OR(ISBLANK(C20),ISBLANK(D20)),"",D20*VLOOKUP((IF(OR(C20="Residential urban land",C20="Commercial/industrial urban land",C20="Open urban land",C20="Greenspace",C20="Community food growing",C20="Woodland",C20="Shrub", C20="Water"), "|||"&C20, (VLOOKUP('Stage 2'!$E$9,Lookups!$C$661:$E$666,2,FALSE)&"|"&C20&"|"&VLOOKUP('Stage 2'!$E$12,Lookups!$C$670:$D$671,2,FALSE)&"|"&VLOOKUP('Stage 2'!$E$11,Lookups!$C$622:$E$644,3,FALSE)&"|"&VLOOKUP('Stage 2'!$E$10,Lookups!#REF!,2,FALSE)))),Lookups!$H$355:$J$618,3,FALSE))
E21: =IF(OR(ISBLANK(C21),ISBLANK(D21)),"",D21*VLOOKUP((IF(OR(C21="Residential urban land",C21="Commercial/industrial urban land",C21="Open urban land",C21="Greenspace",C21="Community food growing",C21="Woodland",C21="Shrub", C21="Water"), "|||"&C21, (VLOOKUP('Stage 2'!$E$9,Lookups!$C$661:$E$666,2,FALSE)&"|"&C21&"|"&VLOOKUP('Stage 2'!$E$12,Lookups!$C$670:$D$671,2,FALSE)&"|"&VLOOKUP('Stage 2'!$E$11,Lookups!$C$622:$E$644,3,FALSE)&"|"&VLOOKUP('Stage 2'!$E$10,Lookups!#REF!,2,FALSE)))),Lookups!$H$355:$J$618,3,FALSE))
E22: =IF(OR(ISBLANK(C22),ISBLANK(D22)),"",D22*VLOOKUP((IF(OR(C22="Residential urban land",C22="Commercial/industrial urban land",C22="Open urban land",C22="Greenspace",C22="Community food growing",C22="Woodland",C22="Shrub", C22="Water"), "|||"&C22, (VLOOKUP('Stage 2'!$E$9,Lookups!$C$661:$E$666,2,FALSE)&"|"&C22&"|"&VLOOKUP('Stage 2'!$E$12,Lookups!$C$670:$D$671,2,FALSE)&"|"&VLOOKUP('Stage 2'!$E$11,Lookups!$C$622:$E$644,3,FALSE)&"|"&VLOOKUP('Stage 2'!$E$10,Lookups!#REF!,2,FALSE)))),Lookups!$H$355:$J$618,3,FALSE))
... E26: =IF(OR(ISBLANK(C26),ISBLANK(D26)),"",D26*VLOOKUP((IF(OR(C26="Residential urban land",C26="Commercial/industrial urban land",C26="Open urban land",C26="Greenspace",C26="Community food growing",C26="Woodland",C26="Shrub", C26="Water"), "|||"&C26, (VLOOKUP('Stage 2'!$E$9,Lookups!$C$661:$E$666,2,FALSE)&"|"&C26&"|"&VLOOKUP('Stage 2'!$E$12,Lookups!$C$670:$D$671,2,FALSE)&"|"&VLOOKUP('Stage 2'!$E$11,Lookups!$C$622:$E$644,3,FALSE)&"|"&VLOOKUP('Stage 2'!$E$10,Lookups!#REF!,2,FALSE)))),Lookups!$H$355:$J$618,3,FALSE))
C27: Total: | D27: =SUM(D10:D26) -> 0.037 | E27: =SUM(E10:E26) -> 0.53449146

Sheet Stage 4
B3: Stage 4
C7: Calculated Outputs
C11: N loading to WwTW: | D11: ='Stage 1'!D35 -> 0.42523866
C12: Net land use N change: | D12: ='Stage 3'!E27-'Stage 2'!E32 -> 0
C13: N budget: | D13: =D11+D12 -> 0.42523866
C14: N budget + 20% buffer: | D14: =D13*1.2 -> 0.51028639
C16: =IFERROR(IF(AND('Stage 1'!$D$9<DATE(2025,1,1),OR((VLOOKUP('Stage 1'!$D$14,Lookups!$C$8:$G$88,2,FALSE))>(VLOOKUP('Stage 1'!$D$14,Lookups!$C$8:$G$88,4,FALSE)),(VLOOKUP('Stage 1'!$D$14,Lookups!$C$8:$G$88,3,FALSE))>(VLOOKUP('Stage 1'!$D$14,Lookups!$C$8:$G$88,5,FALSE)))),"Post-2025 Annual Nutrient Budget","Annual Nutrient Budget"),"") -> Annual Nutrient Budget | F16: =IFERROR(IF(AND('Stage 1'!$D$9<DATE(2025,1,1),OR((VLOOKUP('Stage 1'!$D$14,Lookups!$C$8:$G$88,2,FALSE))>(VLOOKUP('Stage 1'!$D$14,Lookups!$C$8:$G$88,4,FALSE)),(VLOOKUP('Stage 1'!$D$14,Lookups!$C$8:$G$88,3,FALSE))>(VLOOKUP('Stage 1'!$D$14,Lookups!$C$8:$G$88,5,FALSE)))),"Pre-2025 Annual Nutrient Budget",""),"")
