Workbook

Sheet Intro
M12: Image Source: Neil Howard Solent Buoys - Flood Tide Copyright: © GrahamAndDairne 2013

Sheet Background
B3: Background
B7: There have been a series of court cases in recent years relating to how new plans or projects interact with the Habitats Regulations process where there are existing high levels of background nutrients. These decisions have led Natural England to review its advice on water quality effects on Habitats sites.
B8: The additional nutrient load from the increase in wastewater and/or the change in the land use of the development land created by a new residential development can create an impact pathway for potential negative effects on Habitats sites that are already suffering from problems related to nutrient loading. This impact pathway is shown diagrammatically in Figure 1.
B34: Habitats Regulations Assessments (HRAs) of new residential developments need to consider whether nutrient loading will result in ‘Likely Significant Effects’ (LSE) on a Habitats site. If an HRA finds LSE due to nutrient loading, the Appropriate Assessment will need to consider whether this nutrient load needs to be mitigated in order to remove adverse effects on the Habitats site.
B35: The first step in an HRA involving nutrient neutrality is understanding both whether a residential development will need mitigation to achieve nutrient neutrality and, if so, the amount of nutrients that require mitigating on an annual basis. In order to understand the amount of nutrients a new residential development will create, a nutrient budget for the development is required.
B36: This tool provides a step-by-step approach to calculating the nutrient budget for a new residential development. Before a nutrient budget can be completed using the methodology, certain site-specific details for the Habitats Site in question need to be determined. The required details for each stage of the nutrient budget methodology are shown in the instructions tab, with an associated guidance document that informs users of this calculator how to generate certain inputs to the calculator.

Sheet Solent Marine Sites
B3: Solent Marine European Sites
B6: The Solent Marine Habitats sites comprise a range of Special Areas of Conservation, Special Protection Areas and Ramsar sites with water pollution and eutrophication considered a threat to its condition.
B7: The Solent is a complex site encompassing a major estuarine system on the south coast of England. The Solent and its inlets are unique in Britain and Europe for their hydrographic regime with double tides, as well as for the complexity of the marine and estuarine habitats present within the area.
B8: The river’s vegetation is exceptionally species rich, with many of the typical chalk stream plants present in abundance, including species such as river water-crowfoot and stream water-crowfoot.
B9: The rich intertidal mudflats, saltmarsh, shingle beaches and adjacent coastal habitats, including grazing marsh, reedbeds and damp woodland, support nationally and internationally important numbers of migratory and over-wintering waders and waterfowl such as ringed plover and sandwich terns, as well as important breeding gull and tern populations.
B10: Increased levels of nitrogen and phosphorous entering aquatic environments via surface water and groundwater can severely threaten these sensitive habitats and species within the sites. The elevated levels of nutrients can cause eutrophication, leading to algal blooms which disrupt normal ecosystem function and cause major changes in the aquatic community. These algal blooms can result in reduced levels of oxygen within the water, which in turn can lead to the death of many aquatic organisms including invertebrates and fish.
B11: The species and habitats within the Solent Marine sites that result in their designations are referred to a ‘qualifying features.’ Not all of these qualifying features will be sensitive to changes in nutrients within the site. When completing an HRA involving nutrient neutrality, the Competent Authority (normally Local Planning Authority for developments) must identify and screen out qualifying features that are not sensitive to nutrients via a Habitats Regulations Assessment. Developers will be asked to submit information to support this process.
B12: More detailed information on the qualifying features of the SPA and details of water quality data highlighting the current nutrient problems in the site are available in the Natural England Solent and Southampton Water SPA evidence summary

Sheet Instructions
B3: Instructions
B7: The nutrient budget for a site is calculated in four stages, with each stage implemented in the following worksheets.
B20: 1. General tips:
C22: Key:
D23: Values to be entered by the user
D24: Fixed or calculated values
D25: Lookup tables
B27: When a cell is selected, instructions are shown on how to fill out the cell:
B37: It is advisable to retain a blank copy of this workbook and "Save as" a new copy each time you calculate a budget, in case of any mistakes in data inputs or to ease calculation of new nutrient budgets .
B39: Note:
B40: The values already included in this tool have been chosen based on research to determine suitable inputs to the nutrient budget that meet the HRA tests of beyond reasonable scientific doubt, in perpetuity (practically speaking this is 80-125 years) and in accordance with the precautionary principle. If editing any values in this tool, you must make sure there is a sufficient evidence base to justify these changes and that the new inputs are selected in accordance with the precautionary principle.
B42: 2. Stage specific instructions:
B44: 2.1 Stage 1: calculate the new nutrient load associated with the additional wastewater:
B46: In this section the user will need to enter:
B47: The date of first occupancy. This is because some wastewater treatment works (WwTW) may be due an upgrade in 2025 which will change the nutrient concentration permit values. This will be shown through two values for the permits and nutrients load from before and after the upgrade.
B48: The average occupancy rate of the development will need to be entered. The default setting is the national occupancy rate of 2.4 people per dwelling/unit. Only change this value if there is sufficient evidence that the development will be different to the national average.
B49: The number of dwellings/units that will be in the development at the time of completion.
B50: Whether the catchment of the proposed development has a deductible acceptable loading or not.
B51: The receiving WwTW that the development will drain to. If it is uncertain what WwTW the site will drain to, please find this information from your sewerage company before completing the calculator. If it is not feasable to connect to a WwTW and a septic tank or package treatment plant is being used, please select this option. Please be aware that if the total nitrogen (TN) final effluent concentrations (in mg/l) are specified by the manufacturer, please select 'Septic Tank user defined' or 'Package Treatment Plant user defined' and enter the manufacturer specified value in the cell where prompted.
... B75: 3.1 Instructions for finding the Operational Catchment that the development is situated within:
B76: a) Go to this link: | D76: http://environment.data.gov.uk/catchment-planning/
B77: b) Search the location by place name, postcode etc. This will give a high-level view of the area. Use the zoom feature to find the exact location of the development.
B78: c) Click on the light blue area on the map in which the development is located. This will bring the user to the Operational Catchment page
B79: d) Make note of the name of the Operational Catchment and select it from the dropdown list in the relevant cell.
B81: 3.2 Instructions for finding the drainage associated with the predominant soil type within development site:
B82: a) Go to this link: | D82: http://www.landis.org.uk/soilscapes/#.
B83: b) Find the site location on the map by using the search bar on the right side of the map in the 'Search' tab. Searching an area will generate a pop up window in which you can view the soil information by clicking 'View soil information'. If this is not an option then click on the relevant soil type on the map and click on the 'Soil information' tab on the right hand side of the map, below the 'Search' tab.
B84: c) The 'Soil drainage type' value can be found In the 'Soil information' under the title 'Drainage:'
B85: d) Make a note of this soil type and select the relevant soil drainage type from the drop down list in the relevant cell.
B87: 3.3 Instructions for finding the annual average rainfall that the development will receive using the National River Flow Archive:
B88: a) Go to this link: | D88: https://nrfa.ceh.ac.uk/data/station/spatial/42019
B89: b) This link will bring the user to the Tanners Brook at Milbrook flow gauge catchment information page.
B90: c) Click on the dropdown list next to the title 'Select spatial data type to view:' on the left of the map and select 'Rainfall'. Next select the Legend tab.
B91: d) Zoom in on the map to find the location of the development and find the corresponding rainfall range from the Legend.
B92: e) Select the rainfall band from the drop down list in the table. If your rainfall band is not in the drop down list, please select the closest band shown in the list.
B94: 3.4 Instructions for finding out whether the development is in a Nitrate Vulnerable Zone (NVZ):
B95: a) Go to this link: | D95: http://mapapps2.bgs.ac.uk/ukso/home.html?layers=NVZEng
B96: b) Enter the location of the development site in the search bar.
B97: c) Once the area has been located, click on the map where the development is located to find out if is within an NVZ.
B98: d) Make note of this and select this in the dropdown list.

Sheet Development site details
B3: Development site details
C7: Date (dd/mm/yyyy): | D7: 44935
C8: Site Name: | D8: 9 Princes Drive
C9: Planning Application number: | D9: APP/23/00012
C10: Site Address: | D10: 9 Princes Drive, Waterlooville, PO7 7QN

Sheet Stage 1
B3: Stage 1
C7: User Inputs
C9: Date of first occupancy: | D9: 45139
C10: Average occupancy rate: | D10: 1.4 | G10: =IFERROR(IF(AND($D$9<DATE(2025,1,1),OR((VLOOKUP($D$14,Lookups!$C$8:$G$88,2,FALSE))>(VLOOKUP($D$14,Lookups!$C$8:$G$88,4,FALSE)),(VLOOKUP($D$14,Lookups!$C$8:$G$88,3,FALSE))>(VLOOKUP($D$14,Lookups!$C$8:$G$88,5,FALSE)))),"A nutrient permit is changing for the selected WwTW as of 01/01/2025. Therefore, two nutrient budgets will be calculated for the loading before and after the 2025 WwTW permit upgrade.",""),"")
C11: Water usage (litres/person/day): | D11: 120
C12: Development Proposal (dwellings/units): | D12: 1
C13: Include deductible acceptable loading? | D13: Yes
C14: Wastewater treatment works: | D14: Budds Farm WwTW
C15: Wastewater treatment works P permit (mg TP/litre): | D15: =(IFERROR(IF(OR(D14="Package Treatment Plant user defined",D14="Septic Tank user defined"),"Please enter value in cell to the right:",IF('Stage 1'!D9<DATE(2025,1,1),VLOOKUP('Stage 1'!D14,Lookups!C8:G91,2,FALSE),VLOOKUP('Stage 1'!D14,Lookups!C8:G90,4,FALSE))),"")) -> 7.7 | F15: =IFERROR(IF(AND($D$9<DATE(2025,1,1),(VLOOKUP($D$14,Lookups!$C$8:$G$88,2,FALSE))>(VLOOKUP($D$14,Lookups!$C$8:$G$88,4,FALSE))), "Post 2025 WwTW P permit:",""),"") | G15: =IFERROR(IF(AND($D$9<DATE(2025,1,1),(VLOOKUP($D$14,Lookups!$C$8:$G$88,2,FALSE))>(VLOOKUP($D$14,Lookups!$C$8:$G$88,4,FALSE))), VLOOKUP('Stage 1'!D14,Lookups!C8:G91,4,FALSE),""),"") | H15: =IFERROR(IF(AND($D$9<DATE(2025,1,1),(VLOOKUP($D$14,Lookups!$C$8:$G$88,2,FALSE))>(VLOOKUP($D$14,Lookups!$C$8:$G$88,4,FALSE))), "mg TP/litre",""),"")
C16: Wastewater treatment works N permit (mg TN/litre): | D16: =IFERROR(IF(OR(D14="Package Treatment Plant user defined",D14="Septic Tank user defined"),"Please enter value in cell to the right:",IF(AND('Stage 1'!D9<DATE(2025,1,1),D13="Yes"),VLOOKUP('Stage 1'!D14,Lookups!$C$8:$G$91,2,FALSE),IF(AND('Stage 1'!D9<DATE(2025,1,1),D13="No"),VLOOKUP('Stage 1'!D14,Lookups!$C$8:$G$91,3,FALSE),IF(AND('Stage 1'!D9>=DATE(2025,1,1),D13="Yes"),VLOOKUP('Stage 1'!D14,Lookups!$C$8:$G$91,4,FALSE),VLOOKUP('Stage 1'!D14,Lookups!$C$8:$G$91,5,FALSE))))),"") -> 7.7 | F16: =IFERROR(IF(AND($D$9<DATE(2025,1,1),(VLOOKUP($D$14,Lookups!$C$8:$G$88,3,FALSE))>(VLOOKUP($D$14,Lookups!$C$8:$G$88,5,FALSE))), "Post 2025 WwTW N permit:",""),"") | G16: =IFERROR(IF(AND($D$9<DATE(2025,1,1),(VLOOKUP($D$14,Lookups!$C$8:$G$88,3,FALSE))>(VLOOKUP($D$14,Lookups!$C$8:$G$88,5,FALSE))), VLOOKUP('Stage 1'!D14,Lookups!$C$8:$G$91,5,FALSE),""),"") | H16: =IFERROR(IF(AND($D$9<DATE(2025,1,1),(VLOOKUP($D$14,Lookups!$C$8:$G$88,3,FALSE))>(VLOOKUP($D$14,Lookups!$C$8:$G$88,5,FALSE))), "mg TN/litre",""),"")
C18: Stage 1 Calculated Loading
N20: AND($C$9<DATE(2025,1,1),OR((VLOOKUP($C$13,Lookups!$A$9:$E$14,2,FALSE))>(VLOOKUP($C$13,Lookups!$A$9:$E$14,4,FALSE)),(VLOOKUP($C$13,Lookups!$A$9:$E$14,3,FALSE))>(VLOOKUP($C$13,Lookups!$A$9:$E$14,5,FALSE))))
C21: =IFERROR(IF(AND($D$9<DATE(2025,1,1),OR((VLOOKUP($D$14,Lookups!$C$8:$G$88,2,FALSE))>(VLOOKUP($D$14,Lookups!$C$8:$G$88,4,FALSE)),(VLOOKUP($D$14,Lookups!$C$8:$G$88,3,FALSE))>(VLOOKUP($D$14,Lookups!$C$8:$G$88,5,FALSE)))),"Post-2025 Stage 1 Nutrient Loading","Stage 1 Nutrient Loading"),"") -> Stage 1 Nutrient Loading | G21: =IFERROR(IF(AND($D$9<DATE(2025,1,1),OR((VLOOKUP($D$14,Lookups!$C$8:$G$88,2,FALSE))>(VLOOKUP($D$14,Lookups!$C$8:$G$88,4,FALSE)),(VLOOKUP($D$14,Lookups!$C$8:$G$88,3,FALSE))>(VLOOKUP($D$14,Lookups!$C$8:$G$88,5,FALSE)))),"Pre-2025 Stage 1 Nutrient Loading",""),"")
C23: Additional population | D23: =IF(ISBLANK(D12),"",D10*D12) -> 1.4 | E23: people | G23: =IFERROR(IF(AND($D$9<DATE(2025,1,1),OR((VLOOKUP($D$14,Lookups!$C$8:$G$88,2,FALSE))>(VLOOKUP($D$14,Lookups!$C$8:$G$88,4,FALSE)),(VLOOKUP($D$14,Lookups!$C$8:$G$88,3,FALSE))>(VLOOKUP($D$14,Lookups!$C$8:$G$88,5,FALSE)))),"Annual wastewater TN load:",""),"") | H23: =IFERROR(IF(AND($D$9<DATE(2025,1,1),OR((VLOOKUP($D$14,Lookups!$C$8:$G$88,2,FALSE))>(VLOOKUP($D$14,Lookups!$C$8:$G$88,4,FALSE)),(VLOOKUP($D$14,Lookups!$C$8:$G$88,3,FALSE))>(VLOOKUP($D$14,Lookups!$C$8:$G$88,5,FALSE)))),IF(D16=25,(D16*D$24)/1000000*365.25,(D16*D$24*0.9)/1000000*365.25),""),"") | I23: =IFERROR(IF(AND($D$9<DATE(2025,1,1),OR((VLOOKUP($D$14,Lookups!$C$8:$G$88,2,FALSE))>(VLOOKUP($D$14,Lookups!$C$8:$G$88,4,FALSE)),(VLOOKUP($D$14,Lookups!$C$8:$G$88,3,FALSE))>(VLOOKUP($D$14,Lookups!$C$8:$G$88,5,FALSE)))),"kg TN/yr",""),"")
C24: Wastewater by development | D24: =IFERROR(D23*D11,"") -> 168 | E24: litres/day
C27: TP discharge from WwTW | D27: =IFERROR(IF(ISNUMBER(G15),G15*D24*0.9,IF(D15="Please enter value in cell to the right:",IF(AND(D15="Please enter value in cell to the right:",ISNUMBER(E15)),D24*E15, VLOOKUP((LEFT(D14,(LEN(D14)-13))&" default"),Lookups!C87:E88,2,FALSE)*D24),IF(OR(D14="Package Treatment Plant default",D14="Septic Tank default"),D15*D24,IF(D15=8,D15*D24,D15*D24*0.9)))),"") -> 1164.24 | E27: mg TP/day
C28: Convert to kg/TP/d | D28: =IFERROR($D$27/1000000,"") -> 0.00116424 | E28: kg TP/day
C29: Convert to kg/TP/yr | D29: =IFERROR($D$28*365.25,"") -> 0.42523866 | E29: kg TP/yr
C30: Annual wastewater TP load | D30: =D29 -> 0.42523866 | E30: kg TP/yr
C33: TN discharge from WwTW | D33: =IFERROR(IF(ISNUMBER(G16),G16*D24*0.9,IF(D16="Please enter value in cell to the right:",IF(AND(D16="Please enter value in cell to the right:",ISNUMBER(E16)),D24*(IF(E16-2<0,E16,E16-2)), VLOOKUP((LEFT(D14,(LEN(D14)-13))&" default"),Lookups!C87:E88,3,FALSE)*D24),IF(OR(D14="Package Treatment Plant default",D14="Septic Tank default"),D16*D24,IF(VLOOKUP(D14,Lookups!$C$8:$G$85,3,FALSE)=27,D16*D24,D16*D24*0.9)))),"") -> 1164.24 | E33: mg TN/day
C34: Convert to kg/TN/d | D34: =IFERROR($D$33/1000000,"") -> 0.00116424 | E34: kg TN/day
C35: Convert to kg/TN/yr | D35: =IFERROR($D$34*365.25,"") -> 0.42523866 | E35: kg TN/yr
C36: Annual wastewater TN load | D36: =D35 -> 0.42523866 | E36: kg TN/yr

Sheet Stage 2
B3: Stage 2
C7: User Inputs
C9: Catchment: | E9: East Hampshire Rivers
C10: Soil drainage type: | E10: Impeded drainage
C11: Annual average rainfall (mm): | E11: 750.1 - 800
C12: Within Nitrate Vulnerable Zone (NVZ): | E12: Yes
C14: Existing land use type(s) | D14: Area (ha) | E14: Annual nitrogen nutrient export (kg TN)
C15: Residential urban land | D15: 0.037 | E15: =IF(OR(ISBLANK($C15),ISBLANK($D15),ISBLANK($E$10),ISBLANK($E$11)),"",IFERROR($D15*VLOOKUP((IF(OR($C15="Residential urban land",$C15="Commercial/industrial urban land",$C15="Open urban land",$C15="Greenspace",$C15="Community food growing",$C15="Woodland",$C15="Shrub", $C15="Water"), "|||"&$C15, (VLOOKUP('Stage 2'!$E$9,Lookups!$C$648:$D$656,2,FALSE)&"|"&$C15&"|"&VLOOKUP('Stage 2'!$E$12,Lookups!$C$670:$D$671,2,FALSE)&"|"&VLOOKUP('Stage 2'!$E$11,Lookups!$C$622:$E$644,3,FALSE)&"|"&VLOOKUP($E$10,Lookups!$C$661:$D$666,2,FALSE)))),Lookups!$H$94:$J$618,3,FALSE), IFERROR(IFERROR($D15*VLOOKUP(VLOOKUP($E$9,Lookups!$C$648:$E$656,3,FALSE)&"|"&$C15&"|"&VLOOKUP('Stage 2'!$E$12,Lookups!$C$670:$D$671,2,FALSE)&"|"&VLOOKUP('Stage 2'!$E$11,Lookups!$C$622:$E$644,3,FALSE)&"|"&VLOOKUP($E$10,Lookups!$C$661:$D$666,2,FALSE),Lookups!$H$355:$J$618,3,FALSE),IFERROR($D15*VLOOKUP(VLOOKUP($E$9,Lookups!$C$648:$E$656,3,FALSE)&"|"&$C15&"|"&"TRUE"&"|"&VLOOKUP('Stage 2'!$E$11,Lookups!$C$622:$E$644,3,FALSE)&"|"&VLOOKUP($E$10,Lookups!$C$661:$D$666,2,FALSE),Lookups!$H$355:$J$618,3,FALSE),$D15*VLOOKUP(VLOOKUP($E$9,Lookups!$C$648:$E$656,3,FALSE)&"|"&$C15&"|"&VLOOKUP('Stage 2'!$E$12,Lookups!$C$670:$D$671,2,FALSE)&"|"&VLOOKUP('Stage 2'!$E$11,Lookups!$C$622:$E$644,3,FALSE)&"|"&"DrainedArGr",Lookups!$H$355:$J$618,3,FALSE))),IFERROR($D15*VLOOKUP($C15&"|"&VLOOKUP('Stage 2'!$E$11,Lookups!$C$622:$E$644,3,FALSE),Lookups!$K$94:$M$610,3,FALSE),$D15*VLOOKUP($C15,Lookups!$D$94:$O$610,12,FALSE))))) -> 0.53449146 | G15: =IF( OR(ISBLANK($C15),ISBLANK($D15),ISBLANK($E$10),ISBLANK($E$9),ISBLANK($E$11)),"",IFERROR($D15*VLOOKUP((IF( OR($C15="Residential urban land",$C15="Commercial/industrial urban land",$C15="Open urban land",$C15="Greenspace",$C15="Community food growing",$C15="Woodland",$C15="Shrub",$C15="Water"),"|||"&$C15,(VLOOKUP('Stage 2'!$E$9,Lookups!$C$648:$D$656,2,FALSE)&"|"&$C15&"|"&VLOOKUP('Stage 2'!$E$12,Lookups!$C$670:$D$671,2,FALSE)&"|"&VLOOKUP('Stage 2'!$E$11,Lookups!$C$622:$E$644,3,FALSE)&"|"&VLOOKUP($E$10,Lookups!$C$661:$D$666,2,FALSE)))),Lookups!$H$94:$J$618,3,FALSE), IFERROR($D15*VLOOKUP(VLOOKUP($E$9,Lookups!$C$648:$E$656,3,FALSE)&"|"&$C15&"|"&VLOOKUP('Stage 2'!$E$12,Lookups!$C$670:$D$671,2,FALSE)&"|"&VLOOKUP('Stage 2'!$E$11,Lookups!$C$622:$E$644,3,FALSE)&"|"&VLOOKUP($E$10,Lookups!$C$661:$D$666,2,FALSE),Lookups!$H$355:$J$618,3,FALSE),"In the absence of real world data, this figure has been generated using the most relevant average nutrient reduction coefficient."))) -> 0.53449146
E16: =IF(OR(ISBLANK($C16),ISBLANK($D16),ISBLANK($E$10),ISBLANK($E$11)),"",IFERROR($D16*VLOOKUP((IF(OR($C16="Residential urban land",$C16="Commercial/industrial urban land",$C16="Open urban land",$C16="Greenspace",$C16="Community food growing",$C16="Woodland",$C16="Shrub", $C16="Water"), "|||"&$C16, (VLOOKUP('Stage 2'!$E$9,Lookups!$C$648:$D$656,2,FALSE)&"|"&$C16&"|"&VLOOKUP('Stage 2'!$E$12,Lookups!$C$670:$D$671,2,FALSE)&"|"&VLOOKUP('Stage 2'!$E$11,Lookups!$C$622:$E$644,3,FALSE)&"|"&VLOOKUP($E$10,Lookups!$C$661:$D$666,2,FALSE)))),Lookups!$H$94:$J$618,3,FALSE), IFERROR(IFERROR($D16*VLOOKUP(VLOOKUP($E$9,Lookups!$C$648:$E$656,3,FALSE)&"|"&$C16&"|"&VLOOKUP('Stage 2'!$E$12,Lookups!$C$670:$D$671,2,FALSE)&"|"&VLOOKUP('Stage 2'!$E$11,Lookups!$C$622:$E$644,3,FALSE)&"|"&VLOOKUP($E$10,Lookups!$C$661:$D$666,2,FALSE),Lookups!$H$355:$J$618,3,FALSE),IFERROR($D16*VLOOKUP(VLOOKUP($E$9,Lookups!$C$648:$E$656,3,FALSE)&"|"&$C16&"|"&"TRUE"&"|"&VLOOKUP('Stage 2'!$E$11,Lookups!$C$622:$E$644,3,FALSE)&"|"&VLOOKUP($E$10,Lookups!$C$661:$D$666,2,FALSE),Lookups!$H$355:$J$618,3,FALSE),$D16*VLOOKUP(VLOOKUP($E$9,Lookups!$C$648:$E$656,3,FALSE)&"|"&$C16&"|"&VLOOKUP('Stage 2'!$E$12,Lookups!$C$670:$D$671,2,FALSE)&"|"&VLOOKUP('Stage 2'!$E$11,Lookups!$C$622:$E$644,3,FALSE)&"|"&"DrainedArGr",Lookups!$H$355:$J$618,3,FALSE))),IFERROR($D16*VLOOKUP($C16&"|"&VLOOKUP('Stage 2'!$E$11,Lookups!$C$622:$E$644,3,FALSE),Lookups!$K$94:$M$610,3,FALSE),$D16*VLOOKUP($C16,Lookups!$D$94:$O$610,12,FALSE))))) | G16: =IF( OR(ISBLANK($C16),ISBLANK($D16),ISBLANK($E$10),ISBLANK($E$9),ISBLANK($E$11)),"",IFERROR($D16*VLOOKUP((IF( OR($C16="Residential urban land",$C16="Commercial/industrial urban land",$C16="Open urban land",$C16="Greenspace",$C16="Community food growing",$C16="Woodland",$C16="Shrub",$C16="Water"),"|||"&$C16,(VLOOKUP('Stage 2'!$E$9,Lookups!$C$648:$D$656,2,FALSE)&"|"&$C16&"|"&VLOOKUP('Stage 2'!$E$12,Lookups!$C$670:$D$671,2,FALSE)&"|"&VLOOKUP('Stage 2'!$E$11,Lookups!$C$622:$E$644,3,FALSE)&"|"&VLOOKUP($E$10,Lookups!$C$661:$D$666,2,FALSE)))),Lookups!$H$94:$J$618,3,FALSE), IFERROR($D16*VLOOKUP(VLOOKUP($E$9,Lookups!$C$648:$E$656,3,FALSE)&"|"&$C16&"|"&VLOOKUP('Stage 2'!$E$12,Lookups!$C$670:$D$671,2,FALSE)&"|"&VLOOKUP('Stage 2'!$E$11,Lookups!$C$622:$E$644,3,FALSE)&"|"&VLOOKUP($E$10,Lookups!$C$661:$D$666,2,FALSE),Lookups!$H$355:$J$618,3,FALSE),"In the absence of real world data, this figure has been generated using the most relevant average nutrient reduction coefficient.")))
E17: =IF(OR(ISBLANK($C17),ISBLANK($D17),ISBLANK($E$10),ISBLANK($E$11)),"",IFERROR($D17*VLOOKUP((IF(OR($C17="Residential urban land",$C17="Commercial/industrial urban land",$C17="Open urban land",$C17="Greenspace",$C17="Community food growing",$C17="Woodland",$C17="Shrub", $C17="Water"), "|||"&$C17, (VLOOKUP('Stage 2'!$E$9,Lookups!$C$648:$D$656,2,FALSE)&"|"&$C17&"|"&VLOOKUP('Stage 2'!$E$12,Lookups!$C$670:$D$671,2,FALSE)&"|"&VLOOKUP('Stage 2'!$E$11,Lookups!$C$622:$E$644,3,FALSE)&"|"&VLOOKUP($E$10,Lookups!$C$661:$D$666,2,FALSE)))),Lookups!$H$94:$J$618,3,FALSE), IFERROR(IFERROR($D17*VLOOKUP(VLOOKUP($E$9,Lookups!$C$648:$E$656,3,FALSE)&"|"&$C17&"|"&VLOOKUP('Stage 2'!$E$12,Lookups!$C$670:$D$671,2,FALSE)&"|"&VLOOKUP('Stage 2'!$E$11,Lookups!$C$622:$E$644,3,FALSE)&"|"&VLOOKUP($E$10,Lookups!$C$661:$D$666,2,FALSE),Lookups!$H$355:$J$618,3,FALSE),IFERROR($D17*VLOOKUP(VLOOKUP($E$9,Lookups!$C$648:$E$656,3,FALSE)&"|"&$C17&"|"&"TRUE"&"|"&VLOOKUP('Stage 2'!$E$11,Lookups!$C$622:$E$644,3,FALSE)&"|"&VLOOKUP($E$10,Lookups!$C$661:$D$666,2,FALSE),Lookups!$H$355:$J$618,3,FALSE),$D17*VLOOKUP(VLOOKUP($E$9,Lookups!$C$648:$E$656,3,FALSE)&"|"&$C17&"|"&VLOOKUP('Stage 2'!$E$12,Lookups!$C$670:$D$671,2,FALSE)&"|"&VLOOKUP('Stage 2'!$E$11,Lookups!$C$622:$E$644,3,FALSE)&"|"&"DrainedArGr",Lookups!$H$355:$J$618,3,FALSE))),IFERROR($D17*VLOOKUP($C17&"|"&VLOOKUP('Stage 2'!$E$11,Lookups!$C$622:$E$644,3,FALSE),Lookups!$K$94:$M$610,3,FALSE),$D17*VLOOKUP($C17,Lookups!$D$94:$O$610,12,FALSE))))) | G17: =IF( OR(ISBLANK($C17),ISBLANK($D17),ISBLANK($E$10),ISBLANK($E$9),ISBLANK($E$11)),"",IFERROR($D17*VLOOKUP((IF( OR($C17="Residential urban land",$C17="Commercial/industrial urban land",$C17="Open urban land",$C17="Greenspace",$C17="Community food growing",$C17="Woodland",$C17="Shrub",$C17="Water"),"|||"&$C17,(VLOOKUP('Stage 2'!$E$9,Lookups!$C$648:$D$656,2,FALSE)&"|"&$C17&"|"&VLOOKUP('Stage 2'!$E$12,Lookups!$C$670:$D$671,2,FALSE)&"|"&VLOOKUP('Stage 2'!$E$11,Lookups!$C$622:$E$644,3,FALSE)&"|"&VLOOKUP($E$10,Lookups!$C$661:$D$666,2,FALSE)))),Lookups!$H$94:$J$618,3,FALSE), IFERROR($D17*VLOOKUP(VLOOKUP($E$9,Lookups!$C$648:$E$656,3,FALSE)&"|"&$C17&"|"&VLOOKUP('Stage 2'!$E$12,Lookups!$C$670:$D$671,2,FALSE)&"|"&VLOOKUP('Stage 2'!$E$11,Lookups!$C$622:$E$644,3,FALSE)&"|"&VLOOKUP($E$10,Lookups!$C$661:$D$666,2,FALSE),Lookups!$H$355:$J$618,3,FALSE),"In the absence of real world data, this figure has been generated using the most relevant average nutrient reduction coefficient.")))
E18: =IF(OR(ISBLANK($C18),ISBLANK($D18),ISBLANK($E$10),ISBLANK($E$11)),"",IFERROR($D18*VLOOKUP((IF(OR($C18="Residential urban land",$C18="Commercial/industrial urban land",$C18="Open urban land",$C18="Greenspace",$C18="Community food growing",$C18="Woodland",$C18="Shrub", $C18="Water"), "|||"&$C18, (VLOOKUP('Stage 2'!$E$9,Lookups!$C$648:$D$656,2,FALSE)&"|"&$C18&"|"&VLOOKUP('Stage 2'!$E$12,Lookups!$C$670:$D$671,2,FALSE)&"|"&VLOOKUP('Stage 2'!$E$11,Lookups!$C$622:$E$644,3,FALSE)&"|"&VLOOKUP($E$10,Lookups!$C$661:$D$666,2,FALSE)))),Lookups!$H$94:$J$618,3,FALSE), IFERROR(IFERROR($D18*VLOOKUP(VLOOKUP($E$9,Lookups!$C$648:$E$656,3,FALSE)&"|"&$C18&"|"&VLOOKUP('Stage 2'!$E$12,Lookups!$C$670:$D$671,2,FALSE)&"|"&VLOOKUP('Stage 2'!$E$11,Lookups!$C$622:$E$644,3,FALSE)&"|"&VLOOKUP($E$10,Lookups!$C$661:$D$666,2,FALSE),Lookups!$H$355:$J$618,3,FALSE),IFERROR($D18*VLOOKUP(VLOOKUP($E$9,Lookups!$C$648:$E$656,3,FALSE)&"|"&$C18&"|"&"TRUE"&"|"&VLOOKUP('Stage 2'!$E$11,Lookups!$C$622:$E$644,3,FALSE)&"|"&VLOOKUP($E$10,Lookups!$C$661:$D$666,2,FALSE),Lookups!$H$355:$J$618,3,FALSE),$D18*VLOOKUP(VLOOKUP($E$9,Lookups!$C$648:$E$656,3,FALSE)&"|"&$C18&"|"&VLOOKUP('Stage 2'!$E$12,Lookups!$C$670:$D$671,2,FALSE)&"|"&VLOOKUP('Stage 2'!$E$11,Lookups!$C$622:$E$644,3,FALSE)&"|"&"DrainedArGr",Lookups!$H$355:$J$618,3,FALSE))),IFERROR($D18*VLOOKUP($C18&"|"&VLOOKUP('Stage 2'!$E$11,Lookups!$C$622:$E$644,3,FALSE),Lookups!$K$94:$M$610,3,FALSE),$D18*VLOOKUP($C18,Lookups!$D$94:$O$610,12,FALSE))))) | G18: =IF( OR(ISBLANK($C18),ISBLANK($D18),ISBLANK($E$10),ISBLANK($E$9),ISBLANK($E$11)),"",IFERROR($D18*VLOOKUP((IF( OR($C18="Residential urban land",$C18="Commercial/industrial urban land",$C18="Open urban land",$C18="Greenspace",$C18="Community food growing",$C18="Woodland",$C18="Shrub",$C18="Water"),"|||"&$C18,(VLOOKUP('Stage 2'!$E$9,Lookups!$C$648:$D$656,2,FALSE)&"|"&$C18&"|"&VLOOKUP('Stage 2'!$E$12,Lookups!$C$670:$D$671,2,FALSE)&"|"&VLOOKUP('Stage 2'!$E$11,Lookups!$C$622:$E$644,3,FALSE)&"|"&VLOOKUP($E$10,Lookups!$C$661:$D$666,2,FALSE)))),Lookups!$H$94:$J$618,3,FALSE), IFERROR($D18*VLOOKUP(VLOOKUP($E$9,Lookups!$C$648:$E$656,3,FALSE)&"|"&$C18&"|"&VLOOKUP('Stage 2'!$E$12,Lookups!$C$670:$D$671,2,FALSE)&"|"&VLOOKUP('Stage 2'!$E$11,Lookups!$C$622:$E$644,3,FALSE)&"|"&VLOOKUP($E$10,Lookups!$C$661:$D$666,2,FALSE),Lookups!$H$355:$J$618,3,FALSE),"In the absence of real world data, this figure has been generated using the most relevant average nutrient reduction coefficient.")))
E19: =IF(OR(ISBLANK($C19),ISBLANK($D19),ISBLANK($E$10),ISBLANK($E$11)),"",IFERROR($D19*VLOOKUP((IF(OR($C19="Residential urban land",$C19="Commercial/industrial urban land",$C19="Open urban land",$C19="Greenspace",$C19="Community food growing",$C19="Woodland",$C19="Shrub", $C19="Water"), "|||"&$C19, (VLOOKUP('Stage 2'!$E$9,Lookups!$C$648:$D$656,2,FALSE)&"|"&$C19&"|"&VLOOKUP('Stage 2'!$E$12,Lookups!$C$670:$D$671,2,FALSE)&"|"&VLOOKUP('Stage 2'!$E$11,Lookups!$C$622:$E$644,3,FALSE)&"|"&VLOOKUP($E$10,Lookups!$C$661:$D$666,2,FALSE)))),Lookups!$H$94:$J$618,3,FALSE), IFERROR(IFERROR($D19*VLOOKUP(VLOOKUP($E$9,Lookups!$C$648:$E$656,3,FALSE)&"|"&$C19&"|"&VLOOKUP('Stage 2'!$E$12,Lookups!$C$670:$D$671,2,FALSE)&"|"&VLOOKUP('Stage 2'!$E$11,Lookups!$C$622:$E$644,3,FALSE)&"|"&VLOOKUP($E$10,Lookups!$C$661:$D$666,2,FALSE),Lookups!$H$355:$J$618,3,FALSE),IFERROR($D19*VLOOKUP(VLOOKUP($E$9,Lookups!$C$648:$E$656,3,FALSE)&"|"&$C19&"|"&"TRUE"&"|"&VLOOKUP('Stage 2'!$E$11,Lookups!$C$622:$E$644,3,FALSE)&"|"&VLOOKUP($E$10,Lookups!$C$661:$D$666,2,FALSE),Lookups!$H$355:$J$618,3,FALSE),$D19*VLOOKUP(VLOOKUP($E$9,Lookups!$C$648:$E$656,3,FALSE)&"|"&$C19&"|"&VLOOKUP('Stage 2'!$E$12,Lookups!$C$670:$D$671,2,FALSE)&"|"&VLOOKUP('Stage 2'!$E$11,Lookups!$C$622:$E$644,3,FALSE)&"|"&"DrainedArGr",Lookups!$H$355:$J$618,3,FALSE))),IFERROR($D19*VLOOKUP($C19&"|"&VLOOKUP('Stage 2'!$E$11,Lookups!$C$622:$E$644,3,FALSE),Lookups!$K$94:$M$610,3,FALSE),$D19*VLOOKUP($C19,Lookups!$D$94:$O$610,12,FALSE))))) | G19: =IF( OR(ISBLANK($C19),ISBLANK($D19),ISBLANK($E$10),ISBLANK($E$9),ISBLANK($E$11)),"",IFERROR($D19*VLOOKUP((IF( OR($C19="Residential urban land",$C19="Commercial/industrial urban land",$C19="Open urban land",$C19="Greenspace",$C19="Community food growing",$C19="Woodland",$C19="Shrub",$C19="Water"),"|||"&$C19,(VLOOKUP('Stage 2'!$E$9,Lookups!$C$648:$D$656,2,FALSE)&"|"&$C19&"|"&VLOOKUP('Stage 2'!$E$12,Lookups!$C$670:$D$671,2,FALSE)&"|"&VLOOKUP('Stage 2'!$E$11,Lookups!$C$622:$E$644,3,FALSE)&"|"&VLOOKUP($E$10,Lookups!$C$661:$D$666,2,FALSE)))),Lookups!$H$94:$J$618,3,FALSE), IFERROR($D19*VLOOKUP(VLOOKUP($E$9,Lookups!$C$648:$E$656,3,FALSE)&"|"&$C19&"|"&VLOOKUP('Stage 2'!$E$12,Lookups!$C$670:$D$671,2,FALSE)&"|"&VLOOKUP('Stage 2'!$E$11,Lookups!$C$622:$E$644,3,FALSE)&"|"&VLOOKUP($E$10,Lookups!$C$661:$D$666,2,FALSE),Lookups!$H$355:$J$618,3,FALSE),"In the absence of real world data, this figure has been generated using the most relevant average nutrient reduction coefficient.")))
E20: =IF(OR(ISBLANK($C20),ISBLANK($D20),ISBLANK($E$10),ISBLANK($E$11)),"",IFERROR($D20*VLOOKUP((IF(OR($C20="Residential urban land",$C20="Commercial/industrial urban land",$C20="Open urban land",$C20="Greenspace",$C20="Community food growing",$C20="Woodland",$C20="Shrub", $C20="Water"), "|||"&$C20, (VLOOKUP('Stage 2'!$E$9,Lookups!$C$648:$D$656,2,FALSE)&"|"&$C20&"|"&VLOOKUP('Stage 2'!$E$12,Lookups!$C$670:$D$671,2,FALSE)&"|"&VLOOKUP('Stage 2'!$E$11,Lookups!$C$622:$E$644,3,FALSE)&"|"&VLOOKUP($E$10,Lookups!$C$661:$D$666,2,FALSE)))),Lookups!$H$94:$J$618,3,FALSE), IFERROR(IFERROR($D20*VLOOKUP(VLOOKUP($E$9,Lookups!$C$648:$E$656,3,FALSE)&"|"&$C20&"|"&VLOOKUP('Stage 2'!$E$12,Lookups!$C$670:$D$671,2,FALSE)&"|"&VLOOKUP('Stage 2'!$E$11,Lookups!$C$622:$E$644,3,FALSE)&"|"&VLOOKUP($E$10,Lookups!$C$661:$D$666,2,FALSE),Lookups!$H$355:$J$618,3,FALSE),IFERROR($D20*VLOOKUP(VLOOKUP($E$9,Lookups!$C$648:$E$656,3,FALSE)&"|"&$C20&"|"&"TRUE"&"|"&VLOOKUP('Stage 2'!$E$11,Lookups!$C$622:$E$644,3,FALSE)&"|"&VLOOKUP($E$10,Lookups!$C$661:$D$666,2,FALSE),Lookups!$H$355:$J$618,3,FALSE),$D20*VLOOKUP(VLOOKUP($E$9,Lookups!$C$648:$E$656,3,FALSE)&"|"&$C20&"|"&VLOOKUP('Stage 2'!$E$12,Lookups!$C$670:$D$671,2,FALSE)&"|"&VLOOKUP('Stage 2'!$E$11,Lookups!$C$622:$E$644,3,FALSE)&"|"&"DrainedArGr",Lookups!$H$355:$J$618,3,FALSE))),IFERROR($D20*VLOOKUP($C20&"|"&VLOOKUP('Stage 2'!$E$11,Lookups!$C$622:$E$644,3,FALSE),Lookups!$K$94:$M$610,3,FALSE),$D20*VLOOKUP($C20,Lookups!$D$94:$O$610,12,FALSE))))) | G20: =IF( OR(ISBLANK($C20),ISBLANK($D20),ISBLANK($E$10),ISBLANK($E$9),ISBLANK($E$11)),"",IFERROR($D20*VLOOKUP((IF( OR($C20="Residential urban land",$C20="Commercial/industrial urban land",$C20="Open urban land",$C20="Greenspace",$C20="Community food growing",$C20="Woodland",$C20="Shrub",$C20="Water"),"|||"&$C20,(VLOOKUP('Stage 2'!$E$9,Lookups!$C$648:$D$656,2,FALSE)&"|"&$C20&"|"&VLOOKUP('Stage 2'!$E$12,Lookups!$C$670:$D$671,2,FALSE)&"|"&VLOOKUP('Stage 2'!$E$11,Lookups!$C$622:$E$644,3,FALSE)&"|"&VLOOKUP($E$10,Lookups!$C$661:$D$666,2,FALSE)))),Lookups!$H$94:$J$618,3,FALSE), IFERROR($D20*VLOOKUP(VLOOKUP($E$9,Lookups!$C$648:$E$656,3,FALSE)&"|"&$C20&"|"&VLOOKUP('Stage 2'!$E$12,Lookups!$C$670:$D$671,2,FALSE)&"|"&VLOOKUP('Stage 2'!$E$11,Lookups!$C$622:$E$644,3,FALSE)&"|"&VLOOKUP($E$10,Lookups!$C$661:$D$666,2,FALSE),Lookups!$H$355:$J$618,3,FALSE),"In the absence of real world data, this figure has been generated using the most relevant average nutrient reduction coefficient.")))
E21: =IF(OR(ISBLANK($C21),ISBLANK($D21),ISBLANK($E$10),ISBLANK($E$11)),"",IFERROR($D21*VLOOKUP((IF(OR($C21="Residential urban land",$C21="Commercial/industrial urban land",$C21="Open urban land",$C21="Greenspace",$C21="Community food growing",$C21="Woodland",$C21="Shrub", $C21="Water"), "|||"&$C21, (VLOOKUP('Stage 2'!$E$9,Lookups!$C$648:$D$656,2,FALSE)&"|"&$C21&"|"&VLOOKUP('Stage 2'!$E$12,Lookups!$C$670:$D$671,2,FALSE)&"|"&VLOOKUP('Stage 2'!$E$11,Lookups!$C$622:$E$644,3,FALSE)&"|"&VLOOKUP($E$10,Lookups!$C$661:$D$666,2,FALSE)))),Lookups!$H$94:$J$618,3,FALSE), IFERROR(IFERROR($D21*VLOOKUP(VLOOKUP($E$9,Lookups!$C$648:$E$656,3,FALSE)&"|"&$C21&"|"&VLOOKUP('Stage 2'!$E$12,Lookups!$C$670:$D$671,2,FALSE)&"|"&VLOOKUP('Stage 2'!$E$11,Lookups!$C$622:$E$644,3,FALSE)&"|"&VLOOKUP($E$10,Lookups!$C$661:$D$666,2,FALSE),Lookups!$H$355:$J$618,3,FALSE),IFERROR($D21*VLOOKUP(VLOOKUP($E$9,Lookups!$C$648:$E$656,3,FALSE)&"|"&$C21&"|"&"TRUE"&"|"&VLOOKUP('Stage 2'!$E$11,Lookups!$C$622:$E$644,3,FALSE)&"|"&VLOOKUP($E$10,Lookups!$C$661:$D$666,2,FALSE),Lookups!$H$355:$J$618,3,FALSE),$D21*VLOOKUP(VLOOKUP($E$9,Lookups!$C$648:$E$656,3,FALSE)&"|"&$C21&"|"&VLOOKUP('Stage 2'!$E$12,Lookups!$C$670:$D$671,2,FALSE)&"|"&VLOOKUP('Stage 2'!$E$11,Lookups!$C$622:$E$644,3,FALSE)&"|"&"DrainedArGr",Lookups!$H$355:$J$618,3,FALSE))),IFERROR($D21*VLOOKUP($C21&"|"&VLOOKUP('Stage 2'!$E$11,Lookups!$C$622:$E$644,3,FALSE),Lookups!$K$94:$M$610,3,FALSE),$D21*VLOOKUP($C21,Lookups!$D$94:$O$610,12,FALSE))))) | G21: =IF( OR(ISBLANK($C21),ISBLANK($D21),ISBLANK($E$10),ISBLANK($E$9),ISBLANK($E$11)),"",IFERROR($D21*VLOOKUP((IF( OR($C21="Residential urban land",$C21="Commercial/industrial urban land",$C21="Open urban land",$C21="Greenspace",$C21="Community food growing",$C21="Woodland",$C21="Shrub",$C21="Water"),"|||"&$C21,(VLOOKUP('Stage 2'!$E$9,Lookups!$C$648:$D$656,2,FALSE)&"|"&$C21&"|"&VLOOKUP('Stage 2'!$E$12,Lookups!$C$670:$D$671,2,FALSE)&"|"&VLOOKUP('Stage 2'!$E$11,Lookups!$C$622:$E$644,3,FALSE)&"|"&VLOOKUP($E$10,Lookups!$C$661:$D$666,2,FALSE)))),Lookups!$H$94:$J$618,3,FALSE), IFERROR($D21*VLOOKUP(VLOOKUP($E$9,Lookups!$C$648:$E$656,3,FALSE)&"|"&$C21&"|"&VLOOKUP('Stage 2'!$E$12,Lookups!$C$670:$D$671,2,FALSE)&"|"&VLOOKUP('Stage 2'!$E$11,Lookups!$C$622:$E$644,3,FALSE)&"|"&VLOOKUP($E$10,Lookups!$C$661:$D$666,2,FALSE),Lookups!$H$355:$J$618,3,FALSE),"In the absence of real world data, this figure has been generated using the most relevant average nutrient reduction coefficient.")))
E22: =IF(OR(ISBLANK($C22),ISBLANK($D22),ISBLANK($E$10),ISBLANK($E$11)),"",IFERROR($D22*VLOOKUP((IF(OR($C22="Residential urban land",$C22="Commercial/industrial urban land",$C22="Open urban land",$C22="Greenspace",$C22="Community food growing",$C22="Woodland",$C22="Shrub", $C22="Water"), "|||"&$C22, (VLOOKUP('Stage 2'!$E$9,Lookups!$C$648:$D$656,2,FALSE)&"|"&$C22&"|"&VLOOKUP('Stage 2'!$E$12,Lookups!$C$670:$D$671,2,FALSE)&"|"&VLOOKUP('Stage 2'!$E$11,Lookups!$C$622:$E$644,3,FALSE)&"|"&VLOOKUP($E$10,Lookups!$C$661:$D$666,2,FALSE)))),Lookups!$H$94:$J$618,3,FALSE), IFERROR(IFERROR($D22*VLOOKUP(VLOOKUP($E$9,Lookups!$C$648:$E$656,3,FALSE)&"|"&$C22&"|"&VLOOKUP('Stage 2'!$E$12,Lookups!$C$670:$D$671,2,FALSE)&"|"&VLOOKUP('Stage 2'!$E$11,Lookups!$C$622:$E$644,3,FALSE)&"|"&VLOOKUP($E$10,Lookups!$C$661:$D$666,2,FALSE),Lookups!$H$355:$J$618,3,FALSE),IFERROR($D22*VLOOKUP(VLOOKUP($E$9,Lookups!$C$648:$E$656,3,FALSE)&"|"&$C22&"|"&"TRUE"&"|"&VLOOKUP('Stage 2'!$E$11,Lookups!$C$622:$E$644,3,FALSE)&"|"&VLOOKUP($E$10,Lookups!$C$661:$D$666,2,FALSE),Lookups!$H$355:$J$618,3,FALSE),$D22*VLOOKUP(VLOOKUP($E$9,Lookups!$C$648:$E$656,3,FALSE)&"|"&$C22&"|"&VLOOKUP('Stage 2'!$E$12,Lookups!$C$670:$D$671,2,FALSE)&"|"&VLOOKUP('Stage 2'!$E$11,Lookups!$C$622:$E$644,3,FALSE)&"|"&"DrainedArGr",Lookups!$H$355:$J$618,3,FALSE))),IFERROR($D22*VLOOKUP($C22&"|"&VLOOKUP('Stage 2'!$E$11,Lookups!$C$622:$E$644,3,FALSE),Lookups!$K$94:$M$610,3,FALSE),$D22*VLOOKUP($C22,Lookups!$D$94:$O$610,12,FALSE))))) | G22: =IF( OR(ISBLANK($C22),ISBLANK($D22),ISBLANK($E$10),ISBLANK($E$9),ISBLANK($E$11)),"",IFERROR($D22*VLOOKUP((IF( OR($C22="Residential urban land",$C22="Commercial/industrial urban land",$C22="Open urban land",$C22="Greenspace",$C22="Community food growing",$C22="Woodland",$C22="Shrub",$C22="Water"),"|||"&$C22,(VLOOKUP('Stage 2'!$E$9,Lookups!$C$648:$D$656,2,FALSE)&"|"&$C22&"|"&VLOOKUP('Stage 2'!$E$12,Lookups!$C$670:$D$671,2,FALSE)&"|"&VLOOKUP('Stage 2'!$E$11,Lookups!$C$622:$E$644,3,FALSE)&"|"&VLOOKUP($E$10,Lookups!$C$661:$D$666,2,FALSE)))),Lookups!$H$94:$J$618,3,FALSE), IFERROR($D22*VLOOKUP(VLOOKUP($E$9,Lookups!$C$648:$E$656,3,FALSE)&"|"&$C22&"|"&VLOOKUP('Stage 2'!$E$12,Lookups!$C$670:$D$671,2,FALSE)&"|"&VLOOKUP('Stage 2'!$E$11,Lookups!$C$622:$E$644,3,FALSE)&"|"&VLOOKUP($E$10,Lookups!$C$661:$D$666,2,FALSE),Lookups!$H$355:$J$618,3,FALSE),"In the absence of real world data, this figure has been generated using the most relevant average nutrient reduction coefficient.")))
E23: =IF(OR(ISBLANK($C23),ISBLANK($D23),ISBLANK($E$10),ISBLANK($E$11)),"",IFERROR($D23*VLOOKUP((IF(OR($C23="Residential urban land",$C23="Commercial/industrial urban land",$C23="Open urban land",$C23="Greenspace",$C23="Community food growing",$C23="Woodland",$C23="Shrub", $C23="Water"), "|||"&$C23, (VLOOKUP('Stage 2'!$E$9,Lookups!$C$648:$D$656,2,FALSE)&"|"&$C23&"|"&VLOOKUP('Stage 2'!$E$12,Lookups!$C$670:$D$671,2,FALSE)&"|"&VLOOKUP('Stage 2'!$E$11,Lookups!$C$622:$E$644,3,FALSE)&"|"&VLOOKUP($E$10,Lookups!$C$661:$D$666,2,FALSE)))),Lookups!$H$94:$J$618,3,FALSE), IFERROR(IFERROR($D23*VLOOKUP(VLOOKUP($E$9,Lookups!$C$648:$E$656,3,FALSE)&"|"&$C23&"|"&VLOOKUP('Stage 2'!$E$12,Lookups!$C$670:$D$671,2,FALSE)&"|"&VLOOKUP('Stage 2'!$E$11,Lookups!$C$622:$E$644,3,FALSE)&"|"&VLOOKUP($E$10,Lookups!$C$661:$D$666,2,FALSE),Lookups!$H$355:$J$618,3,FALSE),IFERROR($D23*VLOOKUP(VLOOKUP($E$9,Lookups!$C$648:$E$656,3,FALSE)&"|"&$C23&"|"&"TRUE"&"|"&VLOOKUP('Stage 2'!$E$11,Lookups!$C$622:$E$644,3,FALSE)&"|"&VLOOKUP($E$10,Lookups!$C$661:$D$666,2,FALSE),Lookups!$H$355:$J$618,3,FALSE),$D23*VLOOKUP(VLOOKUP($E$9,Lookups!$C$648:$E$656,3,FALSE)&"|"&$C23&"|"&VLOOKUP('Stage 2'!$E$12,Lookups!$C$670:$D$671,2,FALSE)&"|"&VLOOKUP('Stage 2'!$E$11,Lookups!$C$622:$E$644,3,FALSE)&"|"&"DrainedArGr",Lookups!$H$355:$J$618,3,FALSE))),IFERROR($D23*VLOOKUP($C23&"|"&VLOOKUP('Stage 2'!$E$11,Lookups!$C$622:$E$644,3,FALSE),Lookups!$K$94:$M$610,3,FALSE),$D23*VLOOKUP($C23,Lookups!$D$94:$O$610,12,FALSE))))) | G23: =IF( OR(ISBLANK($C23),ISBLANK($D23),ISBLANK($E$10),ISBLANK($E$9),ISBLANK($E$11)),"",IFERROR($D23*VLOOKUP((IF( OR($C23="Residential urban land",$C23="Commercial/industrial urban land",$C23="Open urban land",$C23="Greenspace",$C23="Community food growing",$C23="Woodland",$C23="Shrub",$C23="Water"),"|||"&$C23,(VLOOKUP('Stage 2'!$E$9,Lookups!$C$648:$D$656,2,FALSE)&"|"&$C23&"|"&VLOOKUP('Stage 2'!$E$12,Lookups!$C$670:$D$671,2,FALSE)&"|"&VLOOKUP('Stage 2'!$E$11,Lookups!$C$622:$E$644,3,FALSE)&"|"&VLOOKUP($E$10,Lookups!$C$661:$D$666,2,FALSE)))),Lookups!$H$94:$J$618,3,FALSE), IFERROR($D23*VLOOKUP(VLOOKUP($E$9,Lookups!$C$648:$E$656,3,FALSE)&"|"&$C23&"|"&VLOOKUP('Stage 2'!$E$12,Lookups!$C$670:$D$671,2,FALSE)&"|"&VLOOKUP('Stage 2'!$E$11,Lookups!$C$622:$E$644,3,FALSE)&"|"&VLOOKUP($E$10,Lookups!$C$661:$D$666,2,FALSE),Lookups!$H$355:$J$618,3,FALSE),"In the absence of real world data, this figure has been generated using the most relevant average nutrient reduction coefficient.")))
E24: =IF(OR(ISBLANK($C24),ISBLANK($D24),ISBLANK($E$10),ISBLANK($E$11)),"",IFERROR($D24*VLOOKUP((IF(OR($C24="Residential urban land",$C24="Commercial/industrial urban land",$C24="Open urban land",$C24="Greenspace",$C24="Community food growing",$C24="Woodland",$C24="Shrub", $C24="Water"), "|||"&$C24, (VLOOKUP('Stage 2'!$E$9,Lookups!$C$648:$D$656,2,FALSE)&"|"&$C24&"|"&VLOOKUP('Stage 2'!$E$12,Lookups!$C$670:$D$671,2,FALSE)&"|"&VLOOKUP('Stage 2'!$E$11,Lookups!$C$622:$E$644,3,FALSE)&"|"&VLOOKUP($E$10,Lookups!$C$661:$D$666,2,FALSE)))),Lookups!$H$94:$J$618,3,FALSE), IFERROR(IFERROR($D24*VLOOKUP(VLOOKUP($E$9,Lookups!$C$648:$E$656,3,FALSE)&"|"&$C24&"|"&VLOOKUP('Stage 2'!$E$12,Lookups!$C$670:$D$671,2,FALSE)&"|"&VLOOKUP('Stage 2'!$E$11,Lookups!$C$622:$E$644,3,FALSE)&"|"&VLOOKUP($E$10,Lookups!$C$661:$D$666,2,FALSE),Lookups!$H$355:$J$618,3,FALSE),IFERROR($D24*VLOOKUP(VLOOKUP($E$9,Lookups!$C$648:$E$656,3,FALSE)&"|"&$C24&"|"&"TRUE"&"|"&VLOOKUP('Stage 2'!$E$11,Lookups!$C$622:$E$644,3,FALSE)&"|"&VLOOKUP($E$10,Lookups!$C$661:$D$666,2,FALSE),Lookups!$H$355:$J$618,3,FALSE),$D24*VLOOKUP(VLOOKUP($E$9,Lookups!$C$648:$E$656,3,FALSE)&"|"&$C24&"|"&VLOOKUP('Stage 2'!$E$12,Lookups!$C$670:$D$671,2,FALSE)&"|"&VLOOKUP('Stage 2'!$E$11,Lookups!$C$622:$E$644,3,FALSE)&"|"&"DrainedArGr",Lookups!$H$355:$J$618,3,FALSE))),IFERROR($D24*VLOOKUP($C24&"|"&VLOOKUP('Stage 2'!$E$11,Lookups!$C$622:$E$644,3,FALSE),Lookups!$K$94:$M$610,3,FALSE),$D24*VLOOKUP($C24,Lookups!$D$94:$O$610,12,FALSE))))) | G24: =IF( OR(ISBLANK($C24),ISBLANK($D24),ISBLANK($E$10),ISBLANK($E$9),ISBLANK($E$11)),"",IFERROR($D24*VLOOKUP((IF( OR($C24="Residential urban land",$C24="Commercial/industrial urban land",$C24="Open urban land",$C24="Greenspace",$C24="Community food growing",$C24="Woodland",$C24="Shrub",$C24="Water"),"|||"&$C24,(VLOOKUP('Stage 2'!$E$9,Lookups!$C$648:$D$656,2,FALSE)&"|"&$C24&"|"&VLOOKUP('Stage 2'!$E$12,Lookups!$C$670:$D$671,2,FALSE)&"|"&VLOOKUP('Stage 2'!$E$11,Lookups!$C$622:$E$644,3,FALSE)&"|"&VLOOKUP($E$10,Lookups!$C$661:$D$666,2,FALSE)))),Lookups!$H$94:$J$618,3,FALSE), IFERROR($D24*VLOOKUP(VLOOKUP($E$9,Lookups!$C$648:$E$656,3,FALSE)&"|"&$C24&"|"&VLOOKUP('Stage 2'!$E$12,Lookups!$C$670:$D$671,2,FALSE)&"|"&VLOOKUP('Stage 2'!$E$11,Lookups!$C$622:$E$644,3,FALSE)&"|"&VLOOKUP($E$10,Lookups!$C$661:$D$666,2,FALSE),Lookups!$H$355:$J$618,3,FALSE),"In the absence of real world data, this figure has been generated using the most relevant average nutrient reduction coefficient.")))
E25: =IF(OR(ISBLANK($C25),ISBLANK($D25),ISBLANK($E$10),ISBLANK($E$11)),"",IFERROR($D25*VLOOKUP((IF(OR($C25="Residential urban land",$C25="Commercial/industrial urban land",$C25="Open urban land",$C25="Greenspace",$C25="Community food growing",$C25="Woodland",$C25="Shrub", $C25="Water"), "|||"&$C25, (VLOOKUP('Stage 2'!$E$9,Lookups!$C$648:$D$656,2,FALSE)&"|"&$C25&"|"&VLOOKUP('Stage 2'!$E$12,Lookups!$C$670:$D$671,2,FALSE)&"|"&VLOOKUP('Stage 2'!$E$11,Lookups!$C$622:$E$644,3,FALSE)&"|"&VLOOKUP($E$10,Lookups!$C$661:$D$666,2,FALSE)))),Lookups!$H$94:$J$618,3,FALSE), IFERROR(IFERROR($D25*VLOOKUP(VLOOKUP($E$9,Lookups!$C$648:$E$656,3,FALSE)&"|"&$C25&"|"&VLOOKUP('Stage 2'!$E$12,Lookups!$C$670:$D$671,2,FALSE)&"|"&VLOOKUP('Stage 2'!$E$11,Lookups!$C$622:$E$644,3,FALSE)&"|"&VLOOKUP($E$10,Lookups!$C$661:$D$666,2,FALSE),Lookups!$H$355:$J$618,3,FALSE),IFERROR($D25*VLOOKUP(VLOOKUP($E$9,Lookups!$C$648:$E$656,3,FALSE)&"|"&$C25&"|"&"TRUE"&"|"&VLOOKUP('Stage 2'!$E$11,Lookups!$C$622:$E$644,3,FALSE)&"|"&VLOOKUP($E$10,Lookups!$C$661:$D$666,2,FALSE),Lookups!$H$355:$J$618,3,FALSE),$D25*VLOOKUP(VLOOKUP($E$9,Lookups!$C$648:$E$656,3,FALSE)&"|"&$C25&"|"&VLOOKUP('Stage 2'!$E$12,Lookups!$C$670:$D$671,2,FALSE)&"|"&VLOOKUP('Stage 2'!$E$11,Lookups!$C$622:$E$644,3,FALSE)&"|"&"DrainedArGr",Lookups!$H$355:$J$618,3,FALSE))),IFERROR($D25*VLOOKUP($C25&"|"&VLOOKUP('Stage 2'!$E$11,Lookups!$C$622:$E$644,3,FALSE),Lookups!$K$94:$M$610,3,FALSE),$D25*VLOOKUP($C25,Lookups!$D$94:$O$610,12,FALSE))))) | G25: =IF( OR(ISBLANK($C25),ISBLANK($D25),ISBLANK($E$10),ISBLANK($E$9),ISBLANK($E$11)),"",IFERROR($D25*VLOOKUP((IF( OR($C25="Residential urban land",$C25="Commercial/industrial urban land",$C25="Open urban land",$C25="Greenspace",$C25="Community food growing",$C25="Woodland",$C25="Shrub",$C25="Water"),"|||"&$C25,(VLOOKUP('Stage 2'!$E$9,Lookups!$C$648:$D$656,2,FALSE)&"|"&$C25&"|"&VLOOKUP('Stage 2'!$E$12,Lookups!$C$670:$D$671,2,FALSE)&"|"&VLOOKUP('Stage 2'!$E$11,Lookups!$C$622:$E$644,3,FALSE)&"|"&VLOOKUP($E$10,Lookups!$C$661:$D$666,2,FALSE)))),Lookups!$H$94:$J$618,3,FALSE), IFERROR($D25*VLOOKUP(VLOOKUP($E$9,Lookups!$C$648:$E$656,3,FALSE)&"|"&$C25&"|"&VLOOKUP('Stage 2'!$E$12,Lookups!$C$670:$D$671,2,FALSE)&"|"&VLOOKUP('Stage 2'!$E$11,Lookups!$C$622:$E$644,3,FALSE)&"|"&VLOOKUP($E$10,Lookups!$C$661:$D$666,2,FALSE),Lookups!$H$355:$J$618,3,FALSE),"In the absence of real world data, this figure has been generated using the most relevant average nutrient reduction coefficient.")))
E26: =IF(OR(ISBLANK($C26),ISBLANK($D26),ISBLANK($E$10),ISBLANK($E$11)),"",IFERROR($D26*VLOOKUP((IF(OR($C26="Residential urban land",$C26="Commercial/industrial urban land",$C26="Open urban land",$C26="Greenspace",$C26="Community food growing",$C26="Woodland",$C26="Shrub", $C26="Water"), "|||"&$C26, (VLOOKUP('Stage 2'!$E$9,Lookups!$C$648:$D$656,2,FALSE)&"|"&$C26&"|"&VLOOKUP('Stage 2'!$E$12,Lookups!$C$670:$D$671,2,FALSE)&"|"&VLOOKUP('Stage 2'!$E$11,Lookups!$C$622:$E$644,3,FALSE)&"|"&VLOOKUP($E$10,Lookups!$C$661:$D$666,2,FALSE)))),Lookups!$H$94:$J$618,3,FALSE), IFERROR(IFERROR($D26*VLOOKUP(VLOOKUP($E$9,Lookups!$C$648:$E$656,3,FALSE)&"|"&$C26&"|"&VLOOKUP('Stage 2'!$E$12,Lookups!$C$670:$D$671,2,FALSE)&"|"&VLOOKUP('Stage 2'!$E$11,Lookups!$C$622:$E$644,3,FALSE)&"|"&VLOOKUP($E$10,Lookups!$C$661:$D$666,2,FALSE),Lookups!$H$355:$J$618,3,FALSE),IFERROR($D26*VLOOKUP(VLOOKUP($E$9,Lookups!$C$648:$E$656,3,FALSE)&"|"&$C26&"|"&"TRUE"&"|"&VLOOKUP('Stage 2'!$E$11,Lookups!$C$622:$E$644,3,FALSE)&"|"&VLOOKUP($E$10,Lookups!$C$661:$D$666,2,FALSE),Lookups!$H$355:$J$618,3,FALSE),$D26*VLOOKUP(VLOOKUP($E$9,Lookups!$C$648:$E$656,3,FALSE)&"|"&$C26&"|"&VLOOKUP('Stage 2'!$E$12,Lookups!$C$670:$D$671,2,FALSE)&"|"&VLOOKUP('Stage 2'!$E$11,Lookups!$C$622:$E$644,3,FALSE)&"|"&"DrainedArGr",Lookups!$H$355:$J$618,3,FALSE))),IFERROR($D26*VLOOKUP($C26&"|"&VLOOKUP('Stage 2'!$E$11,Lookups!$C$622:$E$644,3,FALSE),Lookups!$K$94:$M$610,3,FALSE),$D26*VLOOKUP($C26,Lookups!$D$94:$O$610,12,FALSE))))) | G26: =IF( OR(ISBLANK($C26),ISBLANK($D26),ISBLANK($E$10),ISBLANK($E$9),ISBLANK($E$11)),"",IFERROR($D26*VLOOKUP((IF( OR($C26="Residential urban land",$C26="Commercial/industrial urban land",$C26="Open urban land",$C26="Greenspace",$C26="Community food growing",$C26="Woodland",$C26="Shrub",$C26="Water"),"|||"&$C26,(VLOOKUP('Stage 2'!$E$9,Lookups!$C$648:$D$656,2,FALSE)&"|"&$C26&"|"&VLOOKUP('Stage 2'!$E$12,Lookups!$C$670:$D$671,2,FALSE)&"|"&VLOOKUP('Stage 2'!$E$11,Lookups!$C$622:$E$644,3,FALSE)&"|"&VLOOKUP($E$10,Lookups!$C$661:$D$666,2,FALSE)))),Lookups!$H$94:$J$618,3,FALSE), IFERROR($D26*VLOOKUP(VLOOKUP($E$9,Lookups!$C$648:$E$656,3,FALSE)&"|"&$C26&"|"&VLOOKUP('Stage 2'!$E$12,Lookups!$C$670:$D$671,2,FALSE)&"|"&VLOOKUP('Stage 2'!$E$11,Lookups!$C$622:$E$644,3,FALSE)&"|"&VLOOKUP($E$10,Lookups!$C$661:$D$666,2,FALSE),Lookups!$H$355:$J$618,3,FALSE),"In the absence of real world data, this figure has been generated using the most relevant average nutrient reduction coefficient.")))
E27: =IF(OR(ISBLANK($C27),ISBLANK($D27),ISBLANK($E$10),ISBLANK($E$11)),"",IFERROR($D27*VLOOKUP((IF(OR($C27="Residential urban land",$C27="Commercial/industrial urban land",$C27="Open urban land",$C27="Greenspace",$C27="Community food growing",$C27="Woodland",$C27="Shrub", $C27="Water"), "|||"&$C27, (VLOOKUP('Stage 2'!$E$9,Lookups!$C$648:$D$656,2,FALSE)&"|"&$C27&"|"&VLOOKUP('Stage 2'!$E$12,Lookups!$C$670:$D$671,2,FALSE)&"|"&VLOOKUP('Stage 2'!$E$11,Lookups!$C$622:$E$644,3,FALSE)&"|"&VLOOKUP($E$10,Lookups!$C$661:$D$666,2,FALSE)))),Lookups!$H$94:$J$618,3,FALSE), IFERROR(IFERROR($D27*VLOOKUP(VLOOKUP($E$9,Lookups!$C$648:$E$656,3,FALSE)&"|"&$C27&"|"&VLOOKUP('Stage 2'!$E$12,Lookups!$C$670:$D$671,2,FALSE)&"|"&VLOOKUP('Stage 2'!$E$11,Lookups!$C$622:$E$644,3,FALSE)&"|"&VLOOKUP($E$10,Lookups!$C$661:$D$666,2,FALSE),Lookups!$H$355:$J$618,3,FALSE),IFERROR($D27*VLOOKUP(VLOOKUP($E$9,Lookups!$C$648:$E$656,3,FALSE)&"|"&$C27&"|"&"TRUE"&"|"&VLOOKUP('Stage 2'!$E$11,Lookups!$C$622:$E$644,3,FALSE)&"|"&VLOOKUP($E$10,Lookups!$C$661:$D$666,2,FALSE),Lookups!$H$355:$J$618,3,FALSE),$D27*VLOOKUP(VLOOKUP($E$9,Lookups!$C$648:$E$656,3,FALSE)&"|"&$C27&"|"&VLOOKUP('Stage 2'!$E$12,Lookups!$C$670:$D$671,2,FALSE)&"|"&VLOOKUP('Stage 2'!$E$11,Lookups!$C$622:$E$644,3,FALSE)&"|"&"DrainedArGr",Lookups!$H$355:$J$618,3,FALSE))),IFERROR($D27*VLOOKUP($C27&"|"&VLOOKUP('Stage 2'!$E$11,Lookups!$C$622:$E$644,3,FALSE),Lookups!$K$94:$M$610,3,FALSE),$D27*VLOOKUP($C27,Lookups!$D$94:$O$610,12,FALSE))))) | G27: =IF( OR(ISBLANK($C27),ISBLANK($D27),ISBLANK($E$10),ISBLANK($E$9),ISBLANK($E$11)),"",IFERROR($D27*VLOOKUP((IF( OR($C27="Residential urban land",$C27="Commercial/industrial urban land",$C27="Open urban land",$C27="Greenspace",$C27="Community food growing",$C27="Woodland",$C27="Shrub",$C27="Water"),"|||"&$C27,(VLOOKUP('Stage 2'!$E$9,Lookups!$C$648:$D$656,2,FALSE)&"|"&$C27&"|"&VLOOKUP('Stage 2'!$E$12,Lookups!$C$670:$D$671,2,FALSE)&"|"&VLOOKUP('Stage 2'!$E$11,Lookups!$C$622:$E$644,3,FALSE)&"|"&VLOOKUP($E$10,Lookups!$C$661:$D$666,2,FALSE)))),Lookups!$H$94:$J$618,3,FALSE), IFERROR($D27*VLOOKUP(VLOOKUP($E$9,Lookups!$C$648:$E$656,3,FALSE)&"|"&$C27&"|"&VLOOKUP('Stage 2'!$E$12,Lookups!$C$670:$D$671,2,FALSE)&"|"&VLOOKUP('Stage 2'!$E$11,Lookups!$C$622:$E$644,3,FALSE)&"|"&VLOOKUP($E$10,Lookups!$C$661:$D$666,2,FALSE),Lookups!$H$355:$J$618,3,FALSE),"In the absence of real world data, this figure has been generated using the most relevant average nutrient reduction coefficient.")))
... E31: =IF(OR(ISBLANK($C31),ISBLANK($D31),ISBLANK($E$10),ISBLANK($E$11)),"",IFERROR($D31*VLOOKUP((IF(OR($C31="Residential urban land",$C31="Commercial/industrial urban land",$C31="Open urban land",$C31="Greenspace",$C31="Community food growing",$C31="Woodland",$C31="Shrub", $C31="Water"), "|||"&$C31, (VLOOKUP('Stage 2'!$E$9,Lookups!$C$648:$D$656,2,FALSE)&"|"&$C31&"|"&VLOOKUP('Stage 2'!$E$12,Lookups!$C$670:$D$671,2,FALSE)&"|"&VLOOKUP('Stage 2'!$E$11,Lookups!$C$622:$E$644,3,FALSE)&"|"&VLOOKUP($E$10,Lookups!$C$661:$D$666,2,FALSE)))),Lookups!$H$94:$J$618,3,FALSE), IFERROR(IFERROR($D31*VLOOKUP(VLOOKUP($E$9,Lookups!$C$648:$E$656,3,FALSE)&"|"&$C31&"|"&VLOOKUP('Stage 2'!$E$12,Lookups!$C$670:$D$671,2,FALSE)&"|"&VLOOKUP('Stage 2'!$E$11,Lookups!$C$622:$E$644,3,FALSE)&"|"&VLOOKUP($E$10,Lookups!$C$661:$D$666,2,FALSE),Lookups!$H$355:$J$618,3,FALSE),IFERROR($D31*VLOOKUP(VLOOKUP($E$9,Lookups!$C$648:$E$656,3,FALSE)&"|"&$C31&"|"&"TRUE"&"|"&VLOOKUP('Stage 2'!$E$11,Lookups!$C$622:$E$644,3,FALSE)&"|"&VLOOKUP($E$10,Lookups!$C$661:$D$666,2,FALSE),Lookups!$H$355:$J$618,3,FALSE),$D31*VLOOKUP(VLOOKUP($E$9,Lookups!$C$648:$E$656,3,FALSE)&"|"&$C31&"|"&VLOOKUP('Stage 2'!$E$12,Lookups!$C$670:$D$671,2,FALSE)&"|"&VLOOKUP('Stage 2'!$E$11,Lookups!$C$622:$E$644,3,FALSE)&"|"&"DrainedArGr",Lookups!$H$355:$J$618,3,FALSE))),IFERROR($D31*VLOOKUP($C31&"|"&VLOOKUP('Stage 2'!$E$11,Lookups!$C$622:$E$644,3,FALSE),Lookups!$K$94:$M$610,3,FALSE),$D31*VLOOKUP($C31,Lookups!$D$94:$O$610,12,FALSE))))) | G31: =IF( OR(ISBLANK($C31),ISBLANK($D31),ISBLANK($E$10),ISBLANK($E$9),ISBLANK($E$11)),"",IFERROR($D31*VLOOKUP((IF( OR($C31="Residential urban land",$C31="Commercial/industrial urban land",$C31="Open urban land",$C31="Greenspace",$C31="Community food growing",$C31="Woodland",$C31="Shrub",$C31="Water"),"|||"&$C31,(VLOOKUP('Stage 2'!$E$9,Lookups!$C$648:$D$656,2,FALSE)&"|"&$C31&"|"&VLOOKUP('Stage 2'!$E$12,Lookups!$C$670:$D$671,2,FALSE)&"|"&VLOOKUP('Stage 2'!$E$11,Lookups!$C$622:$E$644,3,FALSE)&"|"&VLOOKUP($E$10,Lookups!$C$661:$D$666,2,FALSE)))),Lookups!$H$94:$J$618,3,FALSE), IFERROR($D31*VLOOKUP(VLOOKUP($E$9,Lookups!$C$648:$E$656,3,FALSE)&"|"&$C31&"|"&VLOOKUP('Stage 2'!$E$12,Lookups!$C$670:$D$671,2,FALSE)&"|"&VLOOKUP('Stage 2'!$E$11,Lookups!$C$622:$E$644,3,FALSE)&"|"&VLOOKUP($E$10,Lookups!$C$661:$D$666,2,FALSE),Lookups!$H$355:$J$618,3,FALSE),"In the absence of real world data, this figure has been generated using the most relevant average nutrient reduction coefficient.")))
C32: Total: | D32: =SUM(D15:D31) -> 0.037 | E32: =SUM(E15:E31) -> 0.53449146

Sheet Stage 3
B3: Stage 3
C7: User Inputs
C9: New land use type(s) | D9: Area (ha) | E9: Annual nitrogen nutrient export (kg TN)
C10: Residential urban land | D10: 0.037 | E10: =IF(OR(ISBLANK(C10),ISBLANK(D10)),"",D10*VLOOKUP((IF(OR(C10="Residential urban land",C10="Commercial/industrial urban land",C10="Open urban land",C10="Greenspace",C10="Community food growing",C10="Woodland",C10="Shrub", C10="Water"), "|||"&C10, (VLOOKUP('Stage 2'!$E$9,Lookups!$C$661:$E$666,2,FALSE)&"|"&C10&"|"&VLOOKUP('Stage 2'!$E$12,Lookups!$C$670:$D$671,2,FALSE)&"|"&VLOOKUP('Stage 2'!$E$11,Lookups!$C$622:$E$644,3,FALSE)&"|"&VLOOKUP('Stage 2'!$E$10,Lookups!#REF!,2,FALSE)))),Lookups!$H$355:$J$618,3,FALSE)) -> 0.53449146
E11: =IF(OR(ISBLANK(C11),ISBLANK(D11)),"",D11*VLOOKUP((IF(OR(C11="Residential urban land",C11="Commercial/industrial urban land",C11="Open urban land",C11="Greenspace",C11="Community food growing",C11="Woodland",C11="Shrub", C11="Water"), "|||"&C11, (VLOOKUP('Stage 2'!$E$9,Lookups!$C$661:$E$666,2,FALSE)&"|"&C11&"|"&VLOOKUP('Stage 2'!$E$12,Lookups!$C$670:$D$671,2,FALSE)&"|"&VLOOKUP('Stage 2'!$E$11,Lookups!$C$622:$E$644,3,FALSE)&"|"&VLOOKUP('Stage 2'!$E$10,Lookups!#REF!,2,FALSE)))),Lookups!$H$355:$J$618,3,FALSE))
E12: =IF(OR(ISBLANK(C12),ISBLANK(D12)),"",D12*VLOOKUP((IF(OR(C12="Residential urban land",C12="Commercial/industrial urban land",C12="Open urban land",C12="Greenspace",C12="Community food growing",C12="Woodland",C12="Shrub", C12="Water"), "|||"&C12, (VLOOKUP('Stage 2'!$E$9,Lookups!$C$661:$E$666,2,FALSE)&"|"&C12&"|"&VLOOKUP('Stage 2'!$E$12,Lookups!$C$670:$D$671,2,FALSE)&"|"&VLOOKUP('Stage 2'!$E$11,Lookups!$C$622:$E$644,3,FALSE)&"|"&VLOOKUP('Stage 2'!$E$10,Lookups!#REF!,2,FALSE)))),Lookups!$H$355:$J$618,3,FALSE))
E13: =IF(OR(ISBLANK(C13),ISBLANK(D13)),"",D13*VLOOKUP((IF(OR(C13="Residential urban land",C13="Commercial/industrial urban land",C13="Open urban land",C13="Greenspace",C13="Community food growing",C13="Woodland",C13="Shrub", C13="Water"), "|||"&C13, (VLOOKUP('Stage 2'!$E$9,Lookups!$C$661:$E$666,2,FALSE)&"|"&C13&"|"&VLOOKUP('Stage 2'!$E$12,Lookups!$C$670:$D$671,2,FALSE)&"|"&VLOOKUP('Stage 2'!$E$11,Lookups!$C$622:$E$644,3,FALSE)&"|"&VLOOKUP('Stage 2'!$E$10,Lookups!#REF!,2,FALSE)))),Lookups!$H$355:$J$618,3,FALSE))
E14: =IF(OR(ISBLANK(C14),ISBLANK(D14)),"",D14*VLOOKUP((IF(OR(C14="Residential urban land",C14="Commercial/industrial urban land",C14="Open urban land",C14="Greenspace",C14="Community food growing",C14="Woodland",C14="Shrub", C14="Water"), "|||"&C14, (VLOOKUP('Stage 2'!$E$9,Lookups!$C$661:$E$666,2,FALSE)&"|"&C14&"|"&VLOOKUP('Stage 2'!$E$12,Lookups!$C$670:$D$671,2,FALSE)&"|"&VLOOKUP('Stage 2'!$E$11,Lookups!$C$622:$E$644,3,FALSE)&"|"&VLOOKUP('Stage 2'!$E$10,Lookups!#REF!,2,FALSE)))),Lookups!$H$355:$J$618,3,FALSE))
E15: =IF(OR(ISBLANK(C15),ISBLANK(D15)),"",D15*VLOOKUP((IF(OR(C15="Residential urban land",C15="Commercial/industrial urban land",C15="Open urban land",C15="Greenspace",C15="Community food growing",C15="Woodland",C15="Shrub", C15="Water"), "|||"&C15, (VLOOKUP('Stage 2'!$E$9,Lookups!$C$661:$E$666,2,FALSE)&"|"&C15&"|"&VLOOKUP('Stage 2'!$E$12,Lookups!$C$670:$D$671,2,FALSE)&"|"&VLOOKUP('Stage 2'!$E$11,Lookups!$C$622:$E$644,3,FALSE)&"|"&VLOOKUP('Stage 2'!$E$10,Lookups!#REF!,2,FALSE)))),Lookups!$H$355:$J$618,3,FALSE))
E16: =IF(OR(ISBLANK(C16),ISBLANK(D16)),"",D16*VLOOKUP((IF(OR(C16="Residential urban land",C16="Commercial/industrial urban land",C16="Open urban land",C16="Greenspace",C16="Community food growing",C16="Woodland",C16="Shrub", C16="Water"), "|||"&C16, (VLOOKUP('Stage 2'!$E$9,Lookups!$C$661:$E$666,2,FALSE)&"|"&C16&"|"&VLOOKUP('Stage 2'!$E$12,Lookups!$C$670:$D$671,2,FALSE)&"|"&VLOOKUP('Stage 2'!$E$11,Lookups!$C$622:$E$644,3,FALSE)&"|"&VLOOKUP('Stage 2'!$E$10,Lookups!#REF!,2,FALSE)))),Lookups!$H$355:$J$618,3,FALSE))
E17: =IF(OR(ISBLANK(C17),ISBLANK(D17)),"",D17*VLOOKUP((IF(OR(C17="Residential urban land",C17="Commercial/industrial urban land",C17="Open urban land",C17="Greenspace",C17="Community food growing",C17="Woodland",C17="Shrub", C17="Water"), "|||"&C17, (VLOOKUP('Stage 2'!$E$9,Lookups!$C$661:$E$666,2,FALSE)&"|"&C17&"|"&VLOOKUP('Stage 2'!$E$12,Lookups!$C$670:$D$671,2,FALSE)&"|"&VLOOKUP('Stage 2'!$E$11,Lookups!$C$622:$E$644,3,FALSE)&"|"&VLOOKUP('Stage 2'!$E$10,Lookups!#REF!,2,FALSE)))),Lookups!$H$355:$J$618,3,FALSE))
E18: =IF(OR(ISBLANK(C18),ISBLANK(D18)),"",D18*VLOOKUP((IF(OR(C18="Residential urban land",C18="Commercial/industrial urban land",C18="Open urban land",C18="Greenspace",C18="Community food growing",C18="Woodland",C18="Shrub", C18="Water"), "|||"&C18, (VLOOKUP('Stage 2'!$E$9,Lookups!$C$661:$E$666,2,FALSE)&"|"&C18&"|"&VLOOKUP('Stage 2'!$E$12,Lookups!$C$670:$D$671,2,FALSE)&"|"&VLOOKUP('Stage 2'!$E$11,Lookups!$C$622:$E$644,3,FALSE)&"|"&VLOOKUP('Stage 2'!$E$10,Lookups!#REF!,2,FALSE)))),Lookups!$H$355:$J$618,3,FALSE))
E19: =IF(OR(ISBLANK(C19),ISBLANK(D19)),"",D19*VLOOKUP((IF(OR(C19="Residential urban land",C19="Commercial/industrial urban land",C19="Open urban land",C19="Greenspace",C19="Community food growing",C19="Woodland",C19="Shrub", C19="Water"), "|||"&C19, (VLOOKUP('Stage 2'!$E$9,Lookups!$C$661:$E$666,2,FALSE)&"|"&C19&"|"&VLOOKUP('Stage 2'!$E$12,Lookups!$C$670:$D$671,2,FALSE)&"|"&VLOOKUP('Stage 2'!$E$11,Lookups!$C$622:$E$644,3,FALSE)&"|"&VLOOKUP('Stage 2'!$E$10,Lookups!#REF!,2,FALSE)))),Lookups!$H$355:$J$618,3,FALSE))
E20: =IF(OR(ISBLANK(C20),ISBLANK(D20)),"",D20*VLOOKUP((IF(OR(C20="Residential urban land",C20="Commercial/industrial urban land",C20="Open urban land",C20="Greenspace",C20="Community food growing",C20="Woodland",C20="Shrub", C20="Water"), "|||"&C20, (VLOOKUP('Stage 2'!$E$9,Lookups!$C$661:$E$666,2,FALSE)&"|"&C20&"|"&VLOOKUP('Stage 2'!$E$12,Lookups!$C$670:$D$671,2,FALSE)&"|"&VLOOKUP('Stage 2'!$E$11,Lookups!$C$622:$E$644,3,FALSE)&"|"&VLOOKUP('Stage 2'!$E$10,Lookups!#REF!,2,FALSE)))),Lookups!$H$355:$J$618,3,FALSE))
E21: =IF(OR(ISBLANK(C21),ISBLANK(D21)),"",D21*VLOOKUP((IF(OR(C21="Residential urban land",C21="Commercial/industrial urban land",C21="Open urban land",C21="Greenspace",C21="Community food growing",C21="Woodland",C21="Shrub", C21="Water"), "|||"&C21, (VLOOKUP('Stage 2'!$E$9,Lookups!$C$661:$E$666,2,FALSE)&"|"&C21&"|"&VLOOKUP('Stage 2'!$E$12,Lookups!$C$670:$D$671,2,FALSE)&"|"&VLOOKUP('Stage 2'!$E$11,Lookups!$C$622:$E$644,3,FALSE)&"|"&VLOOKUP('Stage 2'!$E$10,Lookups!#REF!,2,FALSE)))),Lookups!$H$355:$J$618,3,FALSE))
E22: =IF(OR(ISBLANK(C22),ISBLANK(D22)),"",D22*VLOOKUP((IF(OR(C22="Residential urban land",C22="Commercial/industrial urban land",C22="Open urban land",C22="Greenspace",C22="Community food growing",C22="Woodland",C22="Shrub", C22="Water"), "|||"&C22, (VLOOKUP('Stage 2'!$E$9,Lookups!$C$661:$E$666,2,FALSE)&"|"&C22&"|"&VLOOKUP('Stage 2'!$E$12,Lookups!$C$670:$D$671,2,FALSE)&"|"&VLOOKUP('Stage 2'!$E$11,Lookups!$C$622:$E$644,3,FALSE)&"|"&VLOOKUP('Stage 2'!$E$10,Lookups!#REF!,2,FALSE)))),Lookups!$H$355:$J$618,3,FALSE))
... E26: =IF(OR(ISBLANK(C26),ISBLANK(D26)),"",D26*VLOOKUP((IF(OR(C26="Residential urban land",C26="Commercial/industrial urban land",C26="Open urban land",C26="Greenspace",C26="Community food growing",C26="Woodland",C26="Shrub", C26="Water"), "|||"&C26, (VLOOKUP('Stage 2'!$E$9,Lookups!$C$661:$E$666,2,FALSE)&"|"&C26&"|"&VLOOKUP('Stage 2'!$E$12,Lookups!$C$670:$D$671,2,FALSE)&"|"&VLOOKUP('Stage 2'!$E$11,Lookups!$C$622:$E$644,3,FALSE)&"|"&VLOOKUP('Stage 2'!$E$10,Lookups!#REF!,2,FALSE)))),Lookups!$H$355:$J$618,3,FALSE))
C27: Total: | D27: =SUM(D10:D26) -> 0.037 | E27: =SUM(E10:E26) -> 0.53449146

Sheet Stage 4
B3: Stage 4
C7: Calculated Outputs
C11: N loading to WwTW: | D11: ='Stage 1'!D35 -> 0.42523866
C12: Net land use N change: | D12: ='Stage 3'!E27-'Stage 2'!E32 -> 0
C13: N budget: | D13: =D11+D12 -> 0.42523866
C14: N budget + 20% buffer: | D14: =D13*1.2 -> 0.51028639
C16: =IFERROR(IF(AND('Stage 1'!$D$9<DATE(2025,1,1),OR((VLOOKUP('Stage 1'!$D$14,Lookups!$C$8:$G$88,2,FALSE))>(VLOOKUP('Stage 1'!$D$14,Lookups!$C$8:$G$88,4,FALSE)),(VLOOKUP('Stage 1'!$D$14,Lookups!$C$8:$G$88,3,FALSE))>(VLOOKUP('Stage 1'!$D$14,Lookups!$C$8:$G$88,5,FALSE)))),"Post-2025 Annual Nutrient Budget","Annual Nutrient Budget"),"") -> Annual Nutrient Budget | F16: =IFERROR(IF(AND('Stage 1'!$D$9<DATE(2025,1,1),OR((VLOOKUP('Stage 1'!$D$14,Lookups!$C$8:$G$88,2,FALSE))>(VLOOKUP('Stage 1'!$D$14,Lookups!$C$8:$G$88,4,FALSE)),(VLOOKUP('Stage 1'!$D$14,Lookups!$C$8:$G$88,3,FALSE))>(VLOOKUP('Stage 1'!$D$14,Lookups!$C$8:$G$88,5,FALSE)))),"Pre-2025 Annual Nutrient Budget",""),"")
C17: The total annual phosphorus load to mitigate is: | D17: =IF(ROUND(#REF!,2)<0,0&" kg TP/year",ROUND(#REF!,2)&" kg TP/year") -> #REF! | F17: =IFERROR(IF(AND('Stage 1'!$D$9<DATE(2025,1,1),OR((VLOOKUP('Stage 1'!$D$14,Lookups!$C$8:$G$88,2,FALSE))>(VLOOKUP('Stage 1'!$D$14,Lookups!$C$8:$G$88,4,FALSE)),(VLOOKUP('Stage 1'!$D$14,Lookups!$C$8:$G$88,3,FALSE))>(VLOOKUP('Stage 1'!$D$14,Lookups!$C$8:$G$88,5,FALSE)))),"The pre-2025 annual phosphorus load to mitigate is:",""),"") | G17: =IFERROR(IF(AND('Stage 1'!$D$9<DATE(2025,1,1),OR((VLOOKUP('Stage 1'!$D$14,Lookups!$C$8:$G$88,2,FALSE))>(VLOOKUP('Stage 1'!$D$14,Lookups!$C$8:$G$88,4,FALSE)),(VLOOKUP('Stage 1'!$D$14,Lookups!$C$8:$G$88,3,FALSE))>(VLOOKUP('Stage 1'!$D$14,Lookups!$C$8:$G$88,5,FALSE)))),IF(ROUND(('Stage 3'!#REF!-'Stage 2'!#REF!+'Stage 1'!#REF!)*1.2,2)<0,0&" kg TP/year",ROUND(('Stage 3'!#REF!-'Stage 2'!#REF!+'Stage 1'!#REF!)*1.2,2)&" kg TP/year"),""),"")
C23: The total annual nitrogen load to mitigate is: | D23: =IF(ROUND(D14,2)<0,0&" kg TN/year",ROUND(D14,2)&" kg TN/year") -> 0.51 kg TN/year | G23: =IFERROR(IF(AND('Stage 1'!$D$9<DATE(2025,1,1),OR((VLOOKUP('Stage 1'!$D$14,Lookups!$C$8:$G$88,2,FALSE))>(VLOOKUP('Stage 1'!$D$14,Lookups!$C$8:$G$88,4,FALSE)),(VLOOKUP('Stage 1'!$D$14,Lookups!$C$8:$G$88,3,FALSE))>(VLOOKUP('Stage 1'!$D$14,Lookups!$C$8:$G$88,5,FALSE)))),IF(ROUND(('Stage 3'!E27-'Stage 2'!E32+'Stage 1'!H23)*1.2,2)<0,0&" kg TN/year",ROUND(('Stage 3'!E27-'Stage 2'!E32+'Stage 1'!H23)*1.2,2)&" kg TN/year"),""),"")
F24: =IFERROR(IF(AND('Stage 1'!$D$9<DATE(2025,1,1),OR((VLOOKUP('Stage 1'!$D$14,Lookups!$C$8:$G$88,2,FALSE))>(VLOOKUP('Stage 1'!$D$14,Lookups!$C$8:$G$88,4,FALSE)),(VLOOKUP('Stage 1'!$D$14,Lookups!$C$8:$G$88,3,FALSE))>(VLOOKUP('Stage 1'!$D$14,Lookups!$C$8:$G$88,5,FALSE)))),"The pre-2025 annual nitrogen load to mitigate is:",""),"")

Sheet Stage 4 (2)
B9: P loading to WwTW: | E9: Your final phosphorus budget is:
B10: Net land use P change: | H10: have pop up message if negative that says soemthing like "No P to mitigate
B11: P budget: | H11: =IF(C33<0,"Well done, you're in the clear…,""") -> #REF!
B12: P budget + 20% buffer: | H12: If positive have message similar to the right
B15: N loading to WwTW: | C15: ='Stage 1'!D35 -> 0.42523866 | E15: The total amount of nitrogen to mitigate is:
B16: Net land use N change: | C16: ='Stage 3'!E27-'Stage 2'!E32 -> 0
B17: N budget: | C17: =C15+C16 -> 0.42523866
B18: N budget + 20% buffer: | C18: =C17*1.2 -> 0.51028639
C24: ='Stage 1'!D30 -> 0.42523866 | F24: =C33 -> #REF!
C27: ='Stage 3'!#REF!-'Stage 2'!#REF! -> #REF!
F29: =C18 -> 0.51028639
C30: =C24+C27 -> #REF!
C33: =C30*1.2 -> #REF!

Sheet Lookups
B2: Look Up Tables
C6: Table 1: Stage 1 WwTW lookup
C7: Discharge Site Name | D7: Nitrogen Total as N (mg/l) with deductible acceptable loading | E7: Nitrogen, Total as N (mg/l) | F7: Nitrogen Total as N (mg/l), permit post 2025 with deductible acceptable loading | G7: Nitrogen, Total as N (mg/l), permit post 2025
C8: Ashlett Creek WwTW | D8: 25 | E8: =D8+2 -> 27 | F8: 25 | G8: 27
C9: Arreton WwTW | D9: 25 | E9: =D9+2 -> 27 | F9: 25 | G9: 27
C10: Bank WwTW | D10: 25 | E10: =D10+2 -> 27 | F10: 25 | G10: =F10+2 -> 27
C11: Barn Close Ashmansworth WwTW | D11: 25 | E11: =D11+2 -> 27 | F11: 25 | G11: =F11+2 -> 27
C12: Barton Stacey WwTW | D12: 25 | E12: =D12+2 -> 27 | F12: 25 | G12: =F12+2 -> 27
C13: Beaulieu Hummicks WwTW | D13: 25 | E13: =D13+2 -> 27 | F13: 25 | G13: =F13+2 -> 27
C14: Beaulieu Village WwTW | D14: 25 | E14: =D14+2 -> 27 | F14: 25 | G14: =F14+2 -> 27
C15: Bishops Waltham WwTW | D15: 13 | E15: =D15+2 -> 15 | F15: 13 | G15: =F15+2 -> 15
C16: Blackwater S.T.W. | D16: 25 | E16: =D16+2 -> 27 | F16: 25 | G16: =F16+2 -> 27
C17: Boldre WwTW | D17: 25 | E17: =D17+2 -> 27 | F17: 25 | G17: =F17+2 -> 27
C18: Bosham WwTW | D18: 8 | E18: =D18+2 -> 10 | F18: 8 | G18: =F18+2 -> 10
C19: Brockenhurst WwTW | D19: 25 | E19: =D19+2 -> 27 | F19: 25 | G19: =F19+2 -> 27
C20: Budds Farm WwTW | D20: 7.7 | E20: =D20+2 -> 9.7 | F20: 7.7 | G20: =F20+2 -> 9.7
C21: Calbourne WwTW | D21: 25 | E21: =D21+2 -> 27 | F21: 25 | G21: =F21+2 -> 27
... C85: Woolston WwTW | D85: 13 | E85: =D85+2 -> 15 | F85: 13 | G85: =F85+2 -> 15
C86: Wroxall WwTW | D86: 25 | E86: 27 | F86: 25 | G86: 27
C87: Package Treatment Plant default | D87: 70.9 | E87: =D87+2 -> 72.9 | F87: 70.9 | G87: =F87+2 -> 72.9
C88: Septic Tank default | D88: 94.3 | E88: =D88+2 -> 96.3 | F88: 94.3 | G88: =F88+2 -> 96.3
C89: Package Treatment Plant user defined
C90: Septic Tank user defined
C92: Table 2: Stage 2 and 3 Landcover lookup
C93: Catchment | D93: Farmscoper Farm Term | E93: NVZ | F93: Climate | G93: Farmscoper Soil Drainage Term | H93: Lookup | I93: Phosphorus export coefficient | J93: Nitrogen export coefficient | K93: Farm Lookup | L93: Mean P export of farm type and climate combination | M93: Mean N export of farm type and climate combination | N93: Mean P export of farm type | O93: Mean N export of farm type
C94: East Hampshire Rivers | D94: Cereals | E94: FALSE | F94: 700to900 | G94: FreeDrain | H94: =C94&"|"&D94&"|"&E94&"|"&F94&"|"&G94 -> East Hampshire Rivers|Cereals|FALSE|700to900|FreeDrain | I94: 0.11454703 | J94: 27.988219 | K94: =D94&"|"&F94&"" -> Cereals|700to900 | L94: =AVERAGE(I94,I96,I98) -> 0.56822387 | M94: =AVERAGE(J94,J96,J98) -> 23.246217 | N94: =AVERAGE(I94:I100) -> 0.51566841 | O94: =AVERAGE(J94:J100) -> 24.132631
C95: East Hampshire Rivers | D95: Cereals | E95: TRUE | F95: 700to900 | G95: FreeDrain | H95: =C95&"|"&D95&"|"&E95&"|"&F95&"|"&G95 -> East Hampshire Rivers|Cereals|TRUE|700to900|FreeDrain | I95: 0.11454257 | J95: 27.896799 | K95: =D95&"|"&F95&"" -> Cereals|700to900
C96: East Hampshire Rivers | D96: Cereals | E96: FALSE | F96: 700to900 | G96: DrainedAr | H96: =C96&"|"&D96&"|"&E96&"|"&F96&"|"&G96 -> East Hampshire Rivers|Cereals|FALSE|700to900|DrainedAr | I96: 0.67105042 | J96: 21.57875 | K96: =D96&"|"&F96&"" -> Cereals|700to900
C97: East Hampshire Rivers | D97: Cereals | E97: TRUE | F97: 700to900 | G97: DrainedAr | H97: =C97&"|"&D97&"|"&E97&"|"&F97&"|"&G97 -> East Hampshire Rivers|Cereals|TRUE|700to900|DrainedAr | I97: 0.67101051 | J97: 21.516613 | K97: =D97&"|"&F97&"" -> Cereals|700to900
C98: East Hampshire Rivers | D98: Cereals | E98: FALSE | F98: 700to900 | G98: DrainedArGr | H98: =C98&"|"&D98&"|"&E98&"|"&F98&"|"&G98 -> East Hampshire Rivers|Cereals|FALSE|700to900|DrainedArGr | I98: 0.91907415 | J98: 20.171682 | K98: =D98&"|"&F98&"" -> Cereals|700to900
C99: East Hampshire Rivers | D99: Cereals | E99: TRUE | F99: 700to900 | G99: DrainedArGr | H99: =C99&"|"&D99&"|"&E99&"|"&F99&"|"&G99 -> East Hampshire Rivers|Cereals|TRUE|700to900|DrainedArGr | I99: 0.91899373 | J99: 20.121159 | K99: =D99&"|"&F99&"" -> Cereals|700to900
C100: East Hampshire Rivers | D100: Cereals | E100: TRUE | F100: 900to1200 | G100: FreeDrain | H100: =C100&"|"&D100&"|"&E100&"|"&F100&"|"&G100 -> East Hampshire Rivers|Cereals|TRUE|900to1200|FreeDrain | I100: 0.20046044 | J100: 29.655198 | K100: =D100&"|"&F100&"" -> Cereals|900to1200 | L100: =AVERAGE(I100) -> 0.20046044 | M100: =AVERAGE(J100,J146) -> 25.384498
C101: East Hampshire Rivers | D101: General | E101: FALSE | F101: 700to900 | G101: FreeDrain | H101: =C101&"|"&D101&"|"&E101&"|"&F101&"|"&G101 -> East Hampshire Rivers|General|FALSE|700to900|FreeDrain | I101: 0.088296054 | J101: 19.121687 | K101: =D101&"|"&F101&"" -> General|700to900 | L101: =AVERAGE(I101,I103,I106) -> 0.4024495 | M101: =AVERAGE(J101,J103,J106) -> 15.462377 | N101: =AVERAGE(I101:I108) -> 0.42605138 | O101: =AVERAGE(J101:J108) -> 16.419173
C102: East Hampshire Rivers | D102: General | E102: TRUE | F102: 700to900 | G102: FreeDrain | H102: =C102&"|"&D102&"|"&E102&"|"&F102&"|"&G102 -> East Hampshire Rivers|General|TRUE|700to900|FreeDrain | I102: 0.088296054 | J102: 19.068529 | K102: =D102&"|"&F102&"" -> General|700to900
C103: East Hampshire Rivers | D103: General | E103: FALSE | F103: 700to900 | G103: DrainedAr | H103: =C103&"|"&D103&"|"&E103&"|"&F103&"|"&G103 -> East Hampshire Rivers|General|FALSE|700to900|DrainedAr | I103: 0.43793825 | J103: 14.357835 | K103: =D103&"|"&F103&"" -> General|700to900
C104: East Hampshire Rivers | D104: General | E104: TRUE | F104: 700to900 | G104: DrainedAr | H104: =C104&"|"&D104&"|"&E104&"|"&F104&"|"&G104 -> East Hampshire Rivers|General|TRUE|700to900|DrainedAr | I104: 0.43793825 | J104: 14.322697 | K104: =D104&"|"&F104&"" -> General|700to900
C105: East Hampshire Rivers | D105: General | E105: FALSE | F105: 700to900 | G105: DrainedArGr | H105: =C105&"|"&D105&"|"&E105&"|"&F105&"|"&G105 -> East Hampshire Rivers|General|FALSE|700to900|DrainedArGr | I105: 0.68111421 | J105: 12.935592 | K105: =D105&"|"&F105&"" -> General|700to900
C106: East Hampshire Rivers | D106: General | E106: TRUE | F106: 700to900 | G106: DrainedArGr | H106: =C106&"|"&D106&"|"&E106&"|"&F106&"|"&G106 -> East Hampshire Rivers|General|TRUE|700to900|DrainedArGr | I106: 0.68111421 | J106: 12.907608 | K106: =D106&"|"&F106&"" -> General|700to900
C107: East Hampshire Rivers | D107: General | E107: TRUE | F107: 900to1200 | G107: FreeDrain | H107: =C107&"|"&D107&"|"&E107&"|"&F107&"|"&G107 -> East Hampshire Rivers|General|TRUE|900to1200|FreeDrain | I107: 0.15706174 | J107: 20.386197 | K107: =D107&"|"&F107&"" -> General|900to1200 | L107: =AVERAGE(I107:I108) -> 0.49685702 | M107: =AVERAGE(J107:J108) -> 19.31972
C108: East Hampshire Rivers | D108: General | E108: TRUE | F108: 900to1200 | G108: DrainedAr | H108: =C108&"|"&D108&"|"&E108&"|"&F108&"|"&G108 -> East Hampshire Rivers|General|TRUE|900to1200|DrainedAr | I108: 0.8366523 | J108: 18.253243 | K108: =D108&"|"&F108&"" -> General|900to1200
C109: East Hampshire Rivers | D109: Horticulture | E109: FALSE | F109: 700to900 | G109: FreeDrain | H109: =C109&"|"&D109&"|"&E109&"|"&F109&"|"&G109 -> East Hampshire Rivers|Horticulture|FALSE|700to900|FreeDrain | I109: 0.10052781 | J109: 21.32013 | K109: =D109&"|"&F109&"" -> Horticulture|700to900 | L109: =AVERAGE(I109,I111:I112) -> 0.5019583 | M109: =AVERAGE(J109,J111:J112) -> 16.858765 | N109: =AVERAGE(I109:I114) -> 0.4356884 | O109: =AVERAGE(J109:J114) -> 18.093879
C110: East Hampshire Rivers | D110: Horticulture | E110: TRUE | F110: 700to900 | G110: FreeDrain | H110: =C110&"|"&D110&"|"&E110&"|"&F110&"|"&G110 -> East Hampshire Rivers|Horticulture|TRUE|700to900|FreeDrain | I110: 0.10052781 | J110: 21.26249 | K110: =D110&"|"&F110&"" -> Horticulture|700to900
C111: East Hampshire Rivers | D111: Horticulture | E111: TRUE | F111: 700to900 | G111: DrainedAr | H111: =C111&"|"&D111&"|"&E111&"|"&F111&"|"&G111 -> East Hampshire Rivers|Horticulture|TRUE|700to900|DrainedAr | I111: 0.5797888 | J111: 15.470438 | K111: =D111&"|"&F111&"" -> Horticulture|700to900
C112: East Hampshire Rivers | D112: Horticulture | E112: FALSE | F112: 700to900 | G112: DrainedArGr | H112: =C112&"|"&D112&"|"&E112&"|"&F112&"|"&G112 -> East Hampshire Rivers|Horticulture|FALSE|700to900|DrainedArGr | I112: 0.82555828 | J112: 13.785726 | K112: =D112&"|"&F112&"" -> Horticulture|700to900
C113: East Hampshire Rivers | D113: Horticulture | E113: TRUE | F113: 700to900 | G113: DrainedArGr | H113: =C113&"|"&D113&"|"&E113&"|"&F113&"|"&G113 -> East Hampshire Rivers|Horticulture|TRUE|700to900|DrainedArGr | I113: 0.82555828 | J113: 13.755326 | K113: =D113&"|"&F113&"" -> Horticulture|700to900
C114: East Hampshire Rivers | D114: Horticulture | E114: TRUE | F114: 900to1200 | G114: FreeDrain | H114: =C114&"|"&D114&"|"&E114&"|"&F114&"|"&G114 -> East Hampshire Rivers|Horticulture|TRUE|900to1200|FreeDrain | I114: 0.18216939 | J114: 22.969162 | K114: =D114&"|"&F114&"" -> Horticulture|900to1200 | L114: =AVERAGE(I114) -> 0.18216939 | M114: =AVERAGE(J114,J387,J388) -> 15.594808
C115: East Hampshire Rivers | D115: Pig | E115: FALSE | F115: 700to900 | G115: FreeDrain | H115: =C115&"|"&D115&"|"&E115&"|"&F115&"|"&G115 -> East Hampshire Rivers|Pig|FALSE|700to900|FreeDrain | I115: 0.11607877 | J115: 57.930553 | K115: =D115&"|"&F115&"" -> Pig|700to900 | L115: =AVERAGE(I115,I117:I118) -> 0.55402803 | M115: =AVERAGE(J115,J117:J118) -> 44.180741 | N115: =AVERAGE(I115:I119) -> 0.54107329 | O115: =AVERAGE(J115:J119) -> 44.687644
C116: East Hampshire Rivers | D116: Pig | E116: TRUE | F116: 700to900 | G116: FreeDrain | H116: =C116&"|"&D116&"|"&E116&"|"&F116&"|"&G116 -> East Hampshire Rivers|Pig|TRUE|700to900|FreeDrain | I116: 0.11407908 | J116: 57.853244 | K116: =D116&"|"&F116&"" -> Pig|700to900
C117: East Hampshire Rivers | D117: Pig | E117: TRUE | F117: 700to900 | G117: DrainedAr | H117: =C117&"|"&D117&"|"&E117&"|"&F117&"|"&G117 -> East Hampshire Rivers|Pig|TRUE|700to900|DrainedAr | I117: 0.58691551 | J117: 40.002358 | K117: =D117&"|"&F117&"" -> Pig|700to900
C118: East Hampshire Rivers | D118: Pig | E118: FALSE | F118: 700to900 | G118: DrainedArGr | H118: =C118&"|"&D118&"|"&E118&"|"&F118&"|"&G118 -> East Hampshire Rivers|Pig|FALSE|700to900|DrainedArGr | I118: 0.95908982 | J118: 34.609311 | K118: =D118&"|"&F118&"" -> Pig|700to900
C119: East Hampshire Rivers | D119: Pig | E119: TRUE | F119: 700to900 | G119: DrainedArGr | H119: =C119&"|"&D119&"|"&E119&"|"&F119&"|"&G119 -> East Hampshire Rivers|Pig|TRUE|700to900|DrainedArGr | I119: 0.92920329 | J119: 33.042753 | K119: =D119&"|"&F119&"" -> Pig|700to900
C120: East Hampshire Rivers | D120: Poultry | E120: FALSE | F120: 700to900 | G120: FreeDrain | H120: =C120&"|"&D120&"|"&E120&"|"&F120&"|"&G120 -> East Hampshire Rivers|Poultry|FALSE|700to900|FreeDrain | I120: 0.12570748 | J120: 130.05787 | K120: =D120&"|"&F120&"" -> Poultry|700to900 | L120: =AVERAGE(I120,I122) -> 0.47343692 | M120: =AVERAGE(J120,J122) -> 98.839901 | N120: =AVERAGE(I120:I123) -> 0.31637376 | O120: =AVERAGE(J120:J123) -> 116.29346
C121: East Hampshire Rivers | D121: Poultry | E121: TRUE | F121: 700to900 | G121: FreeDrain | H121: =C121&"|"&D121&"|"&E121&"|"&F121&"|"&G121 -> East Hampshire Rivers|Poultry|TRUE|700to900|FreeDrain | I121: 0.12284299 | J121: 130.60672 | K121: =D121&"|"&F121&"" -> Poultry|700to900
C122: East Hampshire Rivers | D122: Poultry | E122: TRUE | F122: 700to900 | G122: DrainedArGr | H122: =C122&"|"&D122&"|"&E122&"|"&F122&"|"&G122 -> East Hampshire Rivers|Poultry|TRUE|700to900|DrainedArGr | I122: 0.82116635 | J122: 67.621935 | K122: =D122&"|"&F122&"" -> Poultry|700to900
C123: East Hampshire Rivers | D123: Poultry | E123: TRUE | F123: 900to1200 | G123: FreeDrain | H123: =C123&"|"&D123&"|"&E123&"|"&F123&"|"&G123 -> East Hampshire Rivers|Poultry|TRUE|900to1200|FreeDrain | I123: 0.19577821 | J123: 136.88733 | K123: =D123&"|"&F123&"" -> Poultry|900to1200 | L123: =AVERAGE(I123) -> 0.19577821 | M123: =AVERAGE(J123,J211,J212) -> 126.01232
C124: East Hampshire Rivers | D124: Dairy | E124: TRUE | F124: 700to900 | G124: FreeDrain | H124: =C124&"|"&D124&"|"&E124&"|"&F124&"|"&G124 -> East Hampshire Rivers|Dairy|TRUE|700to900|FreeDrain | I124: 0.13138803 | J124: 43.500439 | K124: =D124&"|"&F124&"" -> Dairy|700to900 | L124: =AVERAGE(I124:I125) -> 0.64774327 | M124: =AVERAGE(J124:J125) -> 31.520251 | N124: =AVERAGE(I124:I126) -> 0.49788604 | O124: =AVERAGE(J124:J126) -> 36.335571
C125: East Hampshire Rivers | D125: Dairy | E125: TRUE | F125: 700to900 | G125: DrainedArGr | H125: =C125&"|"&D125&"|"&E125&"|"&F125&"|"&G125 -> East Hampshire Rivers|Dairy|TRUE|700to900|DrainedArGr | I125: 1.1640985 | J125: 19.540064 | K125: =D125&"|"&F125&"" -> Dairy|700to900
C126: East Hampshire Rivers | D126: Dairy | E126: TRUE | F126: 900to1200 | G126: FreeDrain | H126: =C126&"|"&D126&"|"&E126&"|"&F126&"|"&G126 -> East Hampshire Rivers|Dairy|TRUE|900to1200|FreeDrain | I126: 0.19817158 | J126: 45.966209 | K126: =D126&"|"&F126&"" -> Dairy|900to1200 | L126: =AVERAGE(I126) -> 0.19817158 | M126: =AVERAGE(J126,J411:J412) -> 73.618747
C127: East Hampshire Rivers | D127: Lowland | E127: FALSE | F127: 700to900 | G127: FreeDrain | H127: =C127&"|"&D127&"|"&E127&"|"&F127&"|"&G127 -> East Hampshire Rivers|Lowland|FALSE|700to900|FreeDrain | I127: 0.075593883 | J127: 12.886446 | K127: =D127&"|"&F127&"" -> Lowland|700to900 | L127: =AVERAGE(I128,I130,I132) -> 0.28699651 | M127: =AVERAGE(J128,J130,J132) -> 9.9000578 | N127: =AVERAGE(I127:I134) -> 0.27217231 | O127: =AVERAGE(J127:J134) -> 10.720449
C128: East Hampshire Rivers | D128: Lowland | E128: TRUE | F128: 700to900 | G128: FreeDrain | H128: =C128&"|"&D128&"|"&E128&"|"&F128&"|"&G128 -> East Hampshire Rivers|Lowland|TRUE|700to900|FreeDrain | I128: 0.075593715 | J128: 12.805271 | K128: =D128&"|"&F128&"" -> Lowland|700to900
C129: East Hampshire Rivers | D129: Lowland | E129: FALSE | F129: 700to900 | G129: DrainedAr | H129: =C129&"|"&D129&"|"&E129&"|"&F129&"|"&G129 -> East Hampshire Rivers|Lowland|FALSE|700to900|DrainedAr | I129: 0.18168091 | J129: 9.9764251 | K129: =D129&"|"&F129&"" -> Lowland|700to900
C130: East Hampshire Rivers | D130: Lowland | E130: TRUE | F130: 700to900 | G130: DrainedAr | H130: =C130&"|"&D130&"|"&E130&"|"&F130&"|"&G130 -> East Hampshire Rivers|Lowland|TRUE|700to900|DrainedAr | I130: 0.1816807 | J130: 9.9146056 | K130: =D130&"|"&F130&"" -> Lowland|700to900
C131: East Hampshire Rivers | D131: Lowland | E131: FALSE | F131: 700to900 | G131: DrainedArGr | H131: =C131&"|"&D131&"|"&E131&"|"&F131&"|"&G131 -> East Hampshire Rivers|Lowland|FALSE|700to900|DrainedArGr | I131: 0.60374534 | J131: 6.9988992 | K131: =D131&"|"&F131&"" -> Lowland|700to900
C132: East Hampshire Rivers | D132: Lowland | E132: TRUE | F132: 700to900 | G132: DrainedArGr | H132: =C132&"|"&D132&"|"&E132&"|"&F132&"|"&G132 -> East Hampshire Rivers|Lowland|TRUE|700to900|DrainedArGr | I132: 0.60371511 | J132: 6.9802969 | K132: =D132&"|"&F132&"" -> Lowland|700to900
C133: East Hampshire Rivers | D133: Lowland | E133: TRUE | F133: 900to1200 | G133: FreeDrain | H133: =C133&"|"&D133&"|"&E133&"|"&F133&"|"&G133 -> East Hampshire Rivers|Lowland|TRUE|900to1200|FreeDrain | I133: 0.12474982 | J133: 13.622593 | K133: =D133&"|"&F133&"" -> Lowland|900to1200 | L133: =AVERAGE(I133:I134) -> 0.22768442 | M133: =AVERAGE(J133:J134,J231) -> 11.169419
C134: East Hampshire Rivers | D134: Lowland | E134: TRUE | F134: 900to1200 | G134: DrainedAr | H134: =C134&"|"&D134&"|"&E134&"|"&F134&"|"&G134 -> East Hampshire Rivers|Lowland|TRUE|900to1200|DrainedAr | I134: 0.33061903 | J134: 12.579052 | K134: =D134&"|"&F134&"" -> Lowland|900to1200
C135: East Hampshire Rivers | D135: Mixed | E135: TRUE | F135: 700to900 | G135: FreeDrain | H135: =C135&"|"&D135&"|"&E135&"|"&F135&"|"&G135 -> East Hampshire Rivers|Mixed|TRUE|700to900|FreeDrain | I135: 0.1065002 | J135: 24.767053 | K135: =D135&"|"&F135&"" -> Mixed|700to900 | L135: =AVERAGE(I135:I137) -> 0.49483225 | M135: =AVERAGE(J135:J137) -> 19.979952 | N135: =AVERAGE(I135:I138) -> 0.4169263 | O135: =AVERAGE(J135:J138) -> 21.558087
C136: East Hampshire Rivers | D136: Mixed | E136: TRUE | F136: 700to900 | G136: DrainedAr | H136: =C136&"|"&D136&"|"&E136&"|"&F136&"|"&G136 -> East Hampshire Rivers|Mixed|TRUE|700to900|DrainedAr | I136: 0.50695963 | J136: 19.036765 | K136: =D136&"|"&F136&"" -> Mixed|700to900
C137: East Hampshire Rivers | D137: Mixed | E137: TRUE | F137: 700to900 | G137: DrainedArGr | H137: =C137&"|"&D137&"|"&E137&"|"&F137&"|"&G137 -> East Hampshire Rivers|Mixed|TRUE|700to900|DrainedArGr | I137: 0.87103693 | J137: 16.136039 | K137: =D137&"|"&F137&"" -> Mixed|700to900
C138: East Hampshire Rivers | D138: Mixed | E138: TRUE | F138: 900to1200 | G138: FreeDrain | H138: =C138&"|"&D138&"|"&E138&"|"&F138&"|"&G138 -> East Hampshire Rivers|Mixed|TRUE|900to1200|FreeDrain | I138: 0.18320843 | J138: 26.292491 | K138: =D138&"|"&F138&"" -> Mixed|900to1200 | L138: =AVERAGE(I138) -> 0.18320843 | M138: =AVERAGE(J138,J435:J436) -> 31.543447
C139: Isle of Wight Rivers | D139: Cereals | E139: FALSE | F139: 700to900 | G139: FreeDrain | H139: =C139&"|"&D139&"|"&E139&"|"&F139&"|"&G139 -> Isle of Wight Rivers|Cereals|FALSE|700to900|FreeDrain | I139: 0.14392634 | J139: 25.70155 | K139: =D139&"|"&F139&"" -> Cereals|700to900 | L139: =AVERAGE(I139,I141,I143) -> 0.59292355 | M139: =AVERAGE(J139,J141,J143) -> 21.283449 | N139: =AVERAGE(I139:I145) -> 0.54469344 | O139: =AVERAGE(J139:J145) -> 22.104413
C140: Isle of Wight Rivers | D140: Cereals | E140: TRUE | F140: 700to900 | G140: FreeDrain | H140: =C140&"|"&D140&"|"&E140&"|"&F140&"|"&G140 -> Isle of Wight Rivers|Cereals|TRUE|700to900|FreeDrain | I140: 0.14391461 | J140: 25.617103 | K140: =D140&"|"&F140&"" -> Cereals|700to900
C141: Isle of Wight Rivers | D141: Cereals | E141: FALSE | F141: 700to900 | G141: DrainedAr | H141: =C141&"|"&D141&"|"&E141&"|"&F141&"|"&G141 -> Isle of Wight Rivers|Cereals|FALSE|700to900|DrainedAr | I141: 0.6820768 | J141: 19.794397 | K141: =D141&"|"&F141&"" -> Cereals|700to900
C142: Isle of Wight Rivers | D142: Cereals | E142: TRUE | F142: 700to900 | G142: DrainedAr | H142: =C142&"|"&D142&"|"&E142&"|"&F142&"|"&G142 -> Isle of Wight Rivers|Cereals|TRUE|700to900|DrainedAr | I142: 0.68200922 | J142: 19.735322 | K142: =D142&"|"&F142&"" -> Cereals|700to900
C143: Isle of Wight Rivers | D143: Cereals | E143: FALSE | F143: 700to900 | G143: DrainedArGr | H143: =C143&"|"&D143&"|"&E143&"|"&F143&"|"&G143 -> Isle of Wight Rivers|Cereals|FALSE|700to900|DrainedArGr | I143: 0.95276751 | J143: 18.3544 | K143: =D143&"|"&F143&"" -> Cereals|700to900
C144: Isle of Wight Rivers | D144: Cereals | E144: TRUE | F144: 700to900 | G144: DrainedArGr | H144: =C144&"|"&D144&"|"&E144&"|"&F144&"|"&G144 -> Isle of Wight Rivers|Cereals|TRUE|700to900|DrainedArGr | I144: 0.95261411 | J144: 18.305597 | K144: =D144&"|"&F144&"" -> Cereals|700to900
C145: Isle of Wight Rivers | D145: Cereals | E145: TRUE | F145: 900to1200 | G145: FreeDrain | H145: =C145&"|"&D145&"|"&E145&"|"&F145&"|"&G145 -> Isle of Wight Rivers|Cereals|TRUE|900to1200|FreeDrain | I145: 0.25554552 | J145: 27.222521 | K145: =D145&"|"&F145&"" -> Cereals|900to1200 | L145: =AVERAGE(I145:I146) -> 0.89965123 | M145: =AVERAGE(J145:J146) -> 24.16816
C146: Isle of Wight Rivers | D146: Cereals | E146: TRUE | F146: 900to1200 | G146: DrainedArGr | H146: =C146&"|"&D146&"|"&E146&"|"&F146&"|"&G146 -> Isle of Wight Rivers|Cereals|TRUE|900to1200|DrainedArGr | I146: 1.5437569 | J146: 21.113799 | K146: =D146&"|"&F146&"" -> Cereals|900to1200
C147: Isle of Wight Rivers | D147: General | E147: FALSE | F147: 700to900 | G147: FreeDrain | H147: =C147&"|"&D147&"|"&E147&"|"&F147&"|"&G147 -> Isle of Wight Rivers|General|FALSE|700to900|FreeDrain | I147: 0.1120481 | J147: 21.081443 | K147: =D147&"|"&F147&"" -> General|700to900 | L147: =AVERAGE(I147,I150,I152) -> 0.42880454 | M147: =AVERAGE(J147,J150,J152) -> 16.72952 | N147: =AVERAGE(I147:I156) -> 0.909221 | O147: =AVERAGE(J147:J156) -> 18.84747
C148: Isle of Wight Rivers | D148: General | E148: TRUE | F148: 700to900 | G148: FreeDrain | H148: =C148&"|"&D148&"|"&E148&"|"&F148&"|"&G148 -> Isle of Wight Rivers|General|TRUE|700to900|FreeDrain | I148: 0.1120481 | J148: 21.022458 | K148: =D148&"|"&F148&"" -> General|700to900
C149: Isle of Wight Rivers | D149: General | E149: FALSE | F149: 700to900 | G149: DrainedAr | H149: =C149&"|"&D149&"|"&E149&"|"&F149&"|"&G149 -> Isle of Wight Rivers|General|FALSE|700to900|DrainedAr | I149: 0.4604986 | J149: 15.463224 | K149: =D149&"|"&F149&"" -> General|700to900
C150: Isle of Wight Rivers | D150: General | E150: TRUE | F150: 700to900 | G150: DrainedAr | H150: =C150&"|"&D150&"|"&E150&"|"&F150&"|"&G150 -> Isle of Wight Rivers|General|TRUE|700to900|DrainedAr | I150: 0.4604986 | J150: 15.424109 | K150: =D150&"|"&F150&"" -> General|700to900
C151: Isle of Wight Rivers | D151: General | E151: FALSE | F151: 700to900 | G151: DrainedArGr | H151: =C151&"|"&D151&"|"&E151&"|"&F151&"|"&G151 -> Isle of Wight Rivers|General|FALSE|700to900|DrainedArGr | I151: 0.71386693 | J151: 13.714222 | K151: =D151&"|"&F151&"" -> General|700to900
C152: Isle of Wight Rivers | D152: General | E152: TRUE | F152: 700to900 | G152: DrainedArGr | H152: =C152&"|"&D152&"|"&E152&"|"&F152&"|"&G152 -> Isle of Wight Rivers|General|TRUE|700to900|DrainedArGr | I152: 0.71386693 | J152: 13.683008 | K152: =D152&"|"&F152&"" -> General|700to900
C153: Isle of Wight Rivers | D153: General | E153: TRUE | F153: 900to1200 | G153: FreeDrain | H153: =C153&"|"&D153&"|"&E153&"|"&F153&"|"&G153 -> Isle of Wight Rivers|General|TRUE|900to1200|FreeDrain | I153: 0.20315616 | J153: 22.397683 | K153: =D153&"|"&F153&"" -> General|900to1200 | L153: =AVERAGE(I153:I154) -> 0.69686873 | M153: =AVERAGE(J153:J154) -> 18.999656
C154: Isle of Wight Rivers | D154: General | E154: TRUE | F154: 900to1200 | G154: DrainedArGr | H154: =C154&"|"&D154&"|"&E154&"|"&F154&"|"&G154 -> Isle of Wight Rivers|General|TRUE|900to1200|DrainedArGr | I154: 1.1905813 | J154: 15.601629 | K154: =D154&"|"&F154&"" -> General|900to1200
C155: Isle of Wight Rivers | D155: General | E155: FALSE | F155: Over1500 | G155: DrainedAr | H155: =C155&"|"&D155&"|"&E155&"|"&F155&"|"&G155 -> Isle of Wight Rivers|General|FALSE|Over1500|DrainedAr | I155: 1.8663246 | J155: 27.682993 | K155: =D155&"|"&F155&"" -> General|Over1500 | L155: =AVERAGE(I155:I156) -> 2.5628227 | M155: =AVERAGE(J155:J156) -> 25.043463
C156: Isle of Wight Rivers | D156: General | E156: TRUE | F156: Over1500 | G156: DrainedArGr | H156: =C156&"|"&D156&"|"&E156&"|"&F156&"|"&G156 -> Isle of Wight Rivers|General|TRUE|Over1500|DrainedArGr | I156: 3.2593207 | J156: 22.403932 | K156: =D156&"|"&F156&"" -> General|Over1500
C157: Isle of Wight Rivers | D157: Horticulture | E157: FALSE | F157: 700to900 | G157: FreeDrain | H157: =C157&"|"&D157&"|"&E157&"|"&F157&"|"&G157 -> Isle of Wight Rivers|Horticulture|FALSE|700to900|FreeDrain | I157: 0.12336551 | J157: 21.32236 | K157: =D157&"|"&F157&"" -> Horticulture|700to900 | L157: =AVERAGE(I157,I159,I161) -> 0.50338669 | M157: =AVERAGE(J157,J159,J161) -> 16.810518 | N157: =AVERAGE(I157:I162) -> 0.40395801 | O157: =AVERAGE(J157:J162) -> 18.314795
C158: Isle of Wight Rivers | D158: Horticulture | E158: TRUE | F158: 700to900 | G158: FreeDrain | H158: =C158&"|"&D158&"|"&E158&"|"&F158&"|"&G158 -> Isle of Wight Rivers|Horticulture|TRUE|700to900|FreeDrain | I158: 0.12336551 | J158: 21.260511 | K158: =D158&"|"&F158&"" -> Horticulture|700to900
C159: Isle of Wight Rivers | D159: Horticulture | E159: FALSE | F159: 700to900 | G159: DrainedAr | H159: =C159&"|"&D159&"|"&E159&"|"&F159&"|"&G159 -> Isle of Wight Rivers|Horticulture|FALSE|700to900|DrainedAr | I159: 0.56481199 | J159: 15.467706 | K159: =D159&"|"&F159&"" -> Horticulture|700to900
C160: Isle of Wight Rivers | D160: Horticulture | E160: TRUE | F160: 700to900 | G160: DrainedAr | H160: =C160&"|"&D160&"|"&E160&"|"&F160&"|"&G160 -> Isle of Wight Rivers|Horticulture|TRUE|700to900|DrainedAr | I160: 0.56481199 | J160: 15.426808 | K160: =D160&"|"&F160&"" -> Horticulture|700to900
C161: Isle of Wight Rivers | D161: Horticulture | E161: FALSE | F161: 700to900 | G161: DrainedArGr | H161: =C161&"|"&D161&"|"&E161&"|"&F161&"|"&G161 -> Isle of Wight Rivers|Horticulture|FALSE|700to900|DrainedArGr | I161: 0.82198257 | J161: 13.641488 | K161: =D161&"|"&F161&"" -> Horticulture|700to900
C162: Isle of Wight Rivers | D162: Horticulture | E162: TRUE | F162: 900to1200 | G162: FreeDrain | H162: =C162&"|"&D162&"|"&E162&"|"&F162&"|"&G162 -> Isle of Wight Rivers|Horticulture|TRUE|900to1200|FreeDrain | I162: 0.22541052 | J162: 22.769896 | K162: =D162&"|"&F162&"" -> Horticulture|900to1200 | L162: =AVERAGE(I162) -> 0.22541052 | M162: =AVERAGE(J162) -> 22.769896
C163: Isle of Wight Rivers | D163: Pig | E163: TRUE | F163: 700to900 | G163: FreeDrain | H163: =C163&"|"&D163&"|"&E163&"|"&F163&"|"&G163 -> Isle of Wight Rivers|Pig|TRUE|700to900|FreeDrain | I163: 0.15401718 | J163: 63.822079 | K163: =D163&"|"&F163&"" -> Pig|700to900 | L163: =AVERAGE(I163:I164) -> 0.54416408 | M163: =AVERAGE(J163:J164) -> 49.778806 | N163: =AVERAGE(I163:I164) -> 0.54416408 | O163: =AVERAGE(J163:J164) -> 49.778806
C164: Isle of Wight Rivers | D164: Pig | E164: TRUE | F164: 700to900 | G164: DrainedArGr | H164: =C164&"|"&D164&"|"&E164&"|"&F164&"|"&G164 -> Isle of Wight Rivers|Pig|TRUE|700to900|DrainedArGr | I164: 0.93431099 | J164: 35.735534 | K164: =D164&"|"&F164&"" -> Pig|700to900
C165: Isle of Wight Rivers | D165: Poultry | E165: FALSE | F165: 700to900 | G165: FreeDrain | H165: =C165&"|"&D165&"|"&E165&"|"&F165&"|"&G165 -> Isle of Wight Rivers|Poultry|FALSE|700to900|FreeDrain | I165: 0.14276149 | J165: 56.496269 | K165: =D165&"|"&F165&"" -> Poultry|700to900 | L165: =AVERAGE(I166,I168,I167) -> 0.4696483 | M165: =AVERAGE(J166,J168,J167) -> 42.409989 | N165: =AVERAGE(I165:I169) -> 0.46658594 | O165: =AVERAGE(J165:J169) -> 42.904915
C166: Isle of Wight Rivers | D166: Poultry | E166: TRUE | F166: 700to900 | G166: FreeDrain | H166: =C166&"|"&D166&"|"&E166&"|"&F166&"|"&G166 -> Isle of Wight Rivers|Poultry|TRUE|700to900|FreeDrain | I166: 0.14094862 | J166: 56.568269 | K166: =D166&"|"&F166&"" -> Poultry|700to900
C167: Isle of Wight Rivers | D167: Poultry | E167: TRUE | F167: 700to900 | G167: DrainedAr | H167: =C167&"|"&D167&"|"&E167&"|"&F167&"|"&G167 -> Isle of Wight Rivers|Poultry|TRUE|700to900|DrainedAr | I167: 0.47126452 | J167: 38.254022 | K167: =D167&"|"&F167&"" -> Poultry|700to900
C168: Isle of Wight Rivers | D168: Poultry | E168: FALSE | F168: 700to900 | G168: DrainedArGr | H168: =C168&"|"&D168&"|"&E168&"|"&F168&"|"&G168 -> Isle of Wight Rivers|Poultry|FALSE|700to900|DrainedArGr | I168: 0.79673176 | J168: 32.407676 | K168: =D168&"|"&F168&"" -> Poultry|700to900
...
