Workbook

Sheet Export Summary
B3: This document was exported from Numbers. Each table was converted to an Excel worksheet. All other objects on each Numbers sheet were placed on separate worksheets. Please be aware that formula calculations may differ in Excel.
B7: Numbers Sheet Name | C7: Numbers Table Name | D7: Excel Worksheet Name
B9: Instructions
C10: Table 1 | D10: Instructions
B11: Nutrients_from_wastewater
C12: Table 1 | D12: Nutrients_from_wastewater
B13: Nutrients_from_current_land_use
C14: Table 1 | D14: Nutrients_from_current_land_use
B15: Nutrients_from_future_land_use
C16: Table 1 | D16: Nutrients_from_future_land_use
B17: SuDS
C18: Table 1 | D18: SuDS
B19: Final_nutrient_budgets
C20: Table 1 | D20: Final_nutrient_budgets
B21: Value_look_up_tables
C22: Table 1 | D22: Value_look_up_tables

Sheet Instructions
A1: Natural England Nutrient Neutrality budget calculator for the The Solent Marine Sites
A2: This calculator was created by Ricardo Energy and Environment.
A3: This calculator contains 6 worksheets with 9 tables in total.
A4: This is the instructions cover sheet. It tells you how to use the calculator and gives an overview of each worksheet.
A5: You can move between worksheets using the tabs at the bottom of the page.
A6: If you use screen reading software, you can use 'Ctrl' + 'Page Down' keys to move between the tabs.
A7: If you use a keyboard only, to open any link in this form first select the cell with the link and then press the 'Shift' + 'F10' keys or the 'Fn' + the 'Menu' keys, then press the letter 'O' twice to highlight 'Open Hyperlink' and press 'Enter'.
A8: If you use a keyboard only, access dropdown lists by clicking the dropdown arrow or pressing the 'Alt' + 'Down' keys when the cell is selected.
A9: Table of contents
A10: Topic of each table | B10: Link to each worksheet
A11: Worksheet 1 Nutrient loading from additional wastewater | B11: Nutrients from wastewater
A12: Worksheet 2 Nutrient loading from current land use | B12: Nutrients from current land use
A13: Worksheet 3 Nutrient loading from future land use | B13: Nutrients from future land use
A14: Worksheet 4 Nutrient loading from future land use after treatment through a sustainable urban drainage system (SuDS) | B14: SuDS
A15: Worksheet 5 Nutrient budget calculations | B15: Final_nutrient_budgets
A16: General information about the calculator
A17: This calculator helps you calculate the nutrient budget for a new residential development.
A18: The nutrient budget for a site is calculated in 4 key stages with an additional optional stage in which information about the SuDS features on the site can be entered. Each stage is implemented in worksheets 1-5 of this calculator.
A19: Each worksheet is connected through a set of formulas which calculate the nutrient budget. As such, all sheets which represent the four key stages require data inputs in order to calculate the nutrient budget.
A20: The total nutrient budget is calculated automatically by adding the values from the 'Nutrients_from_wastewater' and the outputs from the 'Nutrients_from_future_land_use' minus the 'SuDS' (if applicable), and then subtracting the values from the 'Nutrients_from_current_land_use', then adding a 20% precautionary buffer to the result. This calculation is completed in the 'Final_nutrient_budgets' worksheet.
A21: Before a nutrient budget can be completed using the methodology, certain site-specific details for the development site need to be determined.
A22: The guidance to this calculator and gives further information on the user inputs required.
A23: The instructions for completing each stage of the nutrient budget methodology are shown in cell A2 of each worksheet.
A24: This calculator uses a set of lookup tables to find relevant values in a hidden spreadsheet titled the 'Value_look_up_tables' worksheet.
A25: It is advisable to retain a blank copy of this calculator and 'Save as' a new copy each time you calculate a budget to minimise the risk of using incorrect data inputs and to ease the calculation of new nutrient budgets.
A26: The values already included have been chosen based on research to determine suitable inputs to the nutrient budget that meet the Habitat Regulations Assessment (HRA) tests of beyond reasonable scientific doubt, in perpetuity (practically speaking this is 80 to 125 years) and in accordance with the precautionary principle.
A27: If editing any values in this calculator, you must make sure there is a sufficient evidence base to justify these changes and that the new inputs are selected in accordance with the precautionary principle.
... A57: If there are 2 or 3 values due to changing permits, the calculator will show the total amount of nutrient mitigation that is needed before and after the changing permit date.

Sheet Nutrients_from_wastewater
A1: Nutrients from wastewater
A2: This sheet contains 2 tables. The tables are separated by a heading, which describes the following table. Note: You will need to fill in cells B5 to B10 in the first table 'Water infrastructure information'. Cell B11 is automatically calculated and will state '0.00' unless the user inputs have been entered. Cells A12 to A13 and B12 to B13 are automatically generated and will state 'Not applicable' depending on the inputs to cells B5 and B10. You may need to fill in cell C11 depending on the information you entered in cell B10. Cells C5 to C10 and cells C12 to C13 are intentionally blank cells. You do not need to fill in any cells in the second table 'Final calculation of nutrient load from wastewater'. Cells B17 to B19 are automatically calculated and will state '0.00' unless the user inputs have been entered to the first table 'Water infrastructure information'. Cells A20 to A23, cell B21 and cell B23 are automatically generated and will state 'Not applicable' depending on the user inputs to the first table 'Water infrastructure information'. Cell B16, cell B20 and cell B22 are intentionally blank cells. How to fill in the table 'Water infrastructure information' Cell B5: Enter the date of first occupancy. Cell B6: Enter the average occupancy rate of the development. The default rate is 2.4, this should not be edited without sufficient evidence. Cell B7: Enter the water usage. This value should be kept at 120 unless other efficiency measures are used. Cell B8: Enter the total number of dwellings or units that will be within the development site as of the project completion date. Cell B9: Choose whether the development can apply deductible acceptable loading from the dropdown list. Cell B10: Choose the receiving wastewater treatment works (WwTW) from the dropdown list. If you select 'Package Treatment Plant user defined' or 'Septic Tank user defined', you must enter their certified value of total nitrogen (TN) in cell C11. Otherwise the default values will be used in the calculation of the nutrient load associated with wastewater. Nutrient permits may be changing for the WwTW you select, from 01/01/2025, or 01/04/2030. If the date of first occupancy is in-between changing permit dates, multiple permit limits may be automatically generated in cells B11 to B13. If applicable, up to 3 values for the nutrient loading associated with wastewater will be presented in cell B19, B21, and B23.
A3: Water infrastructure information
A4: Description of required information | B4: Data entry column - user inputs required | C4: Additional data entry column - user inputs may be required
A5: Date of first occupancy (dd/mm/yyyy): | B5: 46539
A6: Average occupancy rate (people/dwelling or people/unit): | B6: 2.6
A7: Water usage (litres/person/day): | B7: 120
A8: Development proposal (dwellings/units): | B8: 1
A9: Include deductible acceptable loading? | B9: Yes
A10: Wastewater treatment works: | B10: Budds Farm WwTW
A11: Current wastewater treatment works N permit (mg TN/litre): | B11: 7.7
A12: {=_xlfn.IFERROR(IF(AND($B$5<DATE(2025,1,1),(VLOOKUP($B$10,'Value_look_up_tables'!$A$5:$E$84,3,FALSE))>(VLOOKUP($B$10,'Value_look_up_tables'!$A$5:$E$84,5,FALSE))),"Post 2025 WwTW N permit (mg TN/litre):","Not applicable"),"Not applicable")} -> Not applicable | B12: Not applicable
A13: {=_xlfn.IFERROR(IF(AND($B$5<DATE(2030,4,1),(VLOOKUP($B$10,'Value_look_up_tables'!$A$5:$J$84,5,FALSE))>(VLOOKUP($B$10,'Value_look_up_tables'!$A$5:$J$84,9,FALSE))),"Post 2030 WwTW N permit (mg TN/litre):","Not applicable"),"Not applicable")} -> Not applicable | B13: Not applicable
A14: Final calculation of nutrient load from wastewater
A15: Description of values generated | B15: Values generated
A16: {=_xlfn.IFERROR(IF(AND($B$5<DATE(2030,4,1),OR((VLOOKUP($B$10,'Value_look_up_tables'!$A$5:$J$84,4,FALSE))>(VLOOKUP($B$10,'Value_look_up_tables'!$A$5:$J$84,8,FALSE)),(VLOOKUP($B$10,'Value_look_up_tables'!$A$5:$J$84,5,FALSE))>(VLOOKUP($B$10,'Value_look_up_tables'!$A$5:$J$84,9,FALSE)))),"Post-2030 wastewater nutrient loading",IF(AND($B$5<DATE(2025,1,1),OR((VLOOKUP($B$10,'Value_look_up_tables'!$A$5:$E$84,2,FALSE))>(VLOOKUP($B$10,'Value_look_up_tables'!$A$5:$E$84,4,FALSE)),(VLOOKUP($B$10,'Value_look_up_tables'!$A$5:$E$84,3,FALSE))>(VLOOKUP($B$10,'Value_look_up_tables'!$A$5:$E$84,5,FALSE)))),"Post-2025 wastewater nutrient loading","Wastewater nutrient loading")),IF(B11="Enter value in cell C11","Wastewater nutrient loading","Wastewater nutrient loading"))} -> Wastewater nutrient loading
A17: Additional population (people): | B17: {=IF(ISBLANK(B8),0,B6*B8)} -> 2.6
A18: Wastewater by development (litres/day): | B18: {=_xlfn.IFERROR(B17*B7,0)} -> 312
A19: Annual wastewater TN load (kg TN/yr): | B19: 0.79
A20: {=_xlfn.IFERROR(IF(AND($B$5<DATE(2030,4,1),OR((VLOOKUP($B$10,'Value_look_up_tables'!$A$5:$J$84,4,FALSE))>(VLOOKUP($B$10,'Value_look_up_tables'!$A$5:$J$84,8,FALSE)),(VLOOKUP($B$10,'Value_look_up_tables'!$A$5:$J$84,5,FALSE))>(VLOOKUP($B$10,'Value_look_up_tables'!$A$5:$J$84,9,FALSE)))),"Pre-2030 wastewater nutrient loading",IF(AND($B$5<DATE(2025,1,1),OR((VLOOKUP($B$10,'Value_look_up_tables'!$A$5:$E$84,2,FALSE))>(VLOOKUP($B$10,'Value_look_up_tables'!$A$5:$E$84,4,FALSE)),(VLOOKUP($B$10,'Value_look_up_tables'!$A$5:$E$84,3,FALSE))>(VLOOKUP($B$10,'Value_look_up_tables'!$A$5:$E$84,5,FALSE)))),"Pre-2025 wastewater nutrient loading","Not applicable")),"Not applicable")} -> Not applicable
A21: {=_xlfn.IFERROR(IF(AND($B$5<DATE(2030,4,1),OR((VLOOKUP($B$10,'Value_look_up_tables'!$A$5:$J$84,4,FALSE))>(VLOOKUP($B$10,'Value_look_up_tables'!$A$5:$J$84,8,FALSE)),(VLOOKUP($B$10,'Value_look_up_tables'!$A$5:$J$84,5,FALSE))>(VLOOKUP($B$10,'Value_look_up_tables'!$A$5:$J$84,9,FALSE)),(VLOOKUP($B$10,'Value_look_up_tables'!$A$5:$J$84,2,FALSE))>(VLOOKUP($B$10,'Value_look_up_tables'!$A$5:$J$84,8,FALSE)),(VLOOKUP($B$10,'Value_look_up_tables'!$A$5:$J$84,3,FALSE))>(VLOOKUP($B$10,'Value_look_up_tables'!$A$5:$J$84,9,FALSE)))),"Annual wastewater TN load (kg TN/yr):","Not applicable"),"Not applicable")} -> Not applicable | B21: Not applicable
A22: {=_xlfn.IFERROR(IF(AND($B$5<DATE(2025,1,1),$B$5<DATE(2030,4,1),OR((VLOOKUP($B$10,'Value_look_up_tables'!$A$5:$J$84,4,FALSE))>(VLOOKUP($B$10,'Value_look_up_tables'!$A$5:$J$84,8,FALSE)),(VLOOKUP($B$10,'Value_look_up_tables'!$A$5:$J$84,5,FALSE))>(VLOOKUP($B$10,'Value_look_up_tables'!$A$5:$J$84,9,FALSE)))),IF(AND(B23="Not applicable"),"Not applicable","Pre-2025 wastewater nutrient loading"),IF(AND($B$5<DATE(2025,1,1),OR((VLOOKUP($B$10,'Value_look_up_tables'!$A$5:$E$84,2,FALSE))>(VLOOKUP($B$10,'Value_look_up_tables'!$A$5:$E$84,4,FALSE)),(VLOOKUP($B$10,'Value_look_up_tables'!$A$5:$E$84,3,FALSE))>(VLOOKUP($B$10,'Value_look_up_tables'!$A$5:$E$84,5,FALSE)))),"Wastewater nutrient loading","Not applicable")),"Not applicable")} -> Not applicable
A23: {=_xlfn.IFERROR(IF(AND($B$5<DATE(2025,1,1),OR((VLOOKUP($B$10,'Value_look_up_tables'!$A$5:$E$84,3,FALSE))>(VLOOKUP($B$10,'Value_look_up_tables'!$A$5:$E$84,5,FALSE)),(VLOOKUP($B$10,'Value_look_up_tables'!$A$5:$E$84,3,FALSE))>(VLOOKUP($B$10,'Value_look_up_tables'!$A$5:$E$84,5,FALSE)))),"Annual wastewater TN load (kg TN/yr):","Not applicable"),"Not applicable")} -> Not applicable | B23: {=_xlfn.IFERROR(ROUND(IF(AND($B$5<DATE(2025,1,1),$B$5<DATE(2030,4,1),OR((VLOOKUP($B$10,'Value_look_up_tables'!$A$5:$J$84,4,FALSE))>(VLOOKUP($B$10,'Value_look_up_tables'!$A$5:$J$84,8,FALSE)),(VLOOKUP($B$10,'Value_look_up_tables'!$A$5:$J$84,5,FALSE))>(VLOOKUP($B$10,'Value_look_up_tables'!$A$5:$J$84,9,FALSE)),(VLOOKUP($B$10,'Value_look_up_tables'!$A$5:$J$84,2,FALSE))>(VLOOKUP($B$10,'Value_look_up_tables'!$A$5:$J$84,4,FALSE)),(VLOOKUP($B$10,'Value_look_up_tables'!$A$5:$J$84,3,FALSE))>(VLOOKUP($B$10,'Value_look_up_tables'!$A$5:$J$84,5,FALSE)))),IF(ISNUMBER(B12),IF(OR(B11=27,AND(B11=25,B10<>"New Alresford WwTW")),(B11*B$18)/1000000*365.25,(B11*B$18*0.9)/1000000*365.25),IF(OR(B12=27,AND(B12=25,B10<>"New Alresford WwTW")),(B12*B$18)/1000000*365.25,(B12*B$18*0.9)/1000000*365.25)),"Not applicable"),2),"Not applicable")} -> Not applicable

Sheet Nutrients_from_current_land_use
A1: Nutrients from current land use
A2: This sheet contains 2 tables. The tables are separated by a heading, which describes the following table. Note: You will need to fill in cells B5 to B8 in the first table 'Current land use information'. You will need to fill in cells A11 to A27, and B11 to B27 in the second table 'Current land uses'. Cells B28 and C11 to C28 are automatically calculated and will state '0.00' unless the user inputs have been entered. Cells D11 to D27 are automatically generated and will state 'Not applicable' depending on automatically generated data in cells C11 to C27. Row 28 is a Total Row. The Total Row states 'Totals:' in cell A28 and automatically calculates the total sum of cells B11 to B27 in cell B28 and C11 to C27 in cell C28. Cell D28 is intentionally blank. How to fill in the table 'Current land use information' Cell B5: Choose the operational catchment the site is located within from the dropdown list. Cell B6: Choose the soil drainage type associated with the predominant soil type within the development site from the dropdown list. Cell B7: Choose the annual average rainfall the development will receive from the dropdown list. If the rainfall volume is not on the list, select the nearest value. Cell B8: Choose whether the development is in a nitrate vulnerable zone (NVZ) from the dropdown list. How to fill in the table 'Current land uses' Cell A11-A27: Choose the existing (pre-development) land use type(s) from the dropdown list. Cells B11-B27: Enter the area in hectares of each land use type. The nutrient load from current land uses is shown in cells C11-C27 for total nitrogen (TN). The total nutrient load from current land uses is shown in cell C28 for TN.
A3: Current land use information
A4: Description of required information | B4: Data entry column - user inputs required
A5: Operational catchment: | B5: East Hampshire Rivers
A6: Soil drainage type: | B6: Impeded drainage
A7: Annual average rainfall (mm): | B7: 900.1 - 950
A8: Within nitrate vulnerable zone (NVZ): | B8: Yes
A9: Current land uses
A10: Existing land use type(s) - user inputs required | B10: Area (ha) - user inputs required | C10: Annual nitrogen nutrient export (kg TN/yr) | D10: Notes on data
A11: Residential urban land | B11: 0.1 | C11: 1.724148 | D11: Not applicable
C12: 0 | D12: Not applicable
C13: 0 | D13: Not applicable
C14: 0 | D14: Not applicable
C15: 0 | D15: Not applicable
C16: 0 | D16: Not applicable
C17: 0 | D17: Not applicable
C18: 0 | D18: Not applicable
C19: 0 | D19: Not applicable
C20: 0 | D20: Not applicable
C21: 0 | D21: Not applicable
C22: 0 | D22: Not applicable
C23: 0 | D23: Not applicable
... C27: 0 | D27: Not applicable
A28: Totals: | B28: {=SUM(B11:B27)} -> 0.1 | C28: {=SUM(C11:C27)} -> 1.724148

Sheet Nutrients_from_future_land_use
A1: Nutrients from future land use
A2: This sheet contains one table. Note: You will need to fill in cells A5 to A21 and B5 to B21. Cells B22 and C5 to C22 are automatically generated calculations and will state '0.00' unless the user inputs have been entered. Row 22 is a Total Row. The Total Row states 'Totals:' in cell A22 and automatically calculates the total sum of cells B5 to B21 in cell B22 and C5 to C21 in cell C22. How to fill in the table 'Future land uses' Cells A5-A21: Choose the future (post-development) land use type(s) of landcover present on the new site from the dropdown list Cells B5-B21: Enter the area in hectares of each land use type. The nutrient load from future land uses is shown in cells C5 to C21 for total nitrogen (TN). The total nutrient load from future land uses is shown in cell C22 for TN.
A3: Future land uses
A4: New land use type(s) - user inputs required | B4: Area (ha) - user inputs required | C4: Annual nitrogen nutrient export (kg TN/yr)
A5: Residential urban land | B5: 0.1 | C5: 1.724148
C6: 0
C7: 0
C8: 0
C9: 0
C10: 0
C11: 0
C12: 0
C13: 0
C14: 0
C15: 0
C16: 0
C17: 0
... C21: 0
A22: Totals: | B22: {=SUM(B5:B21)} -> 0.1 | C22: {=SUM(C5:C21)} -> 1.724148

Sheet SuDS
A1: Nutrients from future land use after sustainable urban drainage system (SuDS) treatment
A2: This sheet contains one table. Note: You will need to fill in cells A5 to A29, cells B5 to B29, cells C5 to C29, cells E5 to E29 and cells F5 to F29 if you are including SuDS to remove nutrients from the surface runoff. Cell B30, cells D5 to D30 and cells G5 to G30 are automatically calculated and will state '0.00' unless the user inputs have been entered. Cells H5 to H29 are automatically generated and will state 'Not applicable' unless the total area of the landcover entered is larger than the total area of the landcover entered into the worksheet 'Nutrients_from_future_land_use'. Row 30 is a Total Row. The Total Row states 'Totals:' in cell A30 and automatically calculates the total sum of cells B5 to B29 in cell B30, cells D5 to D29 in cell D30 and cells G5 to G29 in cell G30. Cell C30, cell E30, cell F30 and cell H30 are intentionally blank. How to fill in the table 'Suds information' Cells A5 to A29: Choose the future (post-development) land use type(s) of landcover present on the new site within the SuDS catchment area from the dropdown list. Only landcovers entered into the worksheet titled 'Nutrients_from_future_land_use' can be entered. Cells B5 to B29: Enter the area in hectares of each new land use type within the SuDS catchment area. Cells C5 to C29: Enter the percentage of the flow entering the SuDS feature. If all flow is being diverted to the SuDS feature then this value should be set to 100%. The annual total nitrogen (TN) loads associated with the landcovers in the SuDS catchment area are automatically calculated in cells D5 to D29. Cells E5 to E29: Enter the name of the SuDS features used to intercept surface flows can be entered in. Any text can be entered into these cells. Cells F5 to F29: Enter the nutrient removal rates associated with the SuDS features for TN. Values for columns F must be identified by the user and must be specific to the SuDS features being implemented. The annual TN loads removed by the SuDS features are automatically calculated in cells G5 to G29 for TN. These values are subtracted from the nutrient budget. You do not need to fill in column H 'Notes on data'. It will state 'Not applicable' unless the total area of each landcover within the SuDS catchment area exceeds the area of the landcovers entered into the worksheet titled 'Nutrients_from_future_land_use'. The total nutrient load removed through the SuDS features is shown in cell G30 for TN.
A3: SuDS information
A4: New land use type(s) within SuDS catchment area - user inputs required | B4: SuDS catchment area (ha) - user inputs required | C4: Percentage of flow entering the SuDS (%) - user inputs required | D4: Annual nitrogen inputs to SuDS feature(s) (kg TN/yr) | E4: Name of SuDS feature(s) - user inputs required | F4: TN removal rate for features - user specified (%) - user inputs required | G4: Annual nitrogen load removed by SuDS (kg TN/yr) | H4: Notes on data
D5: 0 | G5: {=_xlfn.IFERROR(IF(OR(ISBLANK($A5),ISBLANK($B5),ISBLANK($F5)),0,$C5/100*D5*F5/100),0)} -> 0 | H5: {=IF(_xlfn.SUMIFS($B$5:$B$29,$A$5:$A$29,A5)>_xlfn.SUMIFS('Nutrients_from_future_land_use'!$B$5:$B$21,'Nutrients_from_future_land_use'!$A$5:$A$21,A5),"Area of new land covers within SuDS catchment area exceeds the area of new land covers proposed","Not applicable")} -> Not applicable
D6: 0 | G6: {=_xlfn.IFERROR(IF(OR(ISBLANK($A6),ISBLANK($B6),ISBLANK($F6)),0,$C6/100*D6*F6/100),0)} -> 0 | H6: {=IF(_xlfn.SUMIFS($B$5:$B$29,$A$5:$A$29,A6)>_xlfn.SUMIFS('Nutrients_from_future_land_use'!$B$5:$B$21,'Nutrients_from_future_land_use'!$A$5:$A$21,A6),"Area of new land covers within SuDS catchment area exceeds the area of new land covers proposed","Not applicable")} -> Not applicable
D7: 0 | G7: {=_xlfn.IFERROR(IF(OR(ISBLANK($A7),ISBLANK($B7),ISBLANK($F7)),0,$C7/100*D7*F7/100),0)} -> 0 | H7: {=IF(_xlfn.SUMIFS($B$5:$B$29,$A$5:$A$29,A7)>_xlfn.SUMIFS('Nutrients_from_future_land_use'!$B$5:$B$21,'Nutrients_from_future_land_use'!$A$5:$A$21,A7),"Area of new land covers within SuDS catchment area exceeds the area of new land covers proposed","Not applicable")} -> Not applicable
D8: 0 | G8: {=_xlfn.IFERROR(IF(OR(ISBLANK($A8),ISBLANK($B8),ISBLANK($F8)),0,$C8/100*D8*F8/100),0)} -> 0 | H8: {=IF(_xlfn.SUMIFS($B$5:$B$29,$A$5:$A$29,A8)>_xlfn.SUMIFS('Nutrients_from_future_land_use'!$B$5:$B$21,'Nutrients_from_future_land_use'!$A$5:$A$21,A8),"Area of new land covers within SuDS catchment area exceeds the area of new land covers proposed","Not applicable")} -> Not applicable
D9: 0 | G9: {=_xlfn.IFERROR(IF(OR(ISBLANK($A9),ISBLANK($B9),ISBLANK($F9)),0,$C9/100*D9*F9/100),0)} -> 0 | H9: {=IF(_xlfn.SUMIFS($B$5:$B$29,$A$5:$A$29,A9)>_xlfn.SUMIFS('Nutrients_from_future_land_use'!$B$5:$B$21,'Nutrients_from_future_land_use'!$A$5:$A$21,A9),"Area of new land covers within SuDS catchment area exceeds the area of new land covers proposed","Not applicable")} -> Not applicable
D10: 0 | G10: {=_xlfn.IFERROR(IF(OR(ISBLANK($A10),ISBLANK($B10),ISBLANK($F10)),0,$C10/100*D10*F10/100),0)} -> 0 | H10: {=IF(_xlfn.SUMIFS($B$5:$B$29,$A$5:$A$29,A10)>_xlfn.SUMIFS('Nutrients_from_future_land_use'!$B$5:$B$21,'Nutrients_from_future_land_use'!$A$5:$A$21,A10),"Area of new land covers within SuDS catchment area exceeds the area of new land covers proposed","Not applicable")} -> Not applicable
D11: 0 | G11: {=_xlfn.IFERROR(IF(OR(ISBLANK($A11),ISBLANK($B11),ISBLANK($F11)),0,$C11/100*D11*F11/100),0)} -> 0 | H11: {=IF(_xlfn.SUMIFS($B$5:$B$29,$A$5:$A$29,A11)>_xlfn.SUMIFS('Nutrients_from_future_land_use'!$B$5:$B$21,'Nutrients_from_future_land_use'!$A$5:$A$21,A11),"Area of new land covers within SuDS catchment area exceeds the area of new land covers proposed","Not applicable")} -> Not applicable
D12: 0 | G12: {=_xlfn.IFERROR(IF(OR(ISBLANK($A12),ISBLANK($B12),ISBLANK($F12)),0,$C12/100*D12*F12/100),0)} -> 0 | H12: {=IF(_xlfn.SUMIFS($B$5:$B$29,$A$5:$A$29,A12)>_xlfn.SUMIFS('Nutrients_from_future_land_use'!$B$5:$B$21,'Nutrients_from_future_land_use'!$A$5:$A$21,A12),"Area of new land covers within SuDS catchment area exceeds the area of new land covers proposed","Not applicable")} -> Not applicable
D13: 0 | G13: {=_xlfn.IFERROR(IF(OR(ISBLANK($A13),ISBLANK($B13),ISBLANK($F13)),0,$C13/100*D13*F13/100),0)} -> 0 | H13: {=IF(_xlfn.SUMIFS($B$5:$B$29,$A$5:$A$29,A13)>_xlfn.SUMIFS('Nutrients_from_future_land_use'!$B$5:$B$21,'Nutrients_from_future_land_use'!$A$5:$A$21,A13),"Area of new land covers within SuDS catchment area exceeds the area of new land covers proposed","Not applicable")} -> Not applicable
D14: 0 | G14: {=_xlfn.IFERROR(IF(OR(ISBLANK($A14),ISBLANK($B14),ISBLANK($F14)),0,$C14/100*D14*F14/100),0)} -> 0 | H14: {=IF(_xlfn.SUMIFS($B$5:$B$29,$A$5:$A$29,A14)>_xlfn.SUMIFS('Nutrients_from_future_land_use'!$B$5:$B$21,'Nutrients_from_future_land_use'!$A$5:$A$21,A14),"Area of new land covers within SuDS catchment area exceeds the area of new land covers proposed","Not applicable")} -> Not applicable
D15: 0 | G15: {=_xlfn.IFERROR(IF(OR(ISBLANK($A15),ISBLANK($B15),ISBLANK($F15)),0,$C15/100*D15*F15/100),0)} -> 0 | H15: {=IF(_xlfn.SUMIFS($B$5:$B$29,$A$5:$A$29,A15)>_xlfn.SUMIFS('Nutrients_from_future_land_use'!$B$5:$B$21,'Nutrients_from_future_land_use'!$A$5:$A$21,A15),"Area of new land covers within SuDS catchment area exceeds the area of new land covers proposed","Not applicable")} -> Not applicable
D16: 0 | G16: {=_xlfn.IFERROR(IF(OR(ISBLANK($A16),ISBLANK($B16),ISBLANK($F16)),0,$C16/100*D16*F16/100),0)} -> 0 | H16: {=IF(_xlfn.SUMIFS($B$5:$B$29,$A$5:$A$29,A16)>_xlfn.SUMIFS('Nutrients_from_future_land_use'!$B$5:$B$21,'Nutrients_from_future_land_use'!$A$5:$A$21,A16),"Area of new land covers within SuDS catchment area exceeds the area of new land covers proposed","Not applicable")} -> Not applicable
... D29: 0 | G29: {=_xlfn.IFERROR(IF(OR(ISBLANK($A29),ISBLANK($B29),ISBLANK($F29)),0,$C29/100*D29*F29/100),0)} -> 0 | H29: {=IF(_xlfn.SUMIFS($B$5:$B$29,$A$5:$A$29,A29)>_xlfn.SUMIFS('Nutrients_from_future_land_use'!$B$5:$B$21,'Nutrients_from_future_land_use'!$A$5:$A$21,A29),"Area of new land covers within SuDS catchment area exceeds the area of new land covers proposed","Not applicable")} -> Not applicable
A30: Totals: | B30: {=SUM(B5:B29)} -> 0 | D30: {=SUM(D5:D29)} -> 0 | G30: {=SUM(G5:G29)} -> 0

Sheet Final_nutrient_budgets
A1: Final nutrient budgets
A2: This worksheet contains one table. This table is automatically populated using the outputs from the previous worksheets. Note: You do not need to fill in any cells in the table. Cells B5 to B8 and cell B10 are automatically calculated and will state '0.00' unless the user inputs have been entered to all of the required worksheets. Cells A11 to A14, cell B12 and cell B14 are automatically generated and will state 'Not applicable' depending on the user inputs to the worksheet 'Nutrients_from_wastewater'. Cell B9, B11 and B13 are intentionally blank. This table presents calculations that underpin the final annual nutrient budget for the development site. Up to 3 values for the nutrient budget may be presented in cells B10, B12 and B14 for total nitrogen (TN).
A3: Total nutrient budget calculations
A4: Description of values generated | B4: Values generated
A5: Wastewater TN load (kg TN/year): | B5: {='Nutrients_from_wastewater'!B19} -> 0.79
A6: Net land use TN change (kg TN/year): | B6: {=_xlfn.IFERROR('Nutrients_from_future_land_use'!C22-'SuDS'!G30-'Nutrients_from_current_land_use'!C28,0)} -> 0
A7: TN budget: | B7: {=_xlfn.IFERROR(B5+B6,0)} -> 0.79
A8: TN budget + 20% buffer: | B8: {=_xlfn.IFERROR(IF(B7<0,B7,B7*1.2),0)} -> 0.948
A9: {=_xlfn.IFERROR(IF(AND('Nutrients_from_wastewater'!$B$5<DATE(2025,1,1),OR((VLOOKUP('Nutrients_from_wastewater'!$B$10,'Value_look_up_tables'!$A$5:$E$84,2,FALSE))>(VLOOKUP('Nutrients_from_wastewater'!$B$10,'Value_look_up_tables'!$A$5:$E$84,4,FALSE)),(VLOOKUP('Nutrients_from_wastewater'!$B$10,'Value_look_up_tables'!$A$5:$E$84,3,FALSE))>(VLOOKUP('Nutrients_from_wastewater'!$B$10,'Value_look_up_tables'!$A$5:$E$84,5,FALSE)))),"Post-2030 annual nutrient budget","Annual nutrient budget"),"Annual nutrient budget")} -> Annual nutrient budget
A10: The total annual nitrogen load to mitigate is (kg TN/yr): | B10: {=_xlfn.IFERROR(IF(ROUND(B8,2)<0,0,ROUND(B8,2)),0)} -> 0.95
A11: {=IF('Nutrients_from_wastewater'!A20="Not applicable","Not applicable",LEFT('Nutrients_from_wastewater'!A20,9)&"nutrient budget")} -> Not applicable
A12: {=IF(A11<>"Not applicable","The total annual nitrogen load to mitigate is (kg TN/yr):","Not applicable")} -> Not applicable | B12: {=IF(_xlfn.IFERROR(ROUND(('Nutrients_from_wastewater'!B21+$B$6)*1.2,2),"Not applicable")<0,0,_xlfn.IFERROR(ROUND(('Nutrients_from_wastewater'!B21+$B$6)*1.2,2),"Not applicable"))} -> Not applicable
A13: {=IF('Nutrients_from_wastewater'!A22="Not applicable","Not applicable",LEFT('Nutrients_from_wastewater'!A22,9)&"nutrient budget")} -> Not applicable
A14: {=IF(A13<>"Not applicable","The total annual nitrogen load to mitigate is (kg TN/yr):","Not applicable")} -> Not applicable | B14: {=IF(_xlfn.IFERROR(IF('Nutrients_from_wastewater'!$A$22="Not applicable","Not applicable",ROUND(('Nutrients_from_wastewater'!B23+$B$6)*1.2,2)),_xlfn.IFERROR(B12,"Not applicable"))<0,0,_xlfn.IFERROR(IF('Nutrients_from_wastewater'!$A$22="Not applicable","Not applicable",ROUND(('Nutrients_from_wastewater'!B23+$B$6)*1.2,2)),_xlfn.IFERROR(B12,"Not applicable")))} -> Not applicable

Sheet Value_look_up_tables
A1: Nutrients from wastewater
A2: This sheet contains nine tables. A blank row seperates the end of each table from the header for the next table.
A3: Table 1: Stage 1 WwTW lookup
A4: Discharge Site Name | B4: Phosphorus, Total as P (mg/l) | C4: Nitrogen, Total as N (mg/l) | D4: Phosphorus, Total as P (mg/l), permit post 2025 | E4: Nitrogen, Total as N (mg/l), permit post 2025 | F4: Nitrogen Total as N (mg/l) with deductible acceptable loading | G4: Nitrogen Total as N (mg/l), permit post 2025 with deductible acceptable loading | H4: Phosphorus, Total as P (mg/l), permit post 2030 | I4: Nitrogen, Total as N (mg/l), permit post 2030 | J4: Nitrogen Total as N (mg/l), permit post 2030 with deductible acceptable loading
A5: Ashlett Creek WwTW | C5: 27 | E5: 27 | F5: 25 | G5: 25 | I5: 10 | J5: {=I5-2} -> 8
A6: Arreton WwTW | C6: 27 | E6: 27 | F6: 25 | G6: 25 | I6: 27 | J6: {=I6-2} -> 25
A7: Bank WwTW | C7: 27 | E7: 27 | F7: 25 | G7: 25 | I7: 27 | J7: {=I7-2} -> 25
A8: Barn Close Ashmansworth WwTW | C8: 27 | E8: 27 | F8: 25 | G8: 25 | I8: 27 | J8: {=I8-2} -> 25
A9: Barton Stacey WwTW | C9: 27 | E9: 27 | F9: 25 | G9: 25 | I9: 10 | J9: {=I9-2} -> 8
A10: Beaulieu Hummicks WwTW | C10: 27 | E10: 27 | F10: 25 | G10: 25 | I10: 27 | J10: {=I10-2} -> 25
A11: Beaulieu Village WwTW | C11: 27 | E11: 27 | F11: 25 | G11: 25 | I11: 27 | J11: {=I11-2} -> 25
A12: Bishops Waltham WwTW | C12: 15 | E12: 15 | F12: 13 | G12: 13 | I12: 10 | J12: {=I12-2} -> 8
A13: Blackwater S.T.W. | C13: 27 | E13: 27 | F13: 25 | G13: 25 | I13: 27 | J13: {=I13-2} -> 25
A14: Boldre WwTW | C14: 27 | E14: 27 | F14: 25 | G14: 25 | I14: 27 | J14: {=I14-2} -> 25
A15: Bosham WwTW | C15: 10 | E15: 10 | F15: 8 | G15: 8 | I15: 10 | J15: {=I15-2} -> 8
A16: Brockenhurst WwTW | C16: 27 | E16: 27 | F16: 25 | G16: 25 | I16: 10 | J16: {=I16-2} -> 8
... A82: Wroxall WwTW | C82: 27 | E82: 27 | F82: 25 | G82: 25 | I82: 10 | J82: {=I82-2} -> 8
A83: Package Treatment Plant default | C83: {=F83+2} -> 72.9 | E83: {=G83+2} -> 72.9 | F83: 70.9 | G83: 70.9 | I83: {=J83+2} -> 72.9 | J83: 70.9
A84: Septic Tank default | C84: {=F84+2} -> 96.3 | E84: {=G84+2} -> 96.3 | F84: 94.3 | G84: 94.3 | I84: {=J84+2} -> 96.3 | J84: 94.3
A85: Package Treatment Plant user defined
A86: Septic Tank user defined
A88: Table 2: Stage 2 and 3 Landcover lookup
A89: Catchment | B89: Farmscoper Farm Term | C89: NVZ | D89: Climate | E89: Farmscoper Soil Drainage Term | F89: Lookup | G89: Phosphorus export coefficient | H89: Nitrogen export coefficient | I89: Farm Lookup | J89: Mean P export of farm type and climate combination | K89: Mean N export of farm type and climate combination | L89: Mean P export of farm type | M89: Mean N export of farm type
A90: East Hampshire Rivers | B90: Cereals | C90: FALSE | D90: 700to900 | E90: FreeDrain | F90: East Hampshire Rivers|Cereals|FALSE|700to900|FreeDrain | G90: 0.11454703 | H90: 27.988219 | I90: {=B90&"|"&D90} -> Cereals|700to900 | J90: 0.56822387 | K90: 23.246217 | L90: 0.51566841 | M90: 24.132631
A91: East Hampshire Rivers | B91: Cereals | C91: TRUE | D91: 700to900 | E91: FreeDrain | F91: East Hampshire Rivers|Cereals|TRUE|700to900|FreeDrain | G91: 0.11454257 | H91: 27.896799 | I91: {=B91&"|"&D91} -> Cereals|700to900
A92: East Hampshire Rivers | B92: Cereals | C92: FALSE | D92: 700to900 | E92: DrainedAr | F92: East Hampshire Rivers|Cereals|FALSE|700to900|DrainedAr | G92: 0.67105042 | H92: 21.57875 | I92: {=B92&"|"&D92} -> Cereals|700to900
A93: East Hampshire Rivers | B93: Cereals | C93: TRUE | D93: 700to900 | E93: DrainedAr | F93: East Hampshire Rivers|Cereals|TRUE|700to900|DrainedAr | G93: 0.67101051 | H93: 21.516613 | I93: {=B93&"|"&D93} -> Cereals|700to900
A94: East Hampshire Rivers | B94: Cereals | C94: FALSE | D94: 700to900 | E94: DrainedArGr | F94: East Hampshire Rivers|Cereals|FALSE|700to900|DrainedArGr | G94: 0.91907415 | H94: 20.171682 | I94: {=B94&"|"&D94} -> Cereals|700to900
A95: East Hampshire Rivers | B95: Cereals | C95: TRUE | D95: 700to900 | E95: DrainedArGr | F95: East Hampshire Rivers|Cereals|TRUE|700to900|DrainedArGr | G95: 0.91899373 | H95: 20.121159 | I95: {=B95&"|"&D95} -> Cereals|700to900
A96: East Hampshire Rivers | B96: Cereals | C96: TRUE | D96: 900to1200 | E96: FreeDrain | F96: East Hampshire Rivers|Cereals|TRUE|900to1200|FreeDrain | G96: 0.20046044 | H96: 29.655198 | I96: {=B96&"|"&D96} -> Cereals|900to1200 | J96: 0.20046044 | K96: 25.384498
A97: East Hampshire Rivers | B97: General | C97: FALSE | D97: 700to900 | E97: FreeDrain | F97: East Hampshire Rivers|General|FALSE|700to900|FreeDrain | G97: 0.088296054 | H97: 19.121687 | I97: {=B97&"|"&D97} -> General|700to900 | J97: 0.4024495 | K97: 15.462377 | L97: 0.42605138 | M97: 16.419173
A98: East Hampshire Rivers | B98: General | C98: TRUE | D98: 700to900 | E98: FreeDrain | F98: East Hampshire Rivers|General|TRUE|700to900|FreeDrain | G98: 0.088296054 | H98: 19.068529 | I98: {=B98&"|"&D98} -> General|700to900
A99: East Hampshire Rivers | B99: General | C99: FALSE | D99: 700to900 | E99: DrainedAr | F99: East Hampshire Rivers|General|FALSE|700to900|DrainedAr | G99: 0.43793825 | H99: 14.357835 | I99: {=B99&"|"&D99} -> General|700to900
A100: East Hampshire Rivers | B100: General | C100: TRUE | D100: 700to900 | E100: DrainedAr | F100: East Hampshire Rivers|General|TRUE|700to900|DrainedAr | G100: 0.43793825 | H100: 14.322697 | I100: {=B100&"|"&D100} -> General|700to900
A101: East Hampshire Rivers | B101: General | C101: FALSE | D101: 700to900 | E101: DrainedArGr | F101: East Hampshire Rivers|General|FALSE|700to900|DrainedArGr | G101: 0.68111421 | H101: 12.935592 | I101: {=B101&"|"&D101} -> General|700to900
A102: East Hampshire Rivers | B102: General | C102: TRUE | D102: 700to900 | E102: DrainedArGr | F102: East Hampshire Rivers|General|TRUE|700to900|DrainedArGr | G102: 0.68111421 | H102: 12.907608 | I102: {=B102&"|"&D102} -> General|700to900
A103: East Hampshire Rivers | B103: General | C103: TRUE | D103: 900to1200 | E103: FreeDrain | F103: East Hampshire Rivers|General|TRUE|900to1200|FreeDrain | G103: 0.15706174 | H103: 20.386197 | I103: {=B103&"|"&D103} -> General|900to1200 | J103: 0.49685702 | K103: 19.31972
A104: East Hampshire Rivers | B104: General | C104: TRUE | D104: 900to1200 | E104: DrainedAr | F104: East Hampshire Rivers|General|TRUE|900to1200|DrainedAr | G104: 0.8366523 | H104: 18.253243 | I104: {=B104&"|"&D104} -> General|900to1200
A105: East Hampshire Rivers | B105: Horticulture | C105: FALSE | D105: 700to900 | E105: FreeDrain | F105: East Hampshire Rivers|Horticulture|FALSE|700to900|FreeDrain | G105: 0.10052781 | H105: 21.32013 | I105: {=B105&"|"&D105} -> Horticulture|700to900 | J105: 0.5019583 | K105: 16.858765 | L105: 0.4356884 | M105: 18.093879
A106: East Hampshire Rivers | B106: Horticulture | C106: TRUE | D106: 700to900 | E106: FreeDrain | F106: East Hampshire Rivers|Horticulture|TRUE|700to900|FreeDrain | G106: 0.10052781 | H106: 21.26249 | I106: {=B106&"|"&D106} -> Horticulture|700to900
...
