Workbook

Sheet Calculator
B2: Occupancy calculator | I2: Instructions
C4: Date | D4: 46122 | J4: This calculator is intended to be used alongside Natural England's Solent Nutrient Budget calculator. It will provide the average occupancy rate to be used in stage 1 of the budget calculations.
C6: Site name | D6: Padnell Grange
C8: Site address | D8: Waterlooville, Hampshire | J8: Please input the gross new homes to be built in the scheme subject to the planning application together with any losses which are proposed. These must match exactly the units proposed through the application form for the development.
D9: Gross new homes proposed | E9: Gross losses proposed | F9: Net new homes proposed
C10: 1 bed | D10: 7 | F10: =D10-E10 -> 7 | J10: The result of the calculator can be printed or saved as a pdf.
C11: 2 bed | D11: 26 | F11: =D11-E11 -> 26
C12: 3 bed | D12: 47 | F12: =D12-E12 -> 47 | J12: This calculator, together with Natural England's Nutrient Budget must be submitted with your planning application alongside the Council's European Sites Avoidance and Mitigation Checklist.
C13: 4 bed | D13: 10 | F13: =D13-E13 -> 10
C14: 5+ bed | D14: 0 | F14: =D14-E14 -> 0
C16: Total | D16: =SUM(D10:D14) -> 90 | E16: =SUM(E10:E14) -> 0 | F16: =D16-E16 -> 90
C18: Average occupancy to include in Solent Nutrient Calculator: | F18: =Workings!B11 -> 2.3888889

Sheet Workings
B2: =Calculator!F9 -> Net new homes proposed | C2: Occupancy level | D2: Total people
B3: =Calculator!F10 -> 7 | C3: 1.4 | D3: =Calculator!F10*Workings!C3 -> 9.8
B4: =Calculator!F11 -> 26 | C4: 2 | D4: =Calculator!F11*Workings!C4 -> 52
B5: =Calculator!F12 -> 47 | C5: 2.6 | D5: =Calculator!F12*Workings!C5 -> 122.2
B6: =Calculator!F13 -> 10 | C6: 3.1 | D6: =Calculator!F13*Workings!C6 -> 31
B7: =Calculator!F14 -> 0 | C7: 3.6 | D7: =Calculator!F14*Workings!C7 -> 0
A9: TOTAL: | B9: =SUM(B3:B7) -> 90 | D9: =SUM(D3:D7) -> 215
A11: Av occ | B11: =D9/B9 -> 2.3888889
